BEGIN:VCALENDAR
VERSION:2.0
PRODID:-//AFLabs urnik izvoz - ag//aflabs.si//SI
DTSTAMP:20260419T134237Z
NAME:UL AG Urnik
REFRESH-INTERVAL:PT1H
SOURCE:https://urnik.ag.uni-lj.si/teacher/56?day=2025-01-27&export=1
URL:https://urnik.ag.uni-lj.si/teacher/56?day=2025-01-27&export=1
X-PUBLISHED-TTL:PT1H
X-WR-CALNAME:UL AG Urnik
X-WR-TIMEZONE:Europe/Ljubljana
BEGIN:VTIMEZONE
TZID:Europe/Ljubljana
BEGIN:DAYLIGHT
DTSTART:20260329T020000
RDATE:20260329T020000
RDATE:20270328T020000
TZNAME:CEST
TZOFFSETFROM:+0100
TZOFFSETTO:+0200
END:DAYLIGHT
BEGIN:STANDARD
DTSTART:20261025T030000
RDATE:20261025T030000
RDATE:20271031T030000
TZNAME:CET
TZOFFSETFROM:+0200
TZOFFSETTO:+0100
END:STANDARD
END:VTIMEZONE
BEGIN:VEVENT
SUMMARY:Historična izvajalna praksa 1 (BB-02) BB (HISTO)\, predavanja (PR
 E)
DTSTART;TZID=Europe/Ljubljana:20241224T170000
DTEND;TZID=Europe/Ljubljana:20241224T174500
DTSTAMP:20260419T134237Z
UID:ag-AFLABS-URNIK:premaknjeno-srecanje:60520
ATTENDEE:1. letnik (1 - GU1)
ATTENDEE:1. letnik (1 - GU2)
ATTENDEE:1. letnik (1 - IPP)
ATTENDEE:2. letnik (2 - GU1)
ATTENDEE:2. letnik (2 - GU2)
ATTENDEE:2. letnik (2 - IPP)
ATTENDEE:3. letnik (3 - GU1)
CATEGORIES:Entry,Standard
COLOR:darkgreen
DESCRIPTION:Predmet: Historična izvajalna praksa 1 (BB-02) BB (HISTO)\, p
 redavanja (PRE)\nLetniki: 1. letnik (1 - GU1)\, 1. letnik (1 - GU2)\, 1. l
 etnik (1 - IPP)\, 2. letnik (2 - GU1)\, 2. letnik (2 - GU2)\, 2. letnik (2
  - IPP)\, 3. letnik (3 - GU1)\nIzvajalci: Egon Mihajlović\nProstor: PT.13
  PREDAVALNICA dr. Primoža Kureta
LOCATION:PT.13 PREDAVALNICA dr. Primoža Kureta
ORGANIZER:Egon Mihajlović
RELATED-TO:ag-AFLABS-URNIK:srecanje:2418
X-WR-TIMEZONE:Europe/Ljubljana
END:VEVENT
BEGIN:VEVENT
SUMMARY:Historična izvajalna praksa 1 (BB-02) BB (HISTO)\, predavanja (PR
 E)
DTSTART;TZID=Europe/Ljubljana:20241231T170000
DTEND;TZID=Europe/Ljubljana:20241231T174500
DTSTAMP:20260419T134237Z
UID:ag-AFLABS-URNIK:premaknjeno-srecanje:60798
ATTENDEE:1. letnik (1 - GU1)
ATTENDEE:1. letnik (1 - GU2)
ATTENDEE:1. letnik (1 - IPP)
ATTENDEE:2. letnik (2 - GU1)
ATTENDEE:2. letnik (2 - GU2)
ATTENDEE:2. letnik (2 - IPP)
ATTENDEE:3. letnik (3 - GU1)
CATEGORIES:Entry,Standard
COLOR:darkgreen
DESCRIPTION:Predmet: Historična izvajalna praksa 1 (BB-02) BB (HISTO)\, p
 redavanja (PRE)\nLetniki: 1. letnik (1 - GU1)\, 1. letnik (1 - GU2)\, 1. l
 etnik (1 - IPP)\, 2. letnik (2 - GU1)\, 2. letnik (2 - GU2)\, 2. letnik (2
  - IPP)\, 3. letnik (3 - GU1)\nIzvajalci: Egon Mihajlović\nProstor: PT.13
  PREDAVALNICA dr. Primoža Kureta
LOCATION:PT.13 PREDAVALNICA dr. Primoža Kureta
ORGANIZER:Egon Mihajlović
RELATED-TO:ag-AFLABS-URNIK:srecanje:2418
X-WR-TIMEZONE:Europe/Ljubljana
END:VEVENT
BEGIN:VEVENT
SUMMARY:Historična izvajalna praksa 1 (BB-02) BB (HISTO)\, predavanja (PR
 E)
DTSTART;TZID=Europe/Ljubljana:20250107T170000
DTEND;TZID=Europe/Ljubljana:20250107T174500
DTSTAMP:20260419T134237Z
UID:ag-AFLABS-URNIK:premaknjeno-srecanje:61076
ATTENDEE:1. letnik (1 - GU1)
ATTENDEE:1. letnik (1 - GU2)
ATTENDEE:1. letnik (1 - IPP)
ATTENDEE:2. letnik (2 - GU1)
ATTENDEE:2. letnik (2 - GU2)
ATTENDEE:2. letnik (2 - IPP)
ATTENDEE:3. letnik (3 - GU1)
CATEGORIES:Entry,Standard
COLOR:darkgreen
DESCRIPTION:Predmet: Historična izvajalna praksa 1 (BB-02) BB (HISTO)\, p
 redavanja (PRE)\nLetniki: 1. letnik (1 - GU1)\, 1. letnik (1 - GU2)\, 1. l
 etnik (1 - IPP)\, 2. letnik (2 - GU1)\, 2. letnik (2 - GU2)\, 2. letnik (2
  - IPP)\, 3. letnik (3 - GU1)\nIzvajalci: Egon Mihajlović\nProstor: PT.13
  PREDAVALNICA dr. Primoža Kureta
LOCATION:PT.13 PREDAVALNICA dr. Primoža Kureta
ORGANIZER:Egon Mihajlović
RELATED-TO:ag-AFLABS-URNIK:srecanje:2418
X-WR-TIMEZONE:Europe/Ljubljana
END:VEVENT
BEGIN:VEVENT
SUMMARY:Historična izvajalna praksa 1 (BB-02) BB (HISTO)\, predavanja (PR
 E)
DTSTART;TZID=Europe/Ljubljana:20250114T170000
DTEND;TZID=Europe/Ljubljana:20250114T174500
DTSTAMP:20260419T134237Z
UID:ag-AFLABS-URNIK:premaknjeno-srecanje:61354
ATTENDEE:1. letnik (1 - GU1)
ATTENDEE:1. letnik (1 - GU2)
ATTENDEE:1. letnik (1 - IPP)
ATTENDEE:2. letnik (2 - GU1)
ATTENDEE:2. letnik (2 - GU2)
ATTENDEE:2. letnik (2 - IPP)
ATTENDEE:3. letnik (3 - GU1)
CATEGORIES:Entry,Standard
COLOR:darkgreen
DESCRIPTION:Predmet: Historična izvajalna praksa 1 (BB-02) BB (HISTO)\, p
 redavanja (PRE)\nLetniki: 1. letnik (1 - GU1)\, 1. letnik (1 - GU2)\, 1. l
 etnik (1 - IPP)\, 2. letnik (2 - GU1)\, 2. letnik (2 - GU2)\, 2. letnik (2
  - IPP)\, 3. letnik (3 - GU1)\nIzvajalci: Egon Mihajlović\nProstor: PT.13
  PREDAVALNICA dr. Primoža Kureta
LOCATION:PT.13 PREDAVALNICA dr. Primoža Kureta
ORGANIZER:Egon Mihajlović
RELATED-TO:ag-AFLABS-URNIK:srecanje:2418
X-WR-TIMEZONE:Europe/Ljubljana
END:VEVENT
BEGIN:VEVENT
SUMMARY:Historična izvajalna praksa 1 (BB-02) BB (HISTO)\, predavanja (PR
 E)
DTSTART;TZID=Europe/Ljubljana:20250121T170000
DTEND;TZID=Europe/Ljubljana:20250121T174500
DTSTAMP:20260419T134237Z
UID:ag-AFLABS-URNIK:premaknjeno-srecanje:61632
ATTENDEE:1. letnik (1 - GU1)
ATTENDEE:1. letnik (1 - GU2)
ATTENDEE:1. letnik (1 - IPP)
ATTENDEE:2. letnik (2 - GU1)
ATTENDEE:2. letnik (2 - GU2)
ATTENDEE:2. letnik (2 - IPP)
ATTENDEE:3. letnik (3 - GU1)
CATEGORIES:Entry,Standard
COLOR:darkgreen
DESCRIPTION:Predmet: Historična izvajalna praksa 1 (BB-02) BB (HISTO)\, p
 redavanja (PRE)\nLetniki: 1. letnik (1 - GU1)\, 1. letnik (1 - GU2)\, 1. l
 etnik (1 - IPP)\, 2. letnik (2 - GU1)\, 2. letnik (2 - GU2)\, 2. letnik (2
  - IPP)\, 3. letnik (3 - GU1)\nIzvajalci: Egon Mihajlović\nProstor: PT.13
  PREDAVALNICA dr. Primoža Kureta
LOCATION:PT.13 PREDAVALNICA dr. Primoža Kureta
ORGANIZER:Egon Mihajlović
RELATED-TO:ag-AFLABS-URNIK:srecanje:2418
X-WR-TIMEZONE:Europe/Ljubljana
END:VEVENT
BEGIN:VEVENT
SUMMARY:Historična izvajalska praksa M1 (B2-01) B2 (HISTO)\, predavanja (
 PRE)
DTSTART;TZID=Europe/Ljubljana:20241224T174500
DTEND;TZID=Europe/Ljubljana:20241224T183000
DTSTAMP:20260419T134237Z
UID:ag-AFLABS-URNIK:premaknjeno-srecanje:60522
ATTENDEE:1. letnik (1 - GU2)
ATTENDEE:1. letnik (1 - IPP)
ATTENDEE:2. letnik (2 - GU2)
ATTENDEE:2. letnik (2 - IPP)
CATEGORIES:Entry,Standard
COLOR:darkgreen
DESCRIPTION:Predmet: Historična izvajalska praksa M1 (B2-01) B2 (HISTO)\,
  predavanja (PRE)\nLetniki: 1. letnik (1 - GU2)\, 1. letnik (1 - IPP)\, 2.
  letnik (2 - GU2)\, 2. letnik (2 - IPP)\nIzvajalci: Egon Mihajlović\nPros
 tor: PT.13 PREDAVALNICA dr. Primoža Kureta
LOCATION:PT.13 PREDAVALNICA dr. Primoža Kureta
ORGANIZER:Egon Mihajlović
RELATED-TO:ag-AFLABS-URNIK:srecanje:2420
X-WR-TIMEZONE:Europe/Ljubljana
END:VEVENT
BEGIN:VEVENT
SUMMARY:Historična izvajalska praksa M1 (B2-01) B2 (HISTO)\, predavanja (
 PRE)
DTSTART;TZID=Europe/Ljubljana:20241231T174500
DTEND;TZID=Europe/Ljubljana:20241231T183000
DTSTAMP:20260419T134237Z
UID:ag-AFLABS-URNIK:premaknjeno-srecanje:60800
ATTENDEE:1. letnik (1 - GU2)
ATTENDEE:1. letnik (1 - IPP)
ATTENDEE:2. letnik (2 - GU2)
ATTENDEE:2. letnik (2 - IPP)
CATEGORIES:Entry,Standard
COLOR:darkgreen
DESCRIPTION:Predmet: Historična izvajalska praksa M1 (B2-01) B2 (HISTO)\,
  predavanja (PRE)\nLetniki: 1. letnik (1 - GU2)\, 1. letnik (1 - IPP)\, 2.
  letnik (2 - GU2)\, 2. letnik (2 - IPP)\nIzvajalci: Egon Mihajlović\nPros
 tor: PT.13 PREDAVALNICA dr. Primoža Kureta
LOCATION:PT.13 PREDAVALNICA dr. Primoža Kureta
ORGANIZER:Egon Mihajlović
RELATED-TO:ag-AFLABS-URNIK:srecanje:2420
X-WR-TIMEZONE:Europe/Ljubljana
END:VEVENT
BEGIN:VEVENT
SUMMARY:Historična izvajalska praksa M1 (B2-01) B2 (HISTO)\, predavanja (
 PRE)
DTSTART;TZID=Europe/Ljubljana:20250107T174500
DTEND;TZID=Europe/Ljubljana:20250107T183000
DTSTAMP:20260419T134237Z
UID:ag-AFLABS-URNIK:premaknjeno-srecanje:61078
ATTENDEE:1. letnik (1 - GU2)
ATTENDEE:1. letnik (1 - IPP)
ATTENDEE:2. letnik (2 - GU2)
ATTENDEE:2. letnik (2 - IPP)
CATEGORIES:Entry,Standard
COLOR:darkgreen
DESCRIPTION:Predmet: Historična izvajalska praksa M1 (B2-01) B2 (HISTO)\,
  predavanja (PRE)\nLetniki: 1. letnik (1 - GU2)\, 1. letnik (1 - IPP)\, 2.
  letnik (2 - GU2)\, 2. letnik (2 - IPP)\nIzvajalci: Egon Mihajlović\nPros
 tor: PT.13 PREDAVALNICA dr. Primoža Kureta
LOCATION:PT.13 PREDAVALNICA dr. Primoža Kureta
ORGANIZER:Egon Mihajlović
RELATED-TO:ag-AFLABS-URNIK:srecanje:2420
X-WR-TIMEZONE:Europe/Ljubljana
END:VEVENT
BEGIN:VEVENT
SUMMARY:Historična izvajalska praksa M1 (B2-01) B2 (HISTO)\, predavanja (
 PRE)
DTSTART;TZID=Europe/Ljubljana:20250114T174500
DTEND;TZID=Europe/Ljubljana:20250114T183000
DTSTAMP:20260419T134237Z
UID:ag-AFLABS-URNIK:premaknjeno-srecanje:61356
ATTENDEE:1. letnik (1 - GU2)
ATTENDEE:1. letnik (1 - IPP)
ATTENDEE:2. letnik (2 - GU2)
ATTENDEE:2. letnik (2 - IPP)
CATEGORIES:Entry,Standard
COLOR:darkgreen
DESCRIPTION:Predmet: Historična izvajalska praksa M1 (B2-01) B2 (HISTO)\,
  predavanja (PRE)\nLetniki: 1. letnik (1 - GU2)\, 1. letnik (1 - IPP)\, 2.
  letnik (2 - GU2)\, 2. letnik (2 - IPP)\nIzvajalci: Egon Mihajlović\nPros
 tor: PT.13 PREDAVALNICA dr. Primoža Kureta
LOCATION:PT.13 PREDAVALNICA dr. Primoža Kureta
ORGANIZER:Egon Mihajlović
RELATED-TO:ag-AFLABS-URNIK:srecanje:2420
X-WR-TIMEZONE:Europe/Ljubljana
END:VEVENT
BEGIN:VEVENT
SUMMARY:Historična izvajalska praksa M1 (B2-01) B2 (HISTO)\, predavanja (
 PRE)
DTSTART;TZID=Europe/Ljubljana:20250121T174500
DTEND;TZID=Europe/Ljubljana:20250121T183000
DTSTAMP:20260419T134237Z
UID:ag-AFLABS-URNIK:premaknjeno-srecanje:61634
ATTENDEE:1. letnik (1 - GU2)
ATTENDEE:1. letnik (1 - IPP)
ATTENDEE:2. letnik (2 - GU2)
ATTENDEE:2. letnik (2 - IPP)
CATEGORIES:Entry,Standard
COLOR:darkgreen
DESCRIPTION:Predmet: Historična izvajalska praksa M1 (B2-01) B2 (HISTO)\,
  predavanja (PRE)\nLetniki: 1. letnik (1 - GU2)\, 1. letnik (1 - IPP)\, 2.
  letnik (2 - GU2)\, 2. letnik (2 - IPP)\nIzvajalci: Egon Mihajlović\nPros
 tor: PT.13 PREDAVALNICA dr. Primoža Kureta
LOCATION:PT.13 PREDAVALNICA dr. Primoža Kureta
ORGANIZER:Egon Mihajlović
RELATED-TO:ag-AFLABS-URNIK:srecanje:2420
X-WR-TIMEZONE:Europe/Ljubljana
END:VEVENT
BEGIN:VEVENT
SUMMARY:Historična izvajalska praksa M1 (B2-01) B2 (HISTO)\, predavanja (
 PRE)
DTSTART;TZID=Europe/Ljubljana:20250128T174500
DTEND;TZID=Europe/Ljubljana:20250128T183000
DTSTAMP:20260419T134237Z
UID:ag-AFLABS-URNIK:premaknjeno-srecanje:61889
ATTENDEE:1. letnik (1 - GU2)
ATTENDEE:1. letnik (1 - IPP)
ATTENDEE:2. letnik (2 - GU2)
ATTENDEE:2. letnik (2 - IPP)
CATEGORIES:Entry,Standard
COLOR:darkgreen
DESCRIPTION:Predmet: Historična izvajalska praksa M1 (B2-01) B2 (HISTO)\,
  predavanja (PRE)\nLetniki: 1. letnik (1 - GU2)\, 1. letnik (1 - IPP)\, 2.
  letnik (2 - GU2)\, 2. letnik (2 - IPP)\nIzvajalci: Egon Mihajlović\nPros
 tor: PT.13 PREDAVALNICA dr. Primoža Kureta
LOCATION:PT.13 PREDAVALNICA dr. Primoža Kureta
ORGANIZER:Egon Mihajlović
RELATED-TO:ag-AFLABS-URNIK:srecanje:2420
X-WR-TIMEZONE:Europe/Ljubljana
END:VEVENT
BEGIN:VEVENT
SUMMARY:Historična izvajalska praksa M1 (B2-01) B2 (HISTO)\, predavanja (
 PRE)
DTSTART;TZID=Europe/Ljubljana:20250204T174500
DTEND;TZID=Europe/Ljubljana:20250204T183000
DTSTAMP:20260419T134237Z
UID:ag-AFLABS-URNIK:premaknjeno-srecanje:62144
ATTENDEE:1. letnik (1 - GU2)
ATTENDEE:1. letnik (1 - IPP)
ATTENDEE:2. letnik (2 - GU2)
ATTENDEE:2. letnik (2 - IPP)
CATEGORIES:Entry,Standard
COLOR:darkgreen
DESCRIPTION:Predmet: Historična izvajalska praksa M1 (B2-01) B2 (HISTO)\,
  predavanja (PRE)\nLetniki: 1. letnik (1 - GU2)\, 1. letnik (1 - IPP)\, 2.
  letnik (2 - GU2)\, 2. letnik (2 - IPP)\nIzvajalci: Egon Mihajlović\nPros
 tor: PT.13 PREDAVALNICA dr. Primoža Kureta
LOCATION:PT.13 PREDAVALNICA dr. Primoža Kureta
ORGANIZER:Egon Mihajlović
RELATED-TO:ag-AFLABS-URNIK:srecanje:2420
X-WR-TIMEZONE:Europe/Ljubljana
END:VEVENT
BEGIN:VEVENT
SUMMARY:Historična izvajalska praksa M1 (B2-01) B2 (HISTO)\, predavanja (
 PRE)
DTSTART;TZID=Europe/Ljubljana:20250211T174500
DTEND;TZID=Europe/Ljubljana:20250211T183000
DTSTAMP:20260419T134237Z
UID:ag-AFLABS-URNIK:premaknjeno-srecanje:62414
ATTENDEE:1. letnik (1 - GU2)
ATTENDEE:1. letnik (1 - IPP)
ATTENDEE:2. letnik (2 - GU2)
ATTENDEE:2. letnik (2 - IPP)
CATEGORIES:Entry,Standard
COLOR:darkgreen
DESCRIPTION:Predmet: Historična izvajalska praksa M1 (B2-01) B2 (HISTO)\,
  predavanja (PRE)\nLetniki: 1. letnik (1 - GU2)\, 1. letnik (1 - IPP)\, 2.
  letnik (2 - GU2)\, 2. letnik (2 - IPP)\nIzvajalci: Egon Mihajlović\nPros
 tor: PT.13 PREDAVALNICA dr. Primoža Kureta
LOCATION:PT.13 PREDAVALNICA dr. Primoža Kureta
ORGANIZER:Egon Mihajlović
RELATED-TO:ag-AFLABS-URNIK:srecanje:2420
X-WR-TIMEZONE:Europe/Ljubljana
END:VEVENT
BEGIN:VEVENT
SUMMARY:Historična izvajalska praksa M1 (B2-01) B2 (HISTO)\, predavanja (
 PRE)
DTSTART;TZID=Europe/Ljubljana:20250218T174500
DTEND;TZID=Europe/Ljubljana:20250218T183000
DTSTAMP:20260419T134237Z
UID:ag-AFLABS-URNIK:premaknjeno-srecanje:62690
ATTENDEE:1. letnik (1 - GU2)
ATTENDEE:1. letnik (1 - IPP)
ATTENDEE:2. letnik (2 - GU2)
ATTENDEE:2. letnik (2 - IPP)
CATEGORIES:Entry,Standard
COLOR:darkgreen
DESCRIPTION:Predmet: Historična izvajalska praksa M1 (B2-01) B2 (HISTO)\,
  predavanja (PRE)\nLetniki: 1. letnik (1 - GU2)\, 1. letnik (1 - IPP)\, 2.
  letnik (2 - GU2)\, 2. letnik (2 - IPP)\nIzvajalci: Egon Mihajlović\nPros
 tor: PT.13 PREDAVALNICA dr. Primoža Kureta
LOCATION:PT.13 PREDAVALNICA dr. Primoža Kureta
ORGANIZER:Egon Mihajlović
RELATED-TO:ag-AFLABS-URNIK:srecanje:2420
X-WR-TIMEZONE:Europe/Ljubljana
END:VEVENT
BEGIN:VEVENT
SUMMARY:Historična izvajalska praksa M1 (B2-01) B2 (HISTO)\, predavanja (
 PRE)
DTSTART;TZID=Europe/Ljubljana:20250225T174500
DTEND;TZID=Europe/Ljubljana:20250225T183000
DTSTAMP:20260419T134237Z
UID:ag-AFLABS-URNIK:premaknjeno-srecanje:62967
ATTENDEE:1. letnik (1 - GU2)
ATTENDEE:1. letnik (1 - IPP)
ATTENDEE:2. letnik (2 - GU2)
ATTENDEE:2. letnik (2 - IPP)
CATEGORIES:Entry,Standard
COLOR:darkgreen
DESCRIPTION:Predmet: Historična izvajalska praksa M1 (B2-01) B2 (HISTO)\,
  predavanja (PRE)\nLetniki: 1. letnik (1 - GU2)\, 1. letnik (1 - IPP)\, 2.
  letnik (2 - GU2)\, 2. letnik (2 - IPP)\nIzvajalci: Egon Mihajlović\nPros
 tor: PT.13 PREDAVALNICA dr. Primoža Kureta
LOCATION:PT.13 PREDAVALNICA dr. Primoža Kureta
ORGANIZER:Egon Mihajlović
RELATED-TO:ag-AFLABS-URNIK:srecanje:2420
X-WR-TIMEZONE:Europe/Ljubljana
END:VEVENT
BEGIN:VEVENT
SUMMARY:Historična izvajalska praksa M2 (B2-02) B2 (HISTO)\, predavanja (
 PRE)
DTSTART;TZID=Europe/Ljubljana:20241224T183000
DTEND;TZID=Europe/Ljubljana:20241224T190000
DTSTAMP:20260419T134237Z
UID:ag-AFLABS-URNIK:premaknjeno-srecanje:60533
ATTENDEE:2. letnik (2 - GU2)
ATTENDEE:2. letnik (2 - IPP)
CATEGORIES:Entry,Standard
COLOR:darkgreen
DESCRIPTION:Predmet: Historična izvajalska praksa M2 (B2-02) B2 (HISTO)\,
  predavanja (PRE)\nLetniki: 2. letnik (2 - GU2)\, 2. letnik (2 - IPP)\nIzv
 ajalci: Egon Mihajlović\nProstor: PT.13 PREDAVALNICA dr. Primoža Kureta
LOCATION:PT.13 PREDAVALNICA dr. Primoža Kureta
ORGANIZER:Egon Mihajlović
RELATED-TO:ag-AFLABS-URNIK:srecanje:2431
X-WR-TIMEZONE:Europe/Ljubljana
END:VEVENT
BEGIN:VEVENT
SUMMARY:Historična izvajalska praksa M2 (B2-02) B2 (HISTO)\, predavanja (
 PRE)
DTSTART;TZID=Europe/Ljubljana:20241231T183000
DTEND;TZID=Europe/Ljubljana:20241231T190000
DTSTAMP:20260419T134237Z
UID:ag-AFLABS-URNIK:premaknjeno-srecanje:60811
ATTENDEE:2. letnik (2 - GU2)
ATTENDEE:2. letnik (2 - IPP)
CATEGORIES:Entry,Standard
COLOR:darkgreen
DESCRIPTION:Predmet: Historična izvajalska praksa M2 (B2-02) B2 (HISTO)\,
  predavanja (PRE)\nLetniki: 2. letnik (2 - GU2)\, 2. letnik (2 - IPP)\nIzv
 ajalci: Egon Mihajlović\nProstor: PT.13 PREDAVALNICA dr. Primoža Kureta
LOCATION:PT.13 PREDAVALNICA dr. Primoža Kureta
ORGANIZER:Egon Mihajlović
RELATED-TO:ag-AFLABS-URNIK:srecanje:2431
X-WR-TIMEZONE:Europe/Ljubljana
END:VEVENT
BEGIN:VEVENT
SUMMARY:Historična izvajalska praksa M2 (B2-02) B2 (HISTO)\, predavanja (
 PRE)
DTSTART;TZID=Europe/Ljubljana:20250107T183000
DTEND;TZID=Europe/Ljubljana:20250107T190000
DTSTAMP:20260419T134237Z
UID:ag-AFLABS-URNIK:premaknjeno-srecanje:61089
ATTENDEE:2. letnik (2 - GU2)
ATTENDEE:2. letnik (2 - IPP)
CATEGORIES:Entry,Standard
COLOR:darkgreen
DESCRIPTION:Predmet: Historična izvajalska praksa M2 (B2-02) B2 (HISTO)\,
  predavanja (PRE)\nLetniki: 2. letnik (2 - GU2)\, 2. letnik (2 - IPP)\nIzv
 ajalci: Egon Mihajlović\nProstor: PT.13 PREDAVALNICA dr. Primoža Kureta
LOCATION:PT.13 PREDAVALNICA dr. Primoža Kureta
ORGANIZER:Egon Mihajlović
RELATED-TO:ag-AFLABS-URNIK:srecanje:2431
X-WR-TIMEZONE:Europe/Ljubljana
END:VEVENT
BEGIN:VEVENT
SUMMARY:Historična izvajalska praksa M2 (B2-02) B2 (HISTO)\, predavanja (
 PRE)
DTSTART;TZID=Europe/Ljubljana:20250114T183000
DTEND;TZID=Europe/Ljubljana:20250114T190000
DTSTAMP:20260419T134237Z
UID:ag-AFLABS-URNIK:premaknjeno-srecanje:61367
ATTENDEE:2. letnik (2 - GU2)
ATTENDEE:2. letnik (2 - IPP)
CATEGORIES:Entry,Standard
COLOR:darkgreen
DESCRIPTION:Predmet: Historična izvajalska praksa M2 (B2-02) B2 (HISTO)\,
  predavanja (PRE)\nLetniki: 2. letnik (2 - GU2)\, 2. letnik (2 - IPP)\nIzv
 ajalci: Egon Mihajlović\nProstor: PT.13 PREDAVALNICA dr. Primoža Kureta
LOCATION:PT.13 PREDAVALNICA dr. Primoža Kureta
ORGANIZER:Egon Mihajlović
RELATED-TO:ag-AFLABS-URNIK:srecanje:2431
X-WR-TIMEZONE:Europe/Ljubljana
END:VEVENT
BEGIN:VEVENT
SUMMARY:Historična izvajalska praksa M2 (B2-02) B2 (HISTO)\, predavanja (
 PRE)
DTSTART;TZID=Europe/Ljubljana:20250121T183000
DTEND;TZID=Europe/Ljubljana:20250121T190000
DTSTAMP:20260419T134237Z
UID:ag-AFLABS-URNIK:premaknjeno-srecanje:61645
ATTENDEE:2. letnik (2 - GU2)
ATTENDEE:2. letnik (2 - IPP)
CATEGORIES:Entry,Standard
COLOR:darkgreen
DESCRIPTION:Predmet: Historična izvajalska praksa M2 (B2-02) B2 (HISTO)\,
  predavanja (PRE)\nLetniki: 2. letnik (2 - GU2)\, 2. letnik (2 - IPP)\nIzv
 ajalci: Egon Mihajlović\nProstor: PT.13 PREDAVALNICA dr. Primoža Kureta
LOCATION:PT.13 PREDAVALNICA dr. Primoža Kureta
ORGANIZER:Egon Mihajlović
RELATED-TO:ag-AFLABS-URNIK:srecanje:2431
X-WR-TIMEZONE:Europe/Ljubljana
END:VEVENT
BEGIN:VEVENT
SUMMARY:Historična izvajalska praksa M2 (B2-02) B2 (HISTO)\, predavanja (
 PRE)
DTSTART;TZID=Europe/Ljubljana:20250128T183000
DTEND;TZID=Europe/Ljubljana:20250128T190000
DTSTAMP:20260419T134237Z
UID:ag-AFLABS-URNIK:premaknjeno-srecanje:61900
ATTENDEE:2. letnik (2 - GU2)
ATTENDEE:2. letnik (2 - IPP)
CATEGORIES:Entry,Standard
COLOR:darkgreen
DESCRIPTION:Predmet: Historična izvajalska praksa M2 (B2-02) B2 (HISTO)\,
  predavanja (PRE)\nLetniki: 2. letnik (2 - GU2)\, 2. letnik (2 - IPP)\nIzv
 ajalci: Egon Mihajlović\nProstor: PT.13 PREDAVALNICA dr. Primoža Kureta
LOCATION:PT.13 PREDAVALNICA dr. Primoža Kureta
ORGANIZER:Egon Mihajlović
RELATED-TO:ag-AFLABS-URNIK:srecanje:2431
X-WR-TIMEZONE:Europe/Ljubljana
END:VEVENT
BEGIN:VEVENT
SUMMARY:Historična izvajalska praksa M2 (B2-02) B2 (HISTO)\, predavanja (
 PRE)
DTSTART;TZID=Europe/Ljubljana:20250204T183000
DTEND;TZID=Europe/Ljubljana:20250204T190000
DTSTAMP:20260419T134237Z
UID:ag-AFLABS-URNIK:premaknjeno-srecanje:62155
ATTENDEE:2. letnik (2 - GU2)
ATTENDEE:2. letnik (2 - IPP)
CATEGORIES:Entry,Standard
COLOR:darkgreen
DESCRIPTION:Predmet: Historična izvajalska praksa M2 (B2-02) B2 (HISTO)\,
  predavanja (PRE)\nLetniki: 2. letnik (2 - GU2)\, 2. letnik (2 - IPP)\nIzv
 ajalci: Egon Mihajlović\nProstor: PT.13 PREDAVALNICA dr. Primoža Kureta
LOCATION:PT.13 PREDAVALNICA dr. Primoža Kureta
ORGANIZER:Egon Mihajlović
RELATED-TO:ag-AFLABS-URNIK:srecanje:2431
X-WR-TIMEZONE:Europe/Ljubljana
END:VEVENT
BEGIN:VEVENT
SUMMARY:Historična izvajalska praksa M2 (B2-02) B2 (HISTO)\, predavanja (
 PRE)
DTSTART;TZID=Europe/Ljubljana:20250211T183000
DTEND;TZID=Europe/Ljubljana:20250211T190000
DTSTAMP:20260419T134237Z
UID:ag-AFLABS-URNIK:premaknjeno-srecanje:62425
ATTENDEE:2. letnik (2 - GU2)
ATTENDEE:2. letnik (2 - IPP)
CATEGORIES:Entry,Standard
COLOR:darkgreen
DESCRIPTION:Predmet: Historična izvajalska praksa M2 (B2-02) B2 (HISTO)\,
  predavanja (PRE)\nLetniki: 2. letnik (2 - GU2)\, 2. letnik (2 - IPP)\nIzv
 ajalci: Egon Mihajlović\nProstor: PT.13 PREDAVALNICA dr. Primoža Kureta
LOCATION:PT.13 PREDAVALNICA dr. Primoža Kureta
ORGANIZER:Egon Mihajlović
RELATED-TO:ag-AFLABS-URNIK:srecanje:2431
X-WR-TIMEZONE:Europe/Ljubljana
END:VEVENT
BEGIN:VEVENT
SUMMARY:Historična izvajalska praksa M2 (B2-02) B2 (HISTO)\, predavanja (
 PRE)
DTSTART;TZID=Europe/Ljubljana:20250218T183000
DTEND;TZID=Europe/Ljubljana:20250218T190000
DTSTAMP:20260419T134237Z
UID:ag-AFLABS-URNIK:premaknjeno-srecanje:62701
ATTENDEE:2. letnik (2 - GU2)
ATTENDEE:2. letnik (2 - IPP)
CATEGORIES:Entry,Standard
COLOR:darkgreen
DESCRIPTION:Predmet: Historična izvajalska praksa M2 (B2-02) B2 (HISTO)\,
  predavanja (PRE)\nLetniki: 2. letnik (2 - GU2)\, 2. letnik (2 - IPP)\nIzv
 ajalci: Egon Mihajlović\nProstor: PT.13 PREDAVALNICA dr. Primoža Kureta
LOCATION:PT.13 PREDAVALNICA dr. Primoža Kureta
ORGANIZER:Egon Mihajlović
RELATED-TO:ag-AFLABS-URNIK:srecanje:2431
X-WR-TIMEZONE:Europe/Ljubljana
END:VEVENT
BEGIN:VEVENT
SUMMARY:Historična izvajalska praksa M2 (B2-02) B2 (HISTO)\, predavanja (
 PRE)
DTSTART;TZID=Europe/Ljubljana:20250225T183000
DTEND;TZID=Europe/Ljubljana:20250225T190000
DTSTAMP:20260419T134237Z
UID:ag-AFLABS-URNIK:premaknjeno-srecanje:62978
ATTENDEE:2. letnik (2 - GU2)
ATTENDEE:2. letnik (2 - IPP)
CATEGORIES:Entry,Standard
COLOR:darkgreen
DESCRIPTION:Predmet: Historična izvajalska praksa M2 (B2-02) B2 (HISTO)\,
  predavanja (PRE)\nLetniki: 2. letnik (2 - GU2)\, 2. letnik (2 - IPP)\nIzv
 ajalci: Egon Mihajlović\nProstor: PT.13 PREDAVALNICA dr. Primoža Kureta
LOCATION:PT.13 PREDAVALNICA dr. Primoža Kureta
ORGANIZER:Egon Mihajlović
RELATED-TO:ag-AFLABS-URNIK:srecanje:2431
X-WR-TIMEZONE:Europe/Ljubljana
END:VEVENT
BEGIN:VEVENT
SUMMARY:Historična izvajalna praksa 2 (BB-03) BB (HISTO)\, predavanja (PR
 E)
DTSTART;TZID=Europe/Ljubljana:20250211T170000
DTEND;TZID=Europe/Ljubljana:20250211T174500
DTSTAMP:20260419T134237Z
UID:ag-AFLABS-URNIK:premaknjeno-srecanje:62412
ATTENDEE:1. letnik (1 - GU2)
ATTENDEE:1. letnik (1 - IPP)
ATTENDEE:2. letnik (2 - GU1)
ATTENDEE:2. letnik (2 - GU2)
ATTENDEE:2. letnik (2 - IPP)
ATTENDEE:3. letnik (3 - GU1)
CATEGORIES:Entry,Standard
COLOR:darkgreen
DESCRIPTION:Predmet: Historična izvajalna praksa 2 (BB-03) BB (HISTO)\, p
 redavanja (PRE)\nLetniki: 1. letnik (1 - GU2)\, 1. letnik (1 - IPP)\, 2. l
 etnik (2 - GU1)\, 2. letnik (2 - GU2)\, 2. letnik (2 - IPP)\, 3. letnik (3
  - GU1)\nIzvajalci: Egon Mihajlović\nProstor: PT.13 PREDAVALNICA dr. Prim
 oža Kureta
LOCATION:PT.13 PREDAVALNICA dr. Primoža Kureta
ORGANIZER:Egon Mihajlović
RELATED-TO:ag-AFLABS-URNIK:srecanje:2664
X-WR-TIMEZONE:Europe/Ljubljana
END:VEVENT
BEGIN:VEVENT
SUMMARY:Historična izvajalna praksa 2 (BB-03) BB (HISTO)\, predavanja (PR
 E)
DTSTART;TZID=Europe/Ljubljana:20250218T170000
DTEND;TZID=Europe/Ljubljana:20250218T174500
DTSTAMP:20260419T134237Z
UID:ag-AFLABS-URNIK:premaknjeno-srecanje:62688
ATTENDEE:1. letnik (1 - GU2)
ATTENDEE:1. letnik (1 - IPP)
ATTENDEE:2. letnik (2 - GU1)
ATTENDEE:2. letnik (2 - GU2)
ATTENDEE:2. letnik (2 - IPP)
ATTENDEE:3. letnik (3 - GU1)
CATEGORIES:Entry,Standard
COLOR:darkgreen
DESCRIPTION:Predmet: Historična izvajalna praksa 2 (BB-03) BB (HISTO)\, p
 redavanja (PRE)\nLetniki: 1. letnik (1 - GU2)\, 1. letnik (1 - IPP)\, 2. l
 etnik (2 - GU1)\, 2. letnik (2 - GU2)\, 2. letnik (2 - IPP)\, 3. letnik (3
  - GU1)\nIzvajalci: Egon Mihajlović\nProstor: PT.13 PREDAVALNICA dr. Prim
 oža Kureta
LOCATION:PT.13 PREDAVALNICA dr. Primoža Kureta
ORGANIZER:Egon Mihajlović
RELATED-TO:ag-AFLABS-URNIK:srecanje:2664
X-WR-TIMEZONE:Europe/Ljubljana
END:VEVENT
BEGIN:VEVENT
SUMMARY:Historična izvajalna praksa 2 (BB-03) BB (HISTO)\, predavanja (PR
 E)
DTSTART;TZID=Europe/Ljubljana:20250225T170000
DTEND;TZID=Europe/Ljubljana:20250225T174500
DTSTAMP:20260419T134237Z
UID:ag-AFLABS-URNIK:premaknjeno-srecanje:62965
ATTENDEE:1. letnik (1 - GU2)
ATTENDEE:1. letnik (1 - IPP)
ATTENDEE:2. letnik (2 - GU1)
ATTENDEE:2. letnik (2 - GU2)
ATTENDEE:2. letnik (2 - IPP)
ATTENDEE:3. letnik (3 - GU1)
CATEGORIES:Entry,Standard
COLOR:darkgreen
DESCRIPTION:Predmet: Historična izvajalna praksa 2 (BB-03) BB (HISTO)\, p
 redavanja (PRE)\nLetniki: 1. letnik (1 - GU2)\, 1. letnik (1 - IPP)\, 2. l
 etnik (2 - GU1)\, 2. letnik (2 - GU2)\, 2. letnik (2 - IPP)\, 3. letnik (3
  - GU1)\nIzvajalci: Egon Mihajlović\nProstor: PT.13 PREDAVALNICA dr. Prim
 oža Kureta
LOCATION:PT.13 PREDAVALNICA dr. Primoža Kureta
ORGANIZER:Egon Mihajlović
RELATED-TO:ag-AFLABS-URNIK:srecanje:2664
X-WR-TIMEZONE:Europe/Ljubljana
END:VEVENT
END:VCALENDAR
