BEGIN:VCALENDAR
VERSION:2.0
PRODID:-//AFLabs urnik izvoz - ag//aflabs.si//SI
DTSTAMP:20260422T103220Z
NAME:UL AG Urnik
REFRESH-INTERVAL:PT1H
SOURCE:https://urnik.ag.uni-lj.si/teacher/40?day=2024-06-24&export=1
URL:https://urnik.ag.uni-lj.si/teacher/40?day=2024-06-24&export=1
X-PUBLISHED-TTL:PT1H
X-WR-CALNAME:UL AG Urnik
X-WR-TIMEZONE:Europe/Ljubljana
BEGIN:VTIMEZONE
TZID:Europe/Ljubljana
BEGIN:DAYLIGHT
DTSTART:20260329T020000
RDATE:20260329T020000
RDATE:20270328T020000
TZNAME:CEST
TZOFFSETFROM:+0100
TZOFFSETTO:+0200
END:DAYLIGHT
BEGIN:STANDARD
DTSTART:20261025T030000
RDATE:20261025T030000
RDATE:20271031T030000
TZNAME:CET
TZOFFSETFROM:+0200
TZOFFSETTO:+0100
END:STANDARD
END:VTIMEZONE
BEGIN:VEVENT
SUMMARY:Tuba 3 (B4303) B (TUBA )\, predavanja (PRE)
DTSTART;TZID=Europe/Ljubljana:20240520T100000
DTEND;TZID=Europe/Ljubljana:20240520T110000
DTSTAMP:20260422T103220Z
UID:ag-AFLABS-URNIK:premaknjeno-srecanje:15567
ATTENDEE:Tuba (1 - GU1)
ATTENDEE:Tuba (2 - GU1)
ATTENDEE:Tuba (3 - GU1)
CATEGORIES:Entry,Standard
COLOR:darkgreen
DESCRIPTION:Predmet: Tuba 3 (B4303) B (TUBA )\, predavanja (PRE)\nLetniki:
  Tuba (1 - GU1)\, Tuba (2 - GU1)\, Tuba (3 - GU1)\nIzvajalci: Tina Gašper
 šič Kralj\nProstor: 2N.21 UČILNICA - KOREPETICIJE
LOCATION:2N.21 UČILNICA - KOREPETICIJE
ORGANIZER:Tina Gašperšič Kralj
RELATED-TO:ag-AFLABS-URNIK:srecanje:397
X-WR-TIMEZONE:Europe/Ljubljana
END:VEVENT
BEGIN:VEVENT
SUMMARY:Tuba 3 (B4303) B (TUBA )\, predavanja (PRE)
DTSTART;TZID=Europe/Ljubljana:20240527T100000
DTEND;TZID=Europe/Ljubljana:20240527T110000
DTSTAMP:20260422T103220Z
UID:ag-AFLABS-URNIK:premaknjeno-srecanje:16730
ATTENDEE:Tuba (1 - GU1)
ATTENDEE:Tuba (2 - GU1)
ATTENDEE:Tuba (3 - GU1)
CATEGORIES:Entry,Standard
COLOR:darkgreen
DESCRIPTION:Predmet: Tuba 3 (B4303) B (TUBA )\, predavanja (PRE)\nLetniki:
  Tuba (1 - GU1)\, Tuba (2 - GU1)\, Tuba (3 - GU1)\nIzvajalci: Tina Gašper
 šič Kralj\nProstor: 2N.21 UČILNICA - KOREPETICIJE
LOCATION:2N.21 UČILNICA - KOREPETICIJE
ORGANIZER:Tina Gašperšič Kralj
RELATED-TO:ag-AFLABS-URNIK:srecanje:397
X-WR-TIMEZONE:Europe/Ljubljana
END:VEVENT
BEGIN:VEVENT
SUMMARY:Tuba 1 (B4300) B (TUBA )\, predavanja (PRE)
DTSTART;TZID=Europe/Ljubljana:20240520T110000
DTEND;TZID=Europe/Ljubljana:20240520T130000
DTSTAMP:20260422T103220Z
UID:ag-AFLABS-URNIK:premaknjeno-srecanje:15599
ATTENDEE:Tuba (1 - GU1)
ATTENDEE:Tuba (2 - GU1)
ATTENDEE:Tuba (3 - GU1)
CATEGORIES:Entry,Standard
COLOR:darkgreen
DESCRIPTION:Predmet: Tuba 1 (B4300) B (TUBA )\, predavanja (PRE)\nLetniki:
  Tuba (1 - GU1)\, Tuba (2 - GU1)\, Tuba (3 - GU1)\nIzvajalci: Tina Gašper
 šič Kralj\nProstor: 2N.21 UČILNICA - KOREPETICIJE
LOCATION:2N.21 UČILNICA - KOREPETICIJE
ORGANIZER:Tina Gašperšič Kralj
RELATED-TO:ag-AFLABS-URNIK:srecanje:429
X-WR-TIMEZONE:Europe/Ljubljana
END:VEVENT
BEGIN:VEVENT
SUMMARY:Tuba 1 (B4300) B (TUBA )\, predavanja (PRE)
DTSTART;TZID=Europe/Ljubljana:20240527T110000
DTEND;TZID=Europe/Ljubljana:20240527T130000
DTSTAMP:20260422T103220Z
UID:ag-AFLABS-URNIK:premaknjeno-srecanje:16758
ATTENDEE:Tuba (1 - GU1)
ATTENDEE:Tuba (2 - GU1)
ATTENDEE:Tuba (3 - GU1)
CATEGORIES:Entry,Standard
COLOR:darkgreen
DESCRIPTION:Predmet: Tuba 1 (B4300) B (TUBA )\, predavanja (PRE)\nLetniki:
  Tuba (1 - GU1)\, Tuba (2 - GU1)\, Tuba (3 - GU1)\nIzvajalci: Tina Gašper
 šič Kralj\nProstor: 2N.21 UČILNICA - KOREPETICIJE
LOCATION:2N.21 UČILNICA - KOREPETICIJE
ORGANIZER:Tina Gašperšič Kralj
RELATED-TO:ag-AFLABS-URNIK:srecanje:429
X-WR-TIMEZONE:Europe/Ljubljana
END:VEVENT
BEGIN:VEVENT
SUMMARY:Violončelo 3 (B3302) B (VIOLO)\, predavanja (PRE)
DTSTART;TZID=Europe/Ljubljana:20240520T130000
DTEND;TZID=Europe/Ljubljana:20240520T140000
DTSTAMP:20260422T103220Z
UID:ag-AFLABS-URNIK:premaknjeno-srecanje:15657
ATTENDEE:Violončelo (1 - GU1)
ATTENDEE:Violončelo (2 - GU1)
ATTENDEE:Violončelo (3 - GU1)
CATEGORIES:Entry,Standard
COLOR:darkgreen
DESCRIPTION:Predmet: Violončelo 3 (B3302) B (VIOLO)\, predavanja (PRE)\nL
 etniki: Violončelo (1 - GU1)\, Violončelo (2 - GU1)\, Violončelo (3 - G
 U1)\nIzvajalci: Tina Gašperšič Kralj\nProstor: 2N.21 UČILNICA - KOREPE
 TICIJE
LOCATION:2N.21 UČILNICA - KOREPETICIJE
ORGANIZER:Tina Gašperšič Kralj
RELATED-TO:ag-AFLABS-URNIK:srecanje:487
X-WR-TIMEZONE:Europe/Ljubljana
END:VEVENT
BEGIN:VEVENT
SUMMARY:Violončelo 3 (B3302) B (VIOLO)\, predavanja (PRE)
DTSTART;TZID=Europe/Ljubljana:20240527T130000
DTEND;TZID=Europe/Ljubljana:20240527T140000
DTSTAMP:20260422T103220Z
UID:ag-AFLABS-URNIK:premaknjeno-srecanje:16811
ATTENDEE:Violončelo (1 - GU1)
ATTENDEE:Violončelo (2 - GU1)
ATTENDEE:Violončelo (3 - GU1)
CATEGORIES:Entry,Standard
COLOR:darkgreen
DESCRIPTION:Predmet: Violončelo 3 (B3302) B (VIOLO)\, predavanja (PRE)\nL
 etniki: Violončelo (1 - GU1)\, Violončelo (2 - GU1)\, Violončelo (3 - G
 U1)\nIzvajalci: Tina Gašperšič Kralj\nProstor: 2N.21 UČILNICA - KOREPE
 TICIJE
LOCATION:2N.21 UČILNICA - KOREPETICIJE
ORGANIZER:Tina Gašperšič Kralj
RELATED-TO:ag-AFLABS-URNIK:srecanje:487
X-WR-TIMEZONE:Europe/Ljubljana
END:VEVENT
BEGIN:VEVENT
SUMMARY:Tuba 1 (B4300) B (TUBA )\, predavanja (PRE)
DTSTART;TZID=Europe/Ljubljana:20240521T120000
DTEND;TZID=Europe/Ljubljana:20240521T130000
DTSTAMP:20260422T103220Z
UID:ag-AFLABS-URNIK:premaknjeno-srecanje:15890
ATTENDEE:Tuba (1 - GU1)
ATTENDEE:Tuba (2 - GU1)
ATTENDEE:Tuba (3 - GU1)
CATEGORIES:Entry,Standard
COLOR:darkgreen
DESCRIPTION:Predmet: Tuba 1 (B4300) B (TUBA )\, predavanja (PRE)\nLetniki:
  Tuba (1 - GU1)\, Tuba (2 - GU1)\, Tuba (3 - GU1)\nIzvajalci: Tina Gašper
 šič Kralj\nProstor: V.12
LOCATION:V.12
ORGANIZER:Tina Gašperšič Kralj
RELATED-TO:ag-AFLABS-URNIK:srecanje:720
X-WR-TIMEZONE:Europe/Ljubljana
END:VEVENT
BEGIN:VEVENT
SUMMARY:Tuba 1 (B4300) B (TUBA )\, predavanja (PRE)
DTSTART;TZID=Europe/Ljubljana:20240528T120000
DTEND;TZID=Europe/Ljubljana:20240528T130000
DTSTAMP:20260422T103220Z
UID:ag-AFLABS-URNIK:premaknjeno-srecanje:17025
ATTENDEE:Tuba (1 - GU1)
ATTENDEE:Tuba (2 - GU1)
ATTENDEE:Tuba (3 - GU1)
CATEGORIES:Entry,Standard
COLOR:darkgreen
DESCRIPTION:Predmet: Tuba 1 (B4300) B (TUBA )\, predavanja (PRE)\nLetniki:
  Tuba (1 - GU1)\, Tuba (2 - GU1)\, Tuba (3 - GU1)\nIzvajalci: Tina Gašper
 šič Kralj\nProstor: V.12
LOCATION:V.12
ORGANIZER:Tina Gašperšič Kralj
RELATED-TO:ag-AFLABS-URNIK:srecanje:720
X-WR-TIMEZONE:Europe/Ljubljana
END:VEVENT
BEGIN:VEVENT
SUMMARY:Komplementarni klavir C3 (B2239) B (KOMPL)\, predavanja (PRE)
DTSTART;TZID=Europe/Ljubljana:20240521T130000
DTEND;TZID=Europe/Ljubljana:20240521T140000
DTSTAMP:20260422T103220Z
UID:ag-AFLABS-URNIK:premaknjeno-srecanje:15916
ATTENDEE:3. letnik (3 - GP1)
ATTENDEE:3. letnik (3 - GU1)
CATEGORIES:Entry,Standard
COLOR:darkgreen
DESCRIPTION:Predmet: Komplementarni klavir C3 (B2239) B (KOMPL)\, predavan
 ja (PRE)\nLetniki: 3. letnik (3 - GP1)\, 3. letnik (3 - GU1)\nIzvajalci: T
 ina Gašperšič Kralj\nProstor: V.12
LOCATION:V.12
ORGANIZER:Tina Gašperšič Kralj
RELATED-TO:ag-AFLABS-URNIK:srecanje:746
X-WR-TIMEZONE:Europe/Ljubljana
END:VEVENT
BEGIN:VEVENT
SUMMARY:Komplementarni klavir C3 (B2239) B (KOMPL)\, predavanja (PRE)
DTSTART;TZID=Europe/Ljubljana:20240528T130000
DTEND;TZID=Europe/Ljubljana:20240528T140000
DTSTAMP:20260422T103220Z
UID:ag-AFLABS-URNIK:premaknjeno-srecanje:17048
ATTENDEE:3. letnik (3 - GP1)
ATTENDEE:3. letnik (3 - GU1)
CATEGORIES:Entry,Standard
COLOR:darkgreen
DESCRIPTION:Predmet: Komplementarni klavir C3 (B2239) B (KOMPL)\, predavan
 ja (PRE)\nLetniki: 3. letnik (3 - GP1)\, 3. letnik (3 - GU1)\nIzvajalci: T
 ina Gašperšič Kralj\nProstor: V.12
LOCATION:V.12
ORGANIZER:Tina Gašperšič Kralj
RELATED-TO:ag-AFLABS-URNIK:srecanje:746
X-WR-TIMEZONE:Europe/Ljubljana
END:VEVENT
BEGIN:VEVENT
SUMMARY:Tuba 3 (B4303) B (TUBA )\, predavanja (PRE)
DTSTART;TZID=Europe/Ljubljana:20240521T140000
DTEND;TZID=Europe/Ljubljana:20240521T150000
DTSTAMP:20260422T103220Z
UID:ag-AFLABS-URNIK:premaknjeno-srecanje:15939
ATTENDEE:Tuba (1 - GU1)
ATTENDEE:Tuba (2 - GU1)
ATTENDEE:Tuba (3 - GU1)
CATEGORIES:Entry,Standard
COLOR:darkgreen
DESCRIPTION:Predmet: Tuba 3 (B4303) B (TUBA )\, predavanja (PRE)\nLetniki:
  Tuba (1 - GU1)\, Tuba (2 - GU1)\, Tuba (3 - GU1)\nIzvajalci: Tina Gašper
 šič Kralj\nProstor: V.12
LOCATION:V.12
ORGANIZER:Tina Gašperšič Kralj
RELATED-TO:ag-AFLABS-URNIK:srecanje:769
X-WR-TIMEZONE:Europe/Ljubljana
END:VEVENT
BEGIN:VEVENT
SUMMARY:Tuba 3 (B4303) B (TUBA )\, predavanja (PRE)
DTSTART;TZID=Europe/Ljubljana:20240528T140000
DTEND;TZID=Europe/Ljubljana:20240528T150000
DTSTAMP:20260422T103220Z
UID:ag-AFLABS-URNIK:premaknjeno-srecanje:17069
ATTENDEE:Tuba (1 - GU1)
ATTENDEE:Tuba (2 - GU1)
ATTENDEE:Tuba (3 - GU1)
CATEGORIES:Entry,Standard
COLOR:darkgreen
DESCRIPTION:Predmet: Tuba 3 (B4303) B (TUBA )\, predavanja (PRE)\nLetniki:
  Tuba (1 - GU1)\, Tuba (2 - GU1)\, Tuba (3 - GU1)\nIzvajalci: Tina Gašper
 šič Kralj\nProstor: V.12
LOCATION:V.12
ORGANIZER:Tina Gašperšič Kralj
RELATED-TO:ag-AFLABS-URNIK:srecanje:769
X-WR-TIMEZONE:Europe/Ljubljana
END:VEVENT
BEGIN:VEVENT
SUMMARY:Komplementarni klavir C3 (B2239) B (KOMPL)\, predavanja (PRE)
DTSTART;TZID=Europe/Ljubljana:20240521T150000
DTEND;TZID=Europe/Ljubljana:20240521T160000
DTSTAMP:20260422T103220Z
UID:ag-AFLABS-URNIK:premaknjeno-srecanje:15966
ATTENDEE:3. letnik (3 - GP1)
ATTENDEE:3. letnik (3 - GU1)
CATEGORIES:Entry,Standard
COLOR:darkgreen
DESCRIPTION:Predmet: Komplementarni klavir C3 (B2239) B (KOMPL)\, predavan
 ja (PRE)\nLetniki: 3. letnik (3 - GP1)\, 3. letnik (3 - GU1)\nIzvajalci: T
 ina Gašperšič Kralj\nProstor: V.12
LOCATION:V.12
ORGANIZER:Tina Gašperšič Kralj
RELATED-TO:ag-AFLABS-URNIK:srecanje:796
X-WR-TIMEZONE:Europe/Ljubljana
END:VEVENT
BEGIN:VEVENT
SUMMARY:Komplementarni klavir C3 (B2239) B (KOMPL)\, predavanja (PRE)
DTSTART;TZID=Europe/Ljubljana:20240528T150000
DTEND;TZID=Europe/Ljubljana:20240528T160000
DTSTAMP:20260422T103220Z
UID:ag-AFLABS-URNIK:premaknjeno-srecanje:17096
ATTENDEE:3. letnik (3 - GP1)
ATTENDEE:3. letnik (3 - GU1)
CATEGORIES:Entry,Standard
COLOR:darkgreen
DESCRIPTION:Predmet: Komplementarni klavir C3 (B2239) B (KOMPL)\, predavan
 ja (PRE)\nLetniki: 3. letnik (3 - GP1)\, 3. letnik (3 - GU1)\nIzvajalci: T
 ina Gašperšič Kralj\nProstor: V.12
LOCATION:V.12
ORGANIZER:Tina Gašperšič Kralj
RELATED-TO:ag-AFLABS-URNIK:srecanje:796
X-WR-TIMEZONE:Europe/Ljubljana
END:VEVENT
BEGIN:VEVENT
SUMMARY:Tuba 1 (B4300) B (TUBA )\, predavanja (PRE)
DTSTART;TZID=Europe/Ljubljana:20240521T160000
DTEND;TZID=Europe/Ljubljana:20240521T170000
DTSTAMP:20260422T103220Z
UID:ag-AFLABS-URNIK:premaknjeno-srecanje:16006
ATTENDEE:Tuba (1 - GU1)
ATTENDEE:Tuba (2 - GU1)
ATTENDEE:Tuba (3 - GU1)
CATEGORIES:Entry,Standard
COLOR:darkgreen
DESCRIPTION:Predmet: Tuba 1 (B4300) B (TUBA )\, predavanja (PRE)\nLetniki:
  Tuba (1 - GU1)\, Tuba (2 - GU1)\, Tuba (3 - GU1)\nIzvajalci: Tina Gašper
 šič Kralj\nProstor: V.12
LOCATION:V.12
ORGANIZER:Tina Gašperšič Kralj
RELATED-TO:ag-AFLABS-URNIK:srecanje:836
X-WR-TIMEZONE:Europe/Ljubljana
END:VEVENT
BEGIN:VEVENT
SUMMARY:Tuba 1 (B4300) B (TUBA )\, predavanja (PRE)
DTSTART;TZID=Europe/Ljubljana:20240528T160000
DTEND;TZID=Europe/Ljubljana:20240528T170000
DTSTAMP:20260422T103220Z
UID:ag-AFLABS-URNIK:premaknjeno-srecanje:17132
ATTENDEE:Tuba (1 - GU1)
ATTENDEE:Tuba (2 - GU1)
ATTENDEE:Tuba (3 - GU1)
CATEGORIES:Entry,Standard
COLOR:darkgreen
DESCRIPTION:Predmet: Tuba 1 (B4300) B (TUBA )\, predavanja (PRE)\nLetniki:
  Tuba (1 - GU1)\, Tuba (2 - GU1)\, Tuba (3 - GU1)\nIzvajalci: Tina Gašper
 šič Kralj\nProstor: V.12
LOCATION:V.12
ORGANIZER:Tina Gašperšič Kralj
RELATED-TO:ag-AFLABS-URNIK:srecanje:836
X-WR-TIMEZONE:Europe/Ljubljana
END:VEVENT
BEGIN:VEVENT
SUMMARY:Tuba 1 (B4300) B (TUBA )\, predavanja (PRE)
DTSTART;TZID=Europe/Ljubljana:20240522T120000
DTEND;TZID=Europe/Ljubljana:20240522T130000
DTSTAMP:20260422T103220Z
UID:ag-AFLABS-URNIK:premaknjeno-srecanje:16201
ATTENDEE:Tuba (1 - GU1)
ATTENDEE:Tuba (2 - GU1)
ATTENDEE:Tuba (3 - GU1)
CATEGORIES:Entry,Standard
COLOR:darkgreen
DESCRIPTION:Predmet: Tuba 1 (B4300) B (TUBA )\, predavanja (PRE)\nLetniki:
  Tuba (1 - GU1)\, Tuba (2 - GU1)\, Tuba (3 - GU1)\nIzvajalci: Tina Gašper
 šič Kralj\nProstor: V.12
LOCATION:V.12
ORGANIZER:Tina Gašperšič Kralj
RELATED-TO:ag-AFLABS-URNIK:srecanje:1031
X-WR-TIMEZONE:Europe/Ljubljana
END:VEVENT
BEGIN:VEVENT
SUMMARY:Tuba 1 (B4300) B (TUBA )\, predavanja (PRE)
DTSTART;TZID=Europe/Ljubljana:20240529T120000
DTEND;TZID=Europe/Ljubljana:20240529T130000
DTSTAMP:20260422T103220Z
UID:ag-AFLABS-URNIK:premaknjeno-srecanje:17303
ATTENDEE:Tuba (1 - GU1)
ATTENDEE:Tuba (2 - GU1)
ATTENDEE:Tuba (3 - GU1)
CATEGORIES:Entry,Standard
COLOR:darkgreen
DESCRIPTION:Predmet: Tuba 1 (B4300) B (TUBA )\, predavanja (PRE)\nLetniki:
  Tuba (1 - GU1)\, Tuba (2 - GU1)\, Tuba (3 - GU1)\nIzvajalci: Tina Gašper
 šič Kralj\nProstor: V.12
LOCATION:V.12
ORGANIZER:Tina Gašperšič Kralj
RELATED-TO:ag-AFLABS-URNIK:srecanje:1031
X-WR-TIMEZONE:Europe/Ljubljana
END:VEVENT
BEGIN:VEVENT
SUMMARY:Tuba M2 (GU2-085) B2 (TUBA )\, predavanja (PRE)
DTSTART;TZID=Europe/Ljubljana:20240522T130000
DTEND;TZID=Europe/Ljubljana:20240522T140000
DTSTAMP:20260422T103220Z
UID:ag-AFLABS-URNIK:premaknjeno-srecanje:16223
ATTENDEE:Tuba (1 - GU2)
ATTENDEE:Tuba (2 - GU2)
CATEGORIES:Entry,Standard
COLOR:darkgreen
DESCRIPTION:Predmet: Tuba M2 (GU2-085) B2 (TUBA )\, predavanja (PRE)\nLetn
 iki: Tuba (1 - GU2)\, Tuba (2 - GU2)\nIzvajalci: Tina Gašperšič Kralj\n
 Prostor: V.12
LOCATION:V.12
ORGANIZER:Tina Gašperšič Kralj
RELATED-TO:ag-AFLABS-URNIK:srecanje:1053
X-WR-TIMEZONE:Europe/Ljubljana
END:VEVENT
BEGIN:VEVENT
SUMMARY:Tuba M2 (GU2-085) B2 (TUBA )\, predavanja (PRE)
DTSTART;TZID=Europe/Ljubljana:20240529T130000
DTEND;TZID=Europe/Ljubljana:20240529T140000
DTSTAMP:20260422T103220Z
UID:ag-AFLABS-URNIK:premaknjeno-srecanje:17321
ATTENDEE:Tuba (1 - GU2)
ATTENDEE:Tuba (2 - GU2)
CATEGORIES:Entry,Standard
COLOR:darkgreen
DESCRIPTION:Predmet: Tuba M2 (GU2-085) B2 (TUBA )\, predavanja (PRE)\nLetn
 iki: Tuba (1 - GU2)\, Tuba (2 - GU2)\nIzvajalci: Tina Gašperšič Kralj\n
 Prostor: V.12
LOCATION:V.12
ORGANIZER:Tina Gašperšič Kralj
RELATED-TO:ag-AFLABS-URNIK:srecanje:1053
X-WR-TIMEZONE:Europe/Ljubljana
END:VEVENT
BEGIN:VEVENT
SUMMARY:Tuba 2 (B4302) B (TUBA )\, predavanja (PRE)
DTSTART;TZID=Europe/Ljubljana:20240522T140000
DTEND;TZID=Europe/Ljubljana:20240522T150000
DTSTAMP:20260422T103220Z
UID:ag-AFLABS-URNIK:premaknjeno-srecanje:16241
ATTENDEE:Tuba (1 - GU1)
ATTENDEE:Tuba (2 - GU1)
ATTENDEE:Tuba (3 - GU1)
CATEGORIES:Entry,Standard
COLOR:darkgreen
DESCRIPTION:Predmet: Tuba 2 (B4302) B (TUBA )\, predavanja (PRE)\nLetniki:
  Tuba (1 - GU1)\, Tuba (2 - GU1)\, Tuba (3 - GU1)\nIzvajalci: Tina Gašper
 šič Kralj\nProstor: V.12
LOCATION:V.12
ORGANIZER:Tina Gašperšič Kralj
RELATED-TO:ag-AFLABS-URNIK:srecanje:1071
X-WR-TIMEZONE:Europe/Ljubljana
END:VEVENT
BEGIN:VEVENT
SUMMARY:Tuba 2 (B4302) B (TUBA )\, predavanja (PRE)
DTSTART;TZID=Europe/Ljubljana:20240529T140000
DTEND;TZID=Europe/Ljubljana:20240529T150000
DTSTAMP:20260422T103220Z
UID:ag-AFLABS-URNIK:premaknjeno-srecanje:17336
ATTENDEE:Tuba (1 - GU1)
ATTENDEE:Tuba (2 - GU1)
ATTENDEE:Tuba (3 - GU1)
CATEGORIES:Entry,Standard
COLOR:darkgreen
DESCRIPTION:Predmet: Tuba 2 (B4302) B (TUBA )\, predavanja (PRE)\nLetniki:
  Tuba (1 - GU1)\, Tuba (2 - GU1)\, Tuba (3 - GU1)\nIzvajalci: Tina Gašper
 šič Kralj\nProstor: V.12
LOCATION:V.12
ORGANIZER:Tina Gašperšič Kralj
RELATED-TO:ag-AFLABS-URNIK:srecanje:1071
X-WR-TIMEZONE:Europe/Ljubljana
END:VEVENT
BEGIN:VEVENT
SUMMARY:Tuba 3 (B4303) B (TUBA )\, predavanja (PRE)
DTSTART;TZID=Europe/Ljubljana:20240523T100000
DTEND;TZID=Europe/Ljubljana:20240523T113000
DTSTAMP:20260422T103220Z
UID:ag-AFLABS-URNIK:premaknjeno-srecanje:16386
ATTENDEE:Tuba (1 - GU1)
ATTENDEE:Tuba (2 - GU1)
ATTENDEE:Tuba (3 - GU1)
CATEGORIES:Entry,Standard
COLOR:darkgreen
DESCRIPTION:Predmet: Tuba 3 (B4303) B (TUBA )\, predavanja (PRE)\nLetniki:
  Tuba (1 - GU1)\, Tuba (2 - GU1)\, Tuba (3 - GU1)\nIzvajalci: Tina Gašper
 šič Kralj\nProstor: V.12
LOCATION:V.12
ORGANIZER:Tina Gašperšič Kralj
RELATED-TO:ag-AFLABS-URNIK:srecanje:49
X-WR-TIMEZONE:Europe/Ljubljana
END:VEVENT
BEGIN:VEVENT
SUMMARY:Tuba 3 (B4303) B (TUBA )\, predavanja (PRE)
DTSTART;TZID=Europe/Ljubljana:20240530T100000
DTEND;TZID=Europe/Ljubljana:20240530T113000
DTSTAMP:20260422T103220Z
UID:ag-AFLABS-URNIK:premaknjeno-srecanje:17459
ATTENDEE:Tuba (1 - GU1)
ATTENDEE:Tuba (2 - GU1)
ATTENDEE:Tuba (3 - GU1)
CATEGORIES:Entry,Standard
COLOR:darkgreen
DESCRIPTION:Predmet: Tuba 3 (B4303) B (TUBA )\, predavanja (PRE)\nLetniki:
  Tuba (1 - GU1)\, Tuba (2 - GU1)\, Tuba (3 - GU1)\nIzvajalci: Tina Gašper
 šič Kralj\nProstor: V.12
LOCATION:V.12
ORGANIZER:Tina Gašperšič Kralj
RELATED-TO:ag-AFLABS-URNIK:srecanje:49
X-WR-TIMEZONE:Europe/Ljubljana
END:VEVENT
BEGIN:VEVENT
SUMMARY:Tuba M1 (GU2-070) B2 (TUBA )\, predavanja (PRE)
DTSTART;TZID=Europe/Ljubljana:20240523T113000
DTEND;TZID=Europe/Ljubljana:20240523T123000
DTSTAMP:20260422T103220Z
UID:ag-AFLABS-URNIK:premaknjeno-srecanje:16436
ATTENDEE:Tuba (1 - GU2)
ATTENDEE:Tuba (2 - GU2)
CATEGORIES:Entry,Standard
COLOR:darkgreen
DESCRIPTION:Predmet: Tuba M1 (GU2-070) B2 (TUBA )\, predavanja (PRE)\nLetn
 iki: Tuba (1 - GU2)\, Tuba (2 - GU2)\nIzvajalci: Tina Gašperšič Kralj\n
 Prostor: V.12
LOCATION:V.12
ORGANIZER:Tina Gašperšič Kralj
RELATED-TO:ag-AFLABS-URNIK:srecanje:99
X-WR-TIMEZONE:Europe/Ljubljana
END:VEVENT
BEGIN:VEVENT
SUMMARY:Tuba M1 (GU2-070) B2 (TUBA )\, predavanja (PRE)
DTSTART;TZID=Europe/Ljubljana:20240530T113000
DTEND;TZID=Europe/Ljubljana:20240530T123000
DTSTAMP:20260422T103220Z
UID:ag-AFLABS-URNIK:premaknjeno-srecanje:17497
ATTENDEE:Tuba (1 - GU2)
ATTENDEE:Tuba (2 - GU2)
CATEGORIES:Entry,Standard
COLOR:darkgreen
DESCRIPTION:Predmet: Tuba M1 (GU2-070) B2 (TUBA )\, predavanja (PRE)\nLetn
 iki: Tuba (1 - GU2)\, Tuba (2 - GU2)\nIzvajalci: Tina Gašperšič Kralj\n
 Prostor: V.12
LOCATION:V.12
ORGANIZER:Tina Gašperšič Kralj
RELATED-TO:ag-AFLABS-URNIK:srecanje:99
X-WR-TIMEZONE:Europe/Ljubljana
END:VEVENT
BEGIN:VEVENT
SUMMARY:Komplementarni klavir C1 (B2237) B (KOMPL)\, predavanja (PRE)
DTSTART;TZID=Europe/Ljubljana:20240523T123000
DTEND;TZID=Europe/Ljubljana:20240523T133000
DTSTAMP:20260422T103220Z
UID:ag-AFLABS-URNIK:premaknjeno-srecanje:16472
ATTENDEE:1. letnik (1 - GP1)
ATTENDEE:1. letnik (1 - GU1)
CATEGORIES:Entry,Standard
COLOR:darkgreen
DESCRIPTION:Predmet: Komplementarni klavir C1 (B2237) B (KOMPL)\, predavan
 ja (PRE)\nLetniki: 1. letnik (1 - GP1)\, 1. letnik (1 - GU1)\nIzvajalci: T
 ina Gašperšič Kralj\nProstor: V.12
LOCATION:V.12
ORGANIZER:Tina Gašperšič Kralj
RELATED-TO:ag-AFLABS-URNIK:srecanje:135
X-WR-TIMEZONE:Europe/Ljubljana
END:VEVENT
BEGIN:VEVENT
SUMMARY:Komplementarni klavir C1 (B2237) B (KOMPL)\, predavanja (PRE)
DTSTART;TZID=Europe/Ljubljana:20240530T123000
DTEND;TZID=Europe/Ljubljana:20240530T133000
DTSTAMP:20260422T103220Z
UID:ag-AFLABS-URNIK:premaknjeno-srecanje:17527
ATTENDEE:1. letnik (1 - GP1)
ATTENDEE:1. letnik (1 - GU1)
CATEGORIES:Entry,Standard
COLOR:darkgreen
DESCRIPTION:Predmet: Komplementarni klavir C1 (B2237) B (KOMPL)\, predavan
 ja (PRE)\nLetniki: 1. letnik (1 - GP1)\, 1. letnik (1 - GU1)\nIzvajalci: T
 ina Gašperšič Kralj\nProstor: V.12
LOCATION:V.12
ORGANIZER:Tina Gašperšič Kralj
RELATED-TO:ag-AFLABS-URNIK:srecanje:135
X-WR-TIMEZONE:Europe/Ljubljana
END:VEVENT
BEGIN:VEVENT
SUMMARY:Komplementarni klavir C1 (B2237) B (KOMPL)\, predavanja (PRE)
DTSTART;TZID=Europe/Ljubljana:20240523T133000
DTEND;TZID=Europe/Ljubljana:20240523T143000
DTSTAMP:20260422T103220Z
UID:ag-AFLABS-URNIK:premaknjeno-srecanje:16497
ATTENDEE:1. letnik (1 - GP1)
ATTENDEE:1. letnik (1 - GU1)
CATEGORIES:Entry,Standard
COLOR:darkgreen
DESCRIPTION:Predmet: Komplementarni klavir C1 (B2237) B (KOMPL)\, predavan
 ja (PRE)\nLetniki: 1. letnik (1 - GP1)\, 1. letnik (1 - GU1)\nIzvajalci: T
 ina Gašperšič Kralj\nProstor: V.12
LOCATION:V.12
ORGANIZER:Tina Gašperšič Kralj
RELATED-TO:ag-AFLABS-URNIK:srecanje:160
X-WR-TIMEZONE:Europe/Ljubljana
END:VEVENT
BEGIN:VEVENT
SUMMARY:Komplementarni klavir C1 (B2237) B (KOMPL)\, predavanja (PRE)
DTSTART;TZID=Europe/Ljubljana:20240530T133000
DTEND;TZID=Europe/Ljubljana:20240530T143000
DTSTAMP:20260422T103220Z
UID:ag-AFLABS-URNIK:premaknjeno-srecanje:17549
ATTENDEE:1. letnik (1 - GP1)
ATTENDEE:1. letnik (1 - GU1)
CATEGORIES:Entry,Standard
COLOR:darkgreen
DESCRIPTION:Predmet: Komplementarni klavir C1 (B2237) B (KOMPL)\, predavan
 ja (PRE)\nLetniki: 1. letnik (1 - GP1)\, 1. letnik (1 - GU1)\nIzvajalci: T
 ina Gašperšič Kralj\nProstor: V.12
LOCATION:V.12
ORGANIZER:Tina Gašperšič Kralj
RELATED-TO:ag-AFLABS-URNIK:srecanje:160
X-WR-TIMEZONE:Europe/Ljubljana
END:VEVENT
BEGIN:VEVENT
SUMMARY:Komplementarni klavir C1 (B2237) B (KOMPL)\, predavanja (PRE)
DTSTART;TZID=Europe/Ljubljana:20240523T143000
DTEND;TZID=Europe/Ljubljana:20240523T153000
DTSTAMP:20260422T103220Z
UID:ag-AFLABS-URNIK:premaknjeno-srecanje:16515
ATTENDEE:1. letnik (1 - GP1)
ATTENDEE:1. letnik (1 - GU1)
CATEGORIES:Entry,Standard
COLOR:darkgreen
DESCRIPTION:Predmet: Komplementarni klavir C1 (B2237) B (KOMPL)\, predavan
 ja (PRE)\nLetniki: 1. letnik (1 - GP1)\, 1. letnik (1 - GU1)\nIzvajalci: T
 ina Gašperšič Kralj\nProstor: V.12
LOCATION:V.12
ORGANIZER:Tina Gašperšič Kralj
RELATED-TO:ag-AFLABS-URNIK:srecanje:178
X-WR-TIMEZONE:Europe/Ljubljana
END:VEVENT
BEGIN:VEVENT
SUMMARY:Komplementarni klavir C1 (B2237) B (KOMPL)\, predavanja (PRE)
DTSTART;TZID=Europe/Ljubljana:20240530T143000
DTEND;TZID=Europe/Ljubljana:20240530T153000
DTSTAMP:20260422T103220Z
UID:ag-AFLABS-URNIK:premaknjeno-srecanje:17566
ATTENDEE:1. letnik (1 - GP1)
ATTENDEE:1. letnik (1 - GU1)
CATEGORIES:Entry,Standard
COLOR:darkgreen
DESCRIPTION:Predmet: Komplementarni klavir C1 (B2237) B (KOMPL)\, predavan
 ja (PRE)\nLetniki: 1. letnik (1 - GP1)\, 1. letnik (1 - GU1)\nIzvajalci: T
 ina Gašperšič Kralj\nProstor: V.12
LOCATION:V.12
ORGANIZER:Tina Gašperšič Kralj
RELATED-TO:ag-AFLABS-URNIK:srecanje:178
X-WR-TIMEZONE:Europe/Ljubljana
END:VEVENT
BEGIN:VEVENT
SUMMARY:Govorilna ura
DTSTART;TZID=Europe/Ljubljana:20240527T140000
DTEND;TZID=Europe/Ljubljana:20240527T150000
DTSTAMP:20260422T103220Z
UID:ag-AFLABS-URNIK:rezervacija:525
CATEGORIES:Reservation
COLOR:royalblue
DESCRIPTION:Predmeti: \nLetniki: \nIzvajalci: Tina Gašperšič Kralj\nPro
 stori: 2N.21 UČILNICA - KOREPETICIJE
LOCATION:2N.21 UČILNICA - KOREPETICIJE
ORGANIZER:Tina Gašperšič Kralj
X-WR-TIMEZONE:Europe/Ljubljana
END:VEVENT
BEGIN:VEVENT
SUMMARY:Govorilna ura
DTSTART;TZID=Europe/Ljubljana:20240520T140000
DTEND;TZID=Europe/Ljubljana:20240520T150000
DTSTAMP:20260422T103220Z
UID:ag-AFLABS-URNIK:rezervacija:489
CATEGORIES:Reservation
COLOR:royalblue
DESCRIPTION:Predmeti: \nLetniki: \nIzvajalci: Tina Gašperšič Kralj\nPro
 stori: 2N.21 UČILNICA - KOREPETICIJE
LOCATION:2N.21 UČILNICA - KOREPETICIJE
ORGANIZER:Tina Gašperšič Kralj
X-WR-TIMEZONE:Europe/Ljubljana
END:VEVENT
END:VCALENDAR
