BEGIN:VCALENDAR
VERSION:2.0
PRODID:-//AFLabs urnik izvoz - ag//aflabs.si//SI
DTSTAMP:20260420T064315Z
NAME:UL AG Urnik
REFRESH-INTERVAL:PT1H
SOURCE:https://urnik.ag.uni-lj.si/teacher/35?day=2024-07-01&export=1
URL:https://urnik.ag.uni-lj.si/teacher/35?day=2024-07-01&export=1
X-PUBLISHED-TTL:PT1H
X-WR-CALNAME:UL AG Urnik
X-WR-TIMEZONE:Europe/Ljubljana
BEGIN:VTIMEZONE
TZID:Europe/Ljubljana
BEGIN:DAYLIGHT
DTSTART:20260329T020000
RDATE:20260329T020000
RDATE:20270328T020000
TZNAME:CEST
TZOFFSETFROM:+0100
TZOFFSETTO:+0200
END:DAYLIGHT
BEGIN:STANDARD
DTSTART:20261025T030000
RDATE:20261025T030000
RDATE:20271031T030000
TZNAME:CET
TZOFFSETFROM:+0200
TZOFFSETTO:+0100
END:STANDARD
END:VTIMEZONE
BEGIN:VEVENT
SUMMARY:Petje 2 (B2413) B (PETJE)\, predavanja (PRE)
DTSTART;TZID=Europe/Ljubljana:20240528T121500
DTEND;TZID=Europe/Ljubljana:20240528T130000
DTSTAMP:20260420T064315Z
UID:ag-AFLABS-URNIK:premaknjeno-srecanje:17031
ATTENDEE:Petje (1 - GU1)
ATTENDEE:Petje (2 - GU1)
ATTENDEE:Petje (3 - GU1)
CATEGORIES:Entry,Standard
COLOR:darkgreen
DESCRIPTION:Predmet: Petje 2 (B2413) B (PETJE)\, predavanja (PRE)\nLetniki
 : Petje (1 - GU1)\, Petje (2 - GU1)\, Petje (3 - GU1)\nIzvajalci: Tanja Š
 terman\nProstor: V.15
LOCATION:V.15
ORGANIZER:Tanja Šterman
RELATED-TO:ag-AFLABS-URNIK:srecanje:726
X-WR-TIMEZONE:Europe/Ljubljana
END:VEVENT
BEGIN:VEVENT
SUMMARY:Petje M1 (GU2-026) B2 (PETJE)\, predavanja (PRE)
DTSTART;TZID=Europe/Ljubljana:20240528T140000
DTEND;TZID=Europe/Ljubljana:20240528T144500
DTSTAMP:20260420T064315Z
UID:ag-AFLABS-URNIK:premaknjeno-srecanje:17066
ATTENDEE:Petje (1 - GU2)
ATTENDEE:Petje (2 - GU2)
CATEGORIES:Entry,Standard
COLOR:darkgreen
DESCRIPTION:Predmet: Petje M1 (GU2-026) B2 (PETJE)\, predavanja (PRE)\nLet
 niki: Petje (1 - GU2)\, Petje (2 - GU2)\nIzvajalci: Tanja Šterman\nProsto
 r: M.04 KOREPETICIJE
LOCATION:M.04 KOREPETICIJE
ORGANIZER:Tanja Šterman
RELATED-TO:ag-AFLABS-URNIK:srecanje:766
X-WR-TIMEZONE:Europe/Ljubljana
END:VEVENT
BEGIN:VEVENT
SUMMARY:Petje 3 (B2415) B (PETJE)\, predavanja (PRE)
DTSTART;TZID=Europe/Ljubljana:20240528T144500
DTEND;TZID=Europe/Ljubljana:20240528T153000
DTSTAMP:20260420T064315Z
UID:ag-AFLABS-URNIK:premaknjeno-srecanje:17085
ATTENDEE:Petje (1 - GU1)
ATTENDEE:Petje (2 - GU1)
ATTENDEE:Petje (3 - GU1)
CATEGORIES:Entry,Standard
COLOR:darkgreen
DESCRIPTION:Predmet: Petje 3 (B2415) B (PETJE)\, predavanja (PRE)\nLetniki
 : Petje (1 - GU1)\, Petje (2 - GU1)\, Petje (3 - GU1)\nIzvajalci: Tanja Š
 terman\nProstor: M.04 KOREPETICIJE
LOCATION:M.04 KOREPETICIJE
ORGANIZER:Tanja Šterman
RELATED-TO:ag-AFLABS-URNIK:srecanje:785
X-WR-TIMEZONE:Europe/Ljubljana
END:VEVENT
BEGIN:VEVENT
SUMMARY:Petje 1 (B2400) B (PETJE)\, predavanja (PRE)
DTSTART;TZID=Europe/Ljubljana:20240528T153000
DTEND;TZID=Europe/Ljubljana:20240528T163000
DTSTAMP:20260420T064315Z
UID:ag-AFLABS-URNIK:premaknjeno-srecanje:17114
ATTENDEE:Petje (1 - GU1)
ATTENDEE:Petje (2 - GU1)
ATTENDEE:Petje (3 - GU1)
CATEGORIES:Entry,Standard
COLOR:darkgreen
DESCRIPTION:Predmet: Petje 1 (B2400) B (PETJE)\, predavanja (PRE)\nLetniki
 : Petje (1 - GU1)\, Petje (2 - GU1)\, Petje (3 - GU1)\nIzvajalci: Tanja Š
 terman\nProstor: M.04 KOREPETICIJE
LOCATION:M.04 KOREPETICIJE
ORGANIZER:Tanja Šterman
RELATED-TO:ag-AFLABS-URNIK:srecanje:816
X-WR-TIMEZONE:Europe/Ljubljana
END:VEVENT
BEGIN:VEVENT
SUMMARY:Petje 2 (B2413) B (PETJE)\, predavanja (PRE)
DTSTART;TZID=Europe/Ljubljana:20240528T163000
DTEND;TZID=Europe/Ljubljana:20240528T171500
DTSTAMP:20260420T064315Z
UID:ag-AFLABS-URNIK:premaknjeno-srecanje:17140
ATTENDEE:Petje (1 - GU1)
ATTENDEE:Petje (2 - GU1)
ATTENDEE:Petje (3 - GU1)
CATEGORIES:Entry,Standard
COLOR:darkgreen
DESCRIPTION:Predmet: Petje 2 (B2413) B (PETJE)\, predavanja (PRE)\nLetniki
 : Petje (1 - GU1)\, Petje (2 - GU1)\, Petje (3 - GU1)\nIzvajalci: Tanja Š
 terman\nProstor: M.04 KOREPETICIJE
LOCATION:M.04 KOREPETICIJE
ORGANIZER:Tanja Šterman
RELATED-TO:ag-AFLABS-URNIK:srecanje:844
X-WR-TIMEZONE:Europe/Ljubljana
END:VEVENT
BEGIN:VEVENT
SUMMARY:Petje 3 (B2415) B (PETJE)\, predavanja (PRE)
DTSTART;TZID=Europe/Ljubljana:20240528T171500
DTEND;TZID=Europe/Ljubljana:20240528T180000
DTSTAMP:20260420T064315Z
UID:ag-AFLABS-URNIK:premaknjeno-srecanje:17153
ATTENDEE:Petje (1 - GU1)
ATTENDEE:Petje (2 - GU1)
ATTENDEE:Petje (3 - GU1)
CATEGORIES:Entry,Standard
COLOR:darkgreen
DESCRIPTION:Predmet: Petje 3 (B2415) B (PETJE)\, predavanja (PRE)\nLetniki
 : Petje (1 - GU1)\, Petje (2 - GU1)\, Petje (3 - GU1)\nIzvajalci: Tanja Š
 terman\nProstor: M.04 KOREPETICIJE
LOCATION:M.04 KOREPETICIJE
ORGANIZER:Tanja Šterman
RELATED-TO:ag-AFLABS-URNIK:srecanje:858
X-WR-TIMEZONE:Europe/Ljubljana
END:VEVENT
BEGIN:VEVENT
SUMMARY:Violina 1 (B3100) B (VIOLI)\, predavanja (PRE)
DTSTART;TZID=Europe/Ljubljana:20240529T100000
DTEND;TZID=Europe/Ljubljana:20240529T104500
DTSTAMP:20260420T064315Z
UID:ag-AFLABS-URNIK:premaknjeno-srecanje:17243
ATTENDEE:Violina (1 - GU1)
ATTENDEE:Violina (2 - GU1)
ATTENDEE:Violina (3 - GU1)
CATEGORIES:Entry,Standard
COLOR:darkgreen
DESCRIPTION:Predmet: Violina 1 (B3100) B (VIOLI)\, predavanja (PRE)\nLetni
 ki: Violina (1 - GU1)\, Violina (2 - GU1)\, Violina (3 - GU1)\nIzvajalci: 
 Tanja Šterman\nProstor: V.14
LOCATION:V.14
ORGANIZER:Tanja Šterman
RELATED-TO:ag-AFLABS-URNIK:srecanje:959
X-WR-TIMEZONE:Europe/Ljubljana
END:VEVENT
BEGIN:VEVENT
SUMMARY:Petje 2 (B2413) B (PETJE)\, predavanja (PRE)
DTSTART;TZID=Europe/Ljubljana:20240529T104500
DTEND;TZID=Europe/Ljubljana:20240529T113000
DTSTAMP:20260420T064315Z
UID:ag-AFLABS-URNIK:premaknjeno-srecanje:17265
ATTENDEE:Petje (1 - GU1)
ATTENDEE:Petje (2 - GU1)
ATTENDEE:Petje (3 - GU1)
CATEGORIES:Entry,Standard
COLOR:darkgreen
DESCRIPTION:Predmet: Petje 2 (B2413) B (PETJE)\, predavanja (PRE)\nLetniki
 : Petje (1 - GU1)\, Petje (2 - GU1)\, Petje (3 - GU1)\nIzvajalci: Tanja Š
 terman\nProstor: V.14
LOCATION:V.14
ORGANIZER:Tanja Šterman
RELATED-TO:ag-AFLABS-URNIK:srecanje:987
X-WR-TIMEZONE:Europe/Ljubljana
END:VEVENT
BEGIN:VEVENT
SUMMARY:Petje M2 (GU2-030) B2 (PETJE)\, predavanja (PRE)
DTSTART;TZID=Europe/Ljubljana:20240529T113000
DTEND;TZID=Europe/Ljubljana:20240529T121500
DTSTAMP:20260420T064315Z
UID:ag-AFLABS-URNIK:premaknjeno-srecanje:17290
ATTENDEE:Petje (1 - GU2)
ATTENDEE:Petje (2 - GU2)
CATEGORIES:Entry,Standard
COLOR:darkgreen
DESCRIPTION:Predmet: Petje M2 (GU2-030) B2 (PETJE)\, predavanja (PRE)\nLet
 niki: Petje (1 - GU2)\, Petje (2 - GU2)\nIzvajalci: Tanja Šterman\nProsto
 r: V.14
LOCATION:V.14
ORGANIZER:Tanja Šterman
RELATED-TO:ag-AFLABS-URNIK:srecanje:1016
X-WR-TIMEZONE:Europe/Ljubljana
END:VEVENT
BEGIN:VEVENT
SUMMARY:Petje M2 (GU2-030) B2 (PETJE)\, predavanja (PRE)
DTSTART;TZID=Europe/Ljubljana:20240529T121500
DTEND;TZID=Europe/Ljubljana:20240529T130000
DTSTAMP:20260420T064315Z
UID:ag-AFLABS-URNIK:premaknjeno-srecanje:17306
ATTENDEE:Petje (1 - GU2)
ATTENDEE:Petje (2 - GU2)
CATEGORIES:Entry,Standard
COLOR:darkgreen
DESCRIPTION:Predmet: Petje M2 (GU2-030) B2 (PETJE)\, predavanja (PRE)\nLet
 niki: Petje (1 - GU2)\, Petje (2 - GU2)\nIzvajalci: Tanja Šterman\nProsto
 r: V.14
LOCATION:V.14
ORGANIZER:Tanja Šterman
RELATED-TO:ag-AFLABS-URNIK:srecanje:1035
X-WR-TIMEZONE:Europe/Ljubljana
END:VEVENT
BEGIN:VEVENT
SUMMARY:Petje M1 (GU2-026) B2 (PETJE)\, predavanja (PRE)
DTSTART;TZID=Europe/Ljubljana:20240529T180000
DTEND;TZID=Europe/Ljubljana:20240529T190000
DTSTAMP:20260420T064315Z
UID:ag-AFLABS-URNIK:premaknjeno-srecanje:17411
ATTENDEE:Petje (1 - GU2)
ATTENDEE:Petje (2 - GU2)
CATEGORIES:Entry,Standard
COLOR:darkgreen
DESCRIPTION:Predmet: Petje M1 (GU2-026) B2 (PETJE)\, predavanja (PRE)\nLet
 niki: Petje (1 - GU2)\, Petje (2 - GU2)\nIzvajalci: Tanja Šterman\nProsto
 r: V.12
LOCATION:V.12
ORGANIZER:Tanja Šterman
RELATED-TO:ag-AFLABS-URNIK:srecanje:1157
X-WR-TIMEZONE:Europe/Ljubljana
END:VEVENT
BEGIN:VEVENT
SUMMARY:Violina 2 (B3103) B (VIOLI)\, predavanja (PRE)
DTSTART;TZID=Europe/Ljubljana:20240530T153000
DTEND;TZID=Europe/Ljubljana:20240530T161500
DTSTAMP:20260420T064315Z
UID:ag-AFLABS-URNIK:premaknjeno-srecanje:17577
ATTENDEE:Violina (1 - GU1)
ATTENDEE:Violina (2 - GU1)
ATTENDEE:Violina (3 - GU1)
CATEGORIES:Entry,Standard
COLOR:darkgreen
DESCRIPTION:Predmet: Violina 2 (B3103) B (VIOLI)\, predavanja (PRE)\nLetni
 ki: Violina (1 - GU1)\, Violina (2 - GU1)\, Violina (3 - GU1)\nIzvajalci: 
 Tanja Šterman\nProstor: 2N.21 UČILNICA - KOREPETICIJE
LOCATION:2N.21 UČILNICA - KOREPETICIJE
ORGANIZER:Tanja Šterman
RELATED-TO:ag-AFLABS-URNIK:srecanje:193
X-WR-TIMEZONE:Europe/Ljubljana
END:VEVENT
BEGIN:VEVENT
SUMMARY:Violina M1 (GU2-058) B2 (VIOLI)\, predavanja (PRE)
DTSTART;TZID=Europe/Ljubljana:20240530T161500
DTEND;TZID=Europe/Ljubljana:20240530T170000
DTSTAMP:20260420T064315Z
UID:ag-AFLABS-URNIK:premaknjeno-srecanje:17598
ATTENDEE:Violina (1 - GU2)
ATTENDEE:Violina (2 - GU2)
CATEGORIES:Entry,Standard
COLOR:darkgreen
DESCRIPTION:Predmet: Violina M1 (GU2-058) B2 (VIOLI)\, predavanja (PRE)\nL
 etniki: Violina (1 - GU2)\, Violina (2 - GU2)\nIzvajalci: Tanja Šterman\n
 Prostor: 2N.21 UČILNICA - KOREPETICIJE
LOCATION:2N.21 UČILNICA - KOREPETICIJE
ORGANIZER:Tanja Šterman
RELATED-TO:ag-AFLABS-URNIK:srecanje:214
X-WR-TIMEZONE:Europe/Ljubljana
END:VEVENT
END:VCALENDAR
