BEGIN:VCALENDAR
VERSION:2.0
PRODID:-//AFLabs urnik izvoz - ag//aflabs.si//SI
DTSTAMP:20260424T190145Z
NAME:UL AG Urnik
REFRESH-INTERVAL:PT1H
SOURCE:https://urnik.ag.uni-lj.si/teacher/33?day=2026-06-15&export=1
URL:https://urnik.ag.uni-lj.si/teacher/33?day=2026-06-15&export=1
X-PUBLISHED-TTL:PT1H
X-WR-CALNAME:UL AG Urnik
X-WR-TIMEZONE:Europe/Ljubljana
BEGIN:VTIMEZONE
TZID:Europe/Ljubljana
BEGIN:DAYLIGHT
DTSTART:20260329T020000
RDATE:20260329T020000
RDATE:20270328T020000
TZNAME:CEST
TZOFFSETFROM:+0100
TZOFFSETTO:+0200
END:DAYLIGHT
BEGIN:STANDARD
DTSTART:20261025T030000
RDATE:20261025T030000
RDATE:20271031T030000
TZNAME:CET
TZOFFSETFROM:+0200
TZOFFSETTO:+0100
END:STANDARD
END:VTIMEZONE
BEGIN:VEVENT
SUMMARY:Flavta M1 (GU2-062) B2 (FLAVT)\, predavanja (PRE)
DTSTART;TZID=Europe/Ljubljana:20260511T100000
DTEND;TZID=Europe/Ljubljana:20260511T110000
DTSTAMP:20260424T190145Z
UID:ag-AFLABS-URNIK:premaknjeno-srecanje:155318
ATTENDEE:Flavta (1 - GU2)
ATTENDEE:Flavta (2 - GU2)
CATEGORIES:Entry,Standard
COLOR:darkgreen
DESCRIPTION:Predmet: Flavta M1 (GU2-062) B2 (FLAVT)\, predavanja (PRE)\nLe
 tniki: Flavta (1 - GU2)\, Flavta (2 - GU2)\nIzvajalci: Matej Zupan\nProsto
 r: 2N.24 UČILNICA - FLAVTA 2
LOCATION:2N.24 UČILNICA - FLAVTA 2
ORGANIZER:Matej Zupan
RELATED-TO:ag-AFLABS-URNIK:srecanje:3840
X-WR-TIMEZONE:Europe/Ljubljana
END:VEVENT
BEGIN:VEVENT
SUMMARY:Flavta M1 (GU2-062) B2 (FLAVT)\, predavanja (PRE)
DTSTART;TZID=Europe/Ljubljana:20260518T100000
DTEND;TZID=Europe/Ljubljana:20260518T110000
DTSTAMP:20260424T190145Z
UID:ag-AFLABS-URNIK:premaknjeno-srecanje:156423
ATTENDEE:Flavta (1 - GU2)
ATTENDEE:Flavta (2 - GU2)
CATEGORIES:Entry,Standard
COLOR:darkgreen
DESCRIPTION:Predmet: Flavta M1 (GU2-062) B2 (FLAVT)\, predavanja (PRE)\nLe
 tniki: Flavta (1 - GU2)\, Flavta (2 - GU2)\nIzvajalci: Matej Zupan\nProsto
 r: 2N.24 UČILNICA - FLAVTA 2
LOCATION:2N.24 UČILNICA - FLAVTA 2
ORGANIZER:Matej Zupan
RELATED-TO:ag-AFLABS-URNIK:srecanje:3840
X-WR-TIMEZONE:Europe/Ljubljana
END:VEVENT
BEGIN:VEVENT
SUMMARY:Flavta M1 (GU2-062) B2 (FLAVT)\, predavanja (PRE)
DTSTART;TZID=Europe/Ljubljana:20260525T100000
DTEND;TZID=Europe/Ljubljana:20260525T110000
DTSTAMP:20260424T190145Z
UID:ag-AFLABS-URNIK:premaknjeno-srecanje:157528
ATTENDEE:Flavta (1 - GU2)
ATTENDEE:Flavta (2 - GU2)
CATEGORIES:Entry,Standard
COLOR:darkgreen
DESCRIPTION:Predmet: Flavta M1 (GU2-062) B2 (FLAVT)\, predavanja (PRE)\nLe
 tniki: Flavta (1 - GU2)\, Flavta (2 - GU2)\nIzvajalci: Matej Zupan\nProsto
 r: 2N.24 UČILNICA - FLAVTA 2
LOCATION:2N.24 UČILNICA - FLAVTA 2
ORGANIZER:Matej Zupan
RELATED-TO:ag-AFLABS-URNIK:srecanje:3840
X-WR-TIMEZONE:Europe/Ljubljana
END:VEVENT
BEGIN:VEVENT
SUMMARY:Flavta M1 (GU2-062) B2 (FLAVT)\, predavanja (PRE)
DTSTART;TZID=Europe/Ljubljana:20260511T113000
DTEND;TZID=Europe/Ljubljana:20260511T123000
DTSTAMP:20260424T190145Z
UID:ag-AFLABS-URNIK:premaknjeno-srecanje:155367
ATTENDEE:Flavta (1 - GU2)
ATTENDEE:Flavta (2 - GU2)
CATEGORIES:Entry,Standard
COLOR:darkgreen
DESCRIPTION:Predmet: Flavta M1 (GU2-062) B2 (FLAVT)\, predavanja (PRE)\nLe
 tniki: Flavta (1 - GU2)\, Flavta (2 - GU2)\nIzvajalci: Matej Zupan\nProsto
 r: 2N.24 UČILNICA - FLAVTA 2
LOCATION:2N.24 UČILNICA - FLAVTA 2
ORGANIZER:Matej Zupan
RELATED-TO:ag-AFLABS-URNIK:srecanje:3869
X-WR-TIMEZONE:Europe/Ljubljana
END:VEVENT
BEGIN:VEVENT
SUMMARY:Flavta M1 (GU2-062) B2 (FLAVT)\, predavanja (PRE)
DTSTART;TZID=Europe/Ljubljana:20260518T113000
DTEND;TZID=Europe/Ljubljana:20260518T123000
DTSTAMP:20260424T190145Z
UID:ag-AFLABS-URNIK:premaknjeno-srecanje:156472
ATTENDEE:Flavta (1 - GU2)
ATTENDEE:Flavta (2 - GU2)
CATEGORIES:Entry,Standard
COLOR:darkgreen
DESCRIPTION:Predmet: Flavta M1 (GU2-062) B2 (FLAVT)\, predavanja (PRE)\nLe
 tniki: Flavta (1 - GU2)\, Flavta (2 - GU2)\nIzvajalci: Matej Zupan\nProsto
 r: 2N.24 UČILNICA - FLAVTA 2
LOCATION:2N.24 UČILNICA - FLAVTA 2
ORGANIZER:Matej Zupan
RELATED-TO:ag-AFLABS-URNIK:srecanje:3869
X-WR-TIMEZONE:Europe/Ljubljana
END:VEVENT
BEGIN:VEVENT
SUMMARY:Flavta M1 (GU2-062) B2 (FLAVT)\, predavanja (PRE)
DTSTART;TZID=Europe/Ljubljana:20260525T113000
DTEND;TZID=Europe/Ljubljana:20260525T123000
DTSTAMP:20260424T190145Z
UID:ag-AFLABS-URNIK:premaknjeno-srecanje:157577
ATTENDEE:Flavta (1 - GU2)
ATTENDEE:Flavta (2 - GU2)
CATEGORIES:Entry,Standard
COLOR:darkgreen
DESCRIPTION:Predmet: Flavta M1 (GU2-062) B2 (FLAVT)\, predavanja (PRE)\nLe
 tniki: Flavta (1 - GU2)\, Flavta (2 - GU2)\nIzvajalci: Matej Zupan\nProsto
 r: 2N.24 UČILNICA - FLAVTA 2
LOCATION:2N.24 UČILNICA - FLAVTA 2
ORGANIZER:Matej Zupan
RELATED-TO:ag-AFLABS-URNIK:srecanje:3869
X-WR-TIMEZONE:Europe/Ljubljana
END:VEVENT
BEGIN:VEVENT
SUMMARY:Flavta 1 (B3504) B (FLAVT)\, predavanja (PRE)
DTSTART;TZID=Europe/Ljubljana:20260512T100000
DTEND;TZID=Europe/Ljubljana:20260512T110000
DTSTAMP:20260424T190145Z
UID:ag-AFLABS-URNIK:premaknjeno-srecanje:155565
ATTENDEE:Flavta (1 - GU1)
ATTENDEE:Flavta (2 - GU1)
ATTENDEE:Flavta (3 - GU1)
CATEGORIES:Entry,Standard
COLOR:darkgreen
DESCRIPTION:Predmet: Flavta 1 (B3504) B (FLAVT)\, predavanja (PRE)\nLetnik
 i: Flavta (1 - GU1)\, Flavta (2 - GU1)\, Flavta (3 - GU1)\nIzvajalci: Mate
 j Zupan\nProstor: 2N.24 UČILNICA - FLAVTA 2
LOCATION:2N.24 UČILNICA - FLAVTA 2
ORGANIZER:Matej Zupan
RELATED-TO:ag-AFLABS-URNIK:srecanje:3978
X-WR-TIMEZONE:Europe/Ljubljana
END:VEVENT
BEGIN:VEVENT
SUMMARY:Flavta 1 (B3504) B (FLAVT)\, predavanja (PRE)
DTSTART;TZID=Europe/Ljubljana:20260519T100000
DTEND;TZID=Europe/Ljubljana:20260519T110000
DTSTAMP:20260424T190145Z
UID:ag-AFLABS-URNIK:premaknjeno-srecanje:156670
ATTENDEE:Flavta (1 - GU1)
ATTENDEE:Flavta (2 - GU1)
ATTENDEE:Flavta (3 - GU1)
CATEGORIES:Entry,Standard
COLOR:darkgreen
DESCRIPTION:Predmet: Flavta 1 (B3504) B (FLAVT)\, predavanja (PRE)\nLetnik
 i: Flavta (1 - GU1)\, Flavta (2 - GU1)\, Flavta (3 - GU1)\nIzvajalci: Mate
 j Zupan\nProstor: 2N.24 UČILNICA - FLAVTA 2
LOCATION:2N.24 UČILNICA - FLAVTA 2
ORGANIZER:Matej Zupan
RELATED-TO:ag-AFLABS-URNIK:srecanje:3978
X-WR-TIMEZONE:Europe/Ljubljana
END:VEVENT
BEGIN:VEVENT
SUMMARY:Flavta 1 (B3504) B (FLAVT)\, predavanja (PRE)
DTSTART;TZID=Europe/Ljubljana:20260526T100000
DTEND;TZID=Europe/Ljubljana:20260526T110000
DTSTAMP:20260424T190145Z
UID:ag-AFLABS-URNIK:premaknjeno-srecanje:157775
ATTENDEE:Flavta (1 - GU1)
ATTENDEE:Flavta (2 - GU1)
ATTENDEE:Flavta (3 - GU1)
CATEGORIES:Entry,Standard
COLOR:darkgreen
DESCRIPTION:Predmet: Flavta 1 (B3504) B (FLAVT)\, predavanja (PRE)\nLetnik
 i: Flavta (1 - GU1)\, Flavta (2 - GU1)\, Flavta (3 - GU1)\nIzvajalci: Mate
 j Zupan\nProstor: 2N.24 UČILNICA - FLAVTA 2
LOCATION:2N.24 UČILNICA - FLAVTA 2
ORGANIZER:Matej Zupan
RELATED-TO:ag-AFLABS-URNIK:srecanje:3978
X-WR-TIMEZONE:Europe/Ljubljana
END:VEVENT
BEGIN:VEVENT
SUMMARY:Flavta 1 (B3504) B (FLAVT)\, predavanja (PRE)
DTSTART;TZID=Europe/Ljubljana:20260512T113000
DTEND;TZID=Europe/Ljubljana:20260512T123000
DTSTAMP:20260424T190145Z
UID:ag-AFLABS-URNIK:premaknjeno-srecanje:155610
ATTENDEE:Flavta (1 - GU1)
ATTENDEE:Flavta (2 - GU1)
ATTENDEE:Flavta (3 - GU1)
CATEGORIES:Entry,Standard
COLOR:darkgreen
DESCRIPTION:Predmet: Flavta 1 (B3504) B (FLAVT)\, predavanja (PRE)\nLetnik
 i: Flavta (1 - GU1)\, Flavta (2 - GU1)\, Flavta (3 - GU1)\nIzvajalci: Mate
 j Zupan\nProstor: 2N.24 UČILNICA - FLAVTA 2
LOCATION:2N.24 UČILNICA - FLAVTA 2
ORGANIZER:Matej Zupan
RELATED-TO:ag-AFLABS-URNIK:srecanje:4009
X-WR-TIMEZONE:Europe/Ljubljana
END:VEVENT
BEGIN:VEVENT
SUMMARY:Flavta 1 (B3504) B (FLAVT)\, predavanja (PRE)
DTSTART;TZID=Europe/Ljubljana:20260519T113000
DTEND;TZID=Europe/Ljubljana:20260519T123000
DTSTAMP:20260424T190145Z
UID:ag-AFLABS-URNIK:premaknjeno-srecanje:156715
ATTENDEE:Flavta (1 - GU1)
ATTENDEE:Flavta (2 - GU1)
ATTENDEE:Flavta (3 - GU1)
CATEGORIES:Entry,Standard
COLOR:darkgreen
DESCRIPTION:Predmet: Flavta 1 (B3504) B (FLAVT)\, predavanja (PRE)\nLetnik
 i: Flavta (1 - GU1)\, Flavta (2 - GU1)\, Flavta (3 - GU1)\nIzvajalci: Mate
 j Zupan\nProstor: 2N.24 UČILNICA - FLAVTA 2
LOCATION:2N.24 UČILNICA - FLAVTA 2
ORGANIZER:Matej Zupan
RELATED-TO:ag-AFLABS-URNIK:srecanje:4009
X-WR-TIMEZONE:Europe/Ljubljana
END:VEVENT
BEGIN:VEVENT
SUMMARY:Flavta 1 (B3504) B (FLAVT)\, predavanja (PRE)
DTSTART;TZID=Europe/Ljubljana:20260526T113000
DTEND;TZID=Europe/Ljubljana:20260526T123000
DTSTAMP:20260424T190145Z
UID:ag-AFLABS-URNIK:premaknjeno-srecanje:157820
ATTENDEE:Flavta (1 - GU1)
ATTENDEE:Flavta (2 - GU1)
ATTENDEE:Flavta (3 - GU1)
CATEGORIES:Entry,Standard
COLOR:darkgreen
DESCRIPTION:Predmet: Flavta 1 (B3504) B (FLAVT)\, predavanja (PRE)\nLetnik
 i: Flavta (1 - GU1)\, Flavta (2 - GU1)\, Flavta (3 - GU1)\nIzvajalci: Mate
 j Zupan\nProstor: 2N.24 UČILNICA - FLAVTA 2
LOCATION:2N.24 UČILNICA - FLAVTA 2
ORGANIZER:Matej Zupan
RELATED-TO:ag-AFLABS-URNIK:srecanje:4009
X-WR-TIMEZONE:Europe/Ljubljana
END:VEVENT
BEGIN:VEVENT
SUMMARY:Flavta 2 (B3505) B (FLAVT)\, predavanja (PRE)
DTSTART;TZID=Europe/Ljubljana:20260513T100000
DTEND;TZID=Europe/Ljubljana:20260513T110000
DTSTAMP:20260424T190145Z
UID:ag-AFLABS-URNIK:premaknjeno-srecanje:155816
ATTENDEE:Flavta (1 - GU1)
ATTENDEE:Flavta (2 - GU1)
ATTENDEE:Flavta (3 - GU1)
CATEGORIES:Entry,Standard
COLOR:darkgreen
DESCRIPTION:Predmet: Flavta 2 (B3505) B (FLAVT)\, predavanja (PRE)\nLetnik
 i: Flavta (1 - GU1)\, Flavta (2 - GU1)\, Flavta (3 - GU1)\nIzvajalci: Mate
 j Zupan\nProstor: 2N.24 UČILNICA - FLAVTA 2
LOCATION:2N.24 UČILNICA - FLAVTA 2
ORGANIZER:Matej Zupan
RELATED-TO:ag-AFLABS-URNIK:srecanje:4120
X-WR-TIMEZONE:Europe/Ljubljana
END:VEVENT
BEGIN:VEVENT
SUMMARY:Flavta 2 (B3505) B (FLAVT)\, predavanja (PRE)
DTSTART;TZID=Europe/Ljubljana:20260520T100000
DTEND;TZID=Europe/Ljubljana:20260520T110000
DTSTAMP:20260424T190145Z
UID:ag-AFLABS-URNIK:premaknjeno-srecanje:156921
ATTENDEE:Flavta (1 - GU1)
ATTENDEE:Flavta (2 - GU1)
ATTENDEE:Flavta (3 - GU1)
CATEGORIES:Entry,Standard
COLOR:darkgreen
DESCRIPTION:Predmet: Flavta 2 (B3505) B (FLAVT)\, predavanja (PRE)\nLetnik
 i: Flavta (1 - GU1)\, Flavta (2 - GU1)\, Flavta (3 - GU1)\nIzvajalci: Mate
 j Zupan\nProstor: 2N.24 UČILNICA - FLAVTA 2
LOCATION:2N.24 UČILNICA - FLAVTA 2
ORGANIZER:Matej Zupan
RELATED-TO:ag-AFLABS-URNIK:srecanje:4120
X-WR-TIMEZONE:Europe/Ljubljana
END:VEVENT
BEGIN:VEVENT
SUMMARY:Flavta 2 (B3505) B (FLAVT)\, predavanja (PRE)
DTSTART;TZID=Europe/Ljubljana:20260527T100000
DTEND;TZID=Europe/Ljubljana:20260527T110000
DTSTAMP:20260424T190145Z
UID:ag-AFLABS-URNIK:premaknjeno-srecanje:158026
ATTENDEE:Flavta (1 - GU1)
ATTENDEE:Flavta (2 - GU1)
ATTENDEE:Flavta (3 - GU1)
CATEGORIES:Entry,Standard
COLOR:darkgreen
DESCRIPTION:Predmet: Flavta 2 (B3505) B (FLAVT)\, predavanja (PRE)\nLetnik
 i: Flavta (1 - GU1)\, Flavta (2 - GU1)\, Flavta (3 - GU1)\nIzvajalci: Mate
 j Zupan\nProstor: 2N.24 UČILNICA - FLAVTA 2
LOCATION:2N.24 UČILNICA - FLAVTA 2
ORGANIZER:Matej Zupan
RELATED-TO:ag-AFLABS-URNIK:srecanje:4120
X-WR-TIMEZONE:Europe/Ljubljana
END:VEVENT
BEGIN:VEVENT
SUMMARY:Flavta 2 (B3505) B (FLAVT)\, predavanja (PRE)
DTSTART;TZID=Europe/Ljubljana:20260513T113000
DTEND;TZID=Europe/Ljubljana:20260513T123000
DTSTAMP:20260424T190145Z
UID:ag-AFLABS-URNIK:premaknjeno-srecanje:155859
ATTENDEE:Flavta (1 - GU1)
ATTENDEE:Flavta (2 - GU1)
ATTENDEE:Flavta (3 - GU1)
CATEGORIES:Entry,Standard
COLOR:darkgreen
DESCRIPTION:Predmet: Flavta 2 (B3505) B (FLAVT)\, predavanja (PRE)\nLetnik
 i: Flavta (1 - GU1)\, Flavta (2 - GU1)\, Flavta (3 - GU1)\nIzvajalci: Mate
 j Zupan\nProstor: 2N.24 UČILNICA - FLAVTA 2
LOCATION:2N.24 UČILNICA - FLAVTA 2
ORGANIZER:Matej Zupan
RELATED-TO:ag-AFLABS-URNIK:srecanje:4148
X-WR-TIMEZONE:Europe/Ljubljana
END:VEVENT
BEGIN:VEVENT
SUMMARY:Flavta 2 (B3505) B (FLAVT)\, predavanja (PRE)
DTSTART;TZID=Europe/Ljubljana:20260520T113000
DTEND;TZID=Europe/Ljubljana:20260520T123000
DTSTAMP:20260424T190145Z
UID:ag-AFLABS-URNIK:premaknjeno-srecanje:156964
ATTENDEE:Flavta (1 - GU1)
ATTENDEE:Flavta (2 - GU1)
ATTENDEE:Flavta (3 - GU1)
CATEGORIES:Entry,Standard
COLOR:darkgreen
DESCRIPTION:Predmet: Flavta 2 (B3505) B (FLAVT)\, predavanja (PRE)\nLetnik
 i: Flavta (1 - GU1)\, Flavta (2 - GU1)\, Flavta (3 - GU1)\nIzvajalci: Mate
 j Zupan\nProstor: 2N.24 UČILNICA - FLAVTA 2
LOCATION:2N.24 UČILNICA - FLAVTA 2
ORGANIZER:Matej Zupan
RELATED-TO:ag-AFLABS-URNIK:srecanje:4148
X-WR-TIMEZONE:Europe/Ljubljana
END:VEVENT
BEGIN:VEVENT
SUMMARY:Flavta 2 (B3505) B (FLAVT)\, predavanja (PRE)
DTSTART;TZID=Europe/Ljubljana:20260527T113000
DTEND;TZID=Europe/Ljubljana:20260527T123000
DTSTAMP:20260424T190145Z
UID:ag-AFLABS-URNIK:premaknjeno-srecanje:158069
ATTENDEE:Flavta (1 - GU1)
ATTENDEE:Flavta (2 - GU1)
ATTENDEE:Flavta (3 - GU1)
CATEGORIES:Entry,Standard
COLOR:darkgreen
DESCRIPTION:Predmet: Flavta 2 (B3505) B (FLAVT)\, predavanja (PRE)\nLetnik
 i: Flavta (1 - GU1)\, Flavta (2 - GU1)\, Flavta (3 - GU1)\nIzvajalci: Mate
 j Zupan\nProstor: 2N.24 UČILNICA - FLAVTA 2
LOCATION:2N.24 UČILNICA - FLAVTA 2
ORGANIZER:Matej Zupan
RELATED-TO:ag-AFLABS-URNIK:srecanje:4148
X-WR-TIMEZONE:Europe/Ljubljana
END:VEVENT
BEGIN:VEVENT
SUMMARY:Flavta 2 (B3505) B (FLAVT)\, predavanja (PRE)
DTSTART;TZID=Europe/Ljubljana:20260513T130000
DTEND;TZID=Europe/Ljubljana:20260513T140000
DTSTAMP:20260424T190145Z
UID:ag-AFLABS-URNIK:premaknjeno-srecanje:155900
ATTENDEE:Flavta (1 - GU1)
ATTENDEE:Flavta (2 - GU1)
ATTENDEE:Flavta (3 - GU1)
CATEGORIES:Entry,Standard
COLOR:darkgreen
DESCRIPTION:Predmet: Flavta 2 (B3505) B (FLAVT)\, predavanja (PRE)\nLetnik
 i: Flavta (1 - GU1)\, Flavta (2 - GU1)\, Flavta (3 - GU1)\nIzvajalci: Mate
 j Zupan\nProstor: 2N.24 UČILNICA - FLAVTA 2
LOCATION:2N.24 UČILNICA - FLAVTA 2
ORGANIZER:Matej Zupan
RELATED-TO:ag-AFLABS-URNIK:srecanje:4175
X-WR-TIMEZONE:Europe/Ljubljana
END:VEVENT
BEGIN:VEVENT
SUMMARY:Flavta 2 (B3505) B (FLAVT)\, predavanja (PRE)
DTSTART;TZID=Europe/Ljubljana:20260520T130000
DTEND;TZID=Europe/Ljubljana:20260520T140000
DTSTAMP:20260424T190145Z
UID:ag-AFLABS-URNIK:premaknjeno-srecanje:157005
ATTENDEE:Flavta (1 - GU1)
ATTENDEE:Flavta (2 - GU1)
ATTENDEE:Flavta (3 - GU1)
CATEGORIES:Entry,Standard
COLOR:darkgreen
DESCRIPTION:Predmet: Flavta 2 (B3505) B (FLAVT)\, predavanja (PRE)\nLetnik
 i: Flavta (1 - GU1)\, Flavta (2 - GU1)\, Flavta (3 - GU1)\nIzvajalci: Mate
 j Zupan\nProstor: 2N.24 UČILNICA - FLAVTA 2
LOCATION:2N.24 UČILNICA - FLAVTA 2
ORGANIZER:Matej Zupan
RELATED-TO:ag-AFLABS-URNIK:srecanje:4175
X-WR-TIMEZONE:Europe/Ljubljana
END:VEVENT
BEGIN:VEVENT
SUMMARY:Flavta 2 (B3505) B (FLAVT)\, predavanja (PRE)
DTSTART;TZID=Europe/Ljubljana:20260527T130000
DTEND;TZID=Europe/Ljubljana:20260527T140000
DTSTAMP:20260424T190145Z
UID:ag-AFLABS-URNIK:premaknjeno-srecanje:158110
ATTENDEE:Flavta (1 - GU1)
ATTENDEE:Flavta (2 - GU1)
ATTENDEE:Flavta (3 - GU1)
CATEGORIES:Entry,Standard
COLOR:darkgreen
DESCRIPTION:Predmet: Flavta 2 (B3505) B (FLAVT)\, predavanja (PRE)\nLetnik
 i: Flavta (1 - GU1)\, Flavta (2 - GU1)\, Flavta (3 - GU1)\nIzvajalci: Mate
 j Zupan\nProstor: 2N.24 UČILNICA - FLAVTA 2
LOCATION:2N.24 UČILNICA - FLAVTA 2
ORGANIZER:Matej Zupan
RELATED-TO:ag-AFLABS-URNIK:srecanje:4175
X-WR-TIMEZONE:Europe/Ljubljana
END:VEVENT
BEGIN:VEVENT
SUMMARY:Flavta 3 (B3506) B (FLAVT)\, predavanja (PRE)
DTSTART;TZID=Europe/Ljubljana:20260514T100000
DTEND;TZID=Europe/Ljubljana:20260514T110000
DTSTAMP:20260424T190145Z
UID:ag-AFLABS-URNIK:premaknjeno-srecanje:156043
ATTENDEE:Flavta (1 - GU1)
ATTENDEE:Flavta (2 - GU1)
ATTENDEE:Flavta (3 - GU1)
CATEGORIES:Entry,Standard
COLOR:darkgreen
DESCRIPTION:Predmet: Flavta 3 (B3506) B (FLAVT)\, predavanja (PRE)\nLetnik
 i: Flavta (1 - GU1)\, Flavta (2 - GU1)\, Flavta (3 - GU1)\nIzvajalci: Mate
 j Zupan\nProstor: 2N.24 UČILNICA - FLAVTA 2
LOCATION:2N.24 UČILNICA - FLAVTA 2
ORGANIZER:Matej Zupan
RELATED-TO:ag-AFLABS-URNIK:srecanje:4262
X-WR-TIMEZONE:Europe/Ljubljana
END:VEVENT
BEGIN:VEVENT
SUMMARY:Flavta 3 (B3506) B (FLAVT)\, predavanja (PRE)
DTSTART;TZID=Europe/Ljubljana:20260521T100000
DTEND;TZID=Europe/Ljubljana:20260521T110000
DTSTAMP:20260424T190145Z
UID:ag-AFLABS-URNIK:premaknjeno-srecanje:157148
ATTENDEE:Flavta (1 - GU1)
ATTENDEE:Flavta (2 - GU1)
ATTENDEE:Flavta (3 - GU1)
CATEGORIES:Entry,Standard
COLOR:darkgreen
DESCRIPTION:Predmet: Flavta 3 (B3506) B (FLAVT)\, predavanja (PRE)\nLetnik
 i: Flavta (1 - GU1)\, Flavta (2 - GU1)\, Flavta (3 - GU1)\nIzvajalci: Mate
 j Zupan\nProstor: 2N.24 UČILNICA - FLAVTA 2
LOCATION:2N.24 UČILNICA - FLAVTA 2
ORGANIZER:Matej Zupan
RELATED-TO:ag-AFLABS-URNIK:srecanje:4262
X-WR-TIMEZONE:Europe/Ljubljana
END:VEVENT
BEGIN:VEVENT
SUMMARY:Flavta 3 (B3506) B (FLAVT)\, predavanja (PRE)
DTSTART;TZID=Europe/Ljubljana:20260528T100000
DTEND;TZID=Europe/Ljubljana:20260528T110000
DTSTAMP:20260424T190145Z
UID:ag-AFLABS-URNIK:premaknjeno-srecanje:158253
ATTENDEE:Flavta (1 - GU1)
ATTENDEE:Flavta (2 - GU1)
ATTENDEE:Flavta (3 - GU1)
CATEGORIES:Entry,Standard
COLOR:darkgreen
DESCRIPTION:Predmet: Flavta 3 (B3506) B (FLAVT)\, predavanja (PRE)\nLetnik
 i: Flavta (1 - GU1)\, Flavta (2 - GU1)\, Flavta (3 - GU1)\nIzvajalci: Mate
 j Zupan\nProstor: 2N.24 UČILNICA - FLAVTA 2
LOCATION:2N.24 UČILNICA - FLAVTA 2
ORGANIZER:Matej Zupan
RELATED-TO:ag-AFLABS-URNIK:srecanje:4262
X-WR-TIMEZONE:Europe/Ljubljana
END:VEVENT
BEGIN:VEVENT
SUMMARY:Flavta 3 (B3506) B (FLAVT)\, predavanja (PRE)
DTSTART;TZID=Europe/Ljubljana:20260514T113000
DTEND;TZID=Europe/Ljubljana:20260514T123000
DTSTAMP:20260424T190145Z
UID:ag-AFLABS-URNIK:premaknjeno-srecanje:156097
ATTENDEE:Flavta (1 - GU1)
ATTENDEE:Flavta (2 - GU1)
ATTENDEE:Flavta (3 - GU1)
CATEGORIES:Entry,Standard
COLOR:darkgreen
DESCRIPTION:Predmet: Flavta 3 (B3506) B (FLAVT)\, predavanja (PRE)\nLetnik
 i: Flavta (1 - GU1)\, Flavta (2 - GU1)\, Flavta (3 - GU1)\nIzvajalci: Mate
 j Zupan\nProstor: 2N.24 UČILNICA - FLAVTA 2
LOCATION:2N.24 UČILNICA - FLAVTA 2
ORGANIZER:Matej Zupan
RELATED-TO:ag-AFLABS-URNIK:srecanje:4286
X-WR-TIMEZONE:Europe/Ljubljana
END:VEVENT
BEGIN:VEVENT
SUMMARY:Flavta 3 (B3506) B (FLAVT)\, predavanja (PRE)
DTSTART;TZID=Europe/Ljubljana:20260521T113000
DTEND;TZID=Europe/Ljubljana:20260521T123000
DTSTAMP:20260424T190145Z
UID:ag-AFLABS-URNIK:premaknjeno-srecanje:157202
ATTENDEE:Flavta (1 - GU1)
ATTENDEE:Flavta (2 - GU1)
ATTENDEE:Flavta (3 - GU1)
CATEGORIES:Entry,Standard
COLOR:darkgreen
DESCRIPTION:Predmet: Flavta 3 (B3506) B (FLAVT)\, predavanja (PRE)\nLetnik
 i: Flavta (1 - GU1)\, Flavta (2 - GU1)\, Flavta (3 - GU1)\nIzvajalci: Mate
 j Zupan\nProstor: 2N.24 UČILNICA - FLAVTA 2
LOCATION:2N.24 UČILNICA - FLAVTA 2
ORGANIZER:Matej Zupan
RELATED-TO:ag-AFLABS-URNIK:srecanje:4286
X-WR-TIMEZONE:Europe/Ljubljana
END:VEVENT
BEGIN:VEVENT
SUMMARY:Flavta 3 (B3506) B (FLAVT)\, predavanja (PRE)
DTSTART;TZID=Europe/Ljubljana:20260528T113000
DTEND;TZID=Europe/Ljubljana:20260528T123000
DTSTAMP:20260424T190145Z
UID:ag-AFLABS-URNIK:premaknjeno-srecanje:158307
ATTENDEE:Flavta (1 - GU1)
ATTENDEE:Flavta (2 - GU1)
ATTENDEE:Flavta (3 - GU1)
CATEGORIES:Entry,Standard
COLOR:darkgreen
DESCRIPTION:Predmet: Flavta 3 (B3506) B (FLAVT)\, predavanja (PRE)\nLetnik
 i: Flavta (1 - GU1)\, Flavta (2 - GU1)\, Flavta (3 - GU1)\nIzvajalci: Mate
 j Zupan\nProstor: 2N.24 UČILNICA - FLAVTA 2
LOCATION:2N.24 UČILNICA - FLAVTA 2
ORGANIZER:Matej Zupan
RELATED-TO:ag-AFLABS-URNIK:srecanje:4286
X-WR-TIMEZONE:Europe/Ljubljana
END:VEVENT
BEGIN:VEVENT
SUMMARY:Flavta 3 (B3506) B (FLAVT)\, predavanja (PRE)
DTSTART;TZID=Europe/Ljubljana:20260515T100000
DTEND;TZID=Europe/Ljubljana:20260515T110000
DTSTAMP:20260424T190145Z
UID:ag-AFLABS-URNIK:premaknjeno-srecanje:156284
ATTENDEE:Flavta (1 - GU1)
ATTENDEE:Flavta (2 - GU1)
ATTENDEE:Flavta (3 - GU1)
CATEGORIES:Entry,Standard
COLOR:darkgreen
DESCRIPTION:Predmet: Flavta 3 (B3506) B (FLAVT)\, predavanja (PRE)\nLetnik
 i: Flavta (1 - GU1)\, Flavta (2 - GU1)\, Flavta (3 - GU1)\nIzvajalci: Mate
 j Zupan\nProstor: 2N.24 UČILNICA - FLAVTA 2
LOCATION:2N.24 UČILNICA - FLAVTA 2
ORGANIZER:Matej Zupan
RELATED-TO:ag-AFLABS-URNIK:srecanje:4387
X-WR-TIMEZONE:Europe/Ljubljana
END:VEVENT
BEGIN:VEVENT
SUMMARY:Flavta 3 (B3506) B (FLAVT)\, predavanja (PRE)
DTSTART;TZID=Europe/Ljubljana:20260522T100000
DTEND;TZID=Europe/Ljubljana:20260522T110000
DTSTAMP:20260424T190145Z
UID:ag-AFLABS-URNIK:premaknjeno-srecanje:157389
ATTENDEE:Flavta (1 - GU1)
ATTENDEE:Flavta (2 - GU1)
ATTENDEE:Flavta (3 - GU1)
CATEGORIES:Entry,Standard
COLOR:darkgreen
DESCRIPTION:Predmet: Flavta 3 (B3506) B (FLAVT)\, predavanja (PRE)\nLetnik
 i: Flavta (1 - GU1)\, Flavta (2 - GU1)\, Flavta (3 - GU1)\nIzvajalci: Mate
 j Zupan\nProstor: 2N.24 UČILNICA - FLAVTA 2
LOCATION:2N.24 UČILNICA - FLAVTA 2
ORGANIZER:Matej Zupan
RELATED-TO:ag-AFLABS-URNIK:srecanje:4387
X-WR-TIMEZONE:Europe/Ljubljana
END:VEVENT
BEGIN:VEVENT
SUMMARY:Flavta 3 (B3506) B (FLAVT)\, predavanja (PRE)
DTSTART;TZID=Europe/Ljubljana:20260529T100000
DTEND;TZID=Europe/Ljubljana:20260529T110000
DTSTAMP:20260424T190145Z
UID:ag-AFLABS-URNIK:premaknjeno-srecanje:158494
ATTENDEE:Flavta (1 - GU1)
ATTENDEE:Flavta (2 - GU1)
ATTENDEE:Flavta (3 - GU1)
CATEGORIES:Entry,Standard
COLOR:darkgreen
DESCRIPTION:Predmet: Flavta 3 (B3506) B (FLAVT)\, predavanja (PRE)\nLetnik
 i: Flavta (1 - GU1)\, Flavta (2 - GU1)\, Flavta (3 - GU1)\nIzvajalci: Mate
 j Zupan\nProstor: 2N.24 UČILNICA - FLAVTA 2
LOCATION:2N.24 UČILNICA - FLAVTA 2
ORGANIZER:Matej Zupan
RELATED-TO:ag-AFLABS-URNIK:srecanje:4387
X-WR-TIMEZONE:Europe/Ljubljana
END:VEVENT
BEGIN:VEVENT
SUMMARY:Flavta M1 (GU2-062) B2 (FLAVT)\, predavanja (PRE)
DTSTART;TZID=Europe/Ljubljana:20260515T113000
DTEND;TZID=Europe/Ljubljana:20260515T123000
DTSTAMP:20260424T190145Z
UID:ag-AFLABS-URNIK:premaknjeno-srecanje:156329
ATTENDEE:Flavta (1 - GU2)
ATTENDEE:Flavta (2 - GU2)
CATEGORIES:Entry,Standard
COLOR:darkgreen
DESCRIPTION:Predmet: Flavta M1 (GU2-062) B2 (FLAVT)\, predavanja (PRE)\nLe
 tniki: Flavta (1 - GU2)\, Flavta (2 - GU2)\nIzvajalci: Matej Zupan\nProsto
 r: 2N.24 UČILNICA - FLAVTA 2
LOCATION:2N.24 UČILNICA - FLAVTA 2
ORGANIZER:Matej Zupan
RELATED-TO:ag-AFLABS-URNIK:srecanje:4412
X-WR-TIMEZONE:Europe/Ljubljana
END:VEVENT
BEGIN:VEVENT
SUMMARY:Flavta M1 (GU2-062) B2 (FLAVT)\, predavanja (PRE)
DTSTART;TZID=Europe/Ljubljana:20260522T113000
DTEND;TZID=Europe/Ljubljana:20260522T123000
DTSTAMP:20260424T190145Z
UID:ag-AFLABS-URNIK:premaknjeno-srecanje:157434
ATTENDEE:Flavta (1 - GU2)
ATTENDEE:Flavta (2 - GU2)
CATEGORIES:Entry,Standard
COLOR:darkgreen
DESCRIPTION:Predmet: Flavta M1 (GU2-062) B2 (FLAVT)\, predavanja (PRE)\nLe
 tniki: Flavta (1 - GU2)\, Flavta (2 - GU2)\nIzvajalci: Matej Zupan\nProsto
 r: 2N.24 UČILNICA - FLAVTA 2
LOCATION:2N.24 UČILNICA - FLAVTA 2
ORGANIZER:Matej Zupan
RELATED-TO:ag-AFLABS-URNIK:srecanje:4412
X-WR-TIMEZONE:Europe/Ljubljana
END:VEVENT
BEGIN:VEVENT
SUMMARY:Flavta M1 (GU2-062) B2 (FLAVT)\, predavanja (PRE)
DTSTART;TZID=Europe/Ljubljana:20260529T113000
DTEND;TZID=Europe/Ljubljana:20260529T123000
DTSTAMP:20260424T190145Z
UID:ag-AFLABS-URNIK:premaknjeno-srecanje:158539
ATTENDEE:Flavta (1 - GU2)
ATTENDEE:Flavta (2 - GU2)
CATEGORIES:Entry,Standard
COLOR:darkgreen
DESCRIPTION:Predmet: Flavta M1 (GU2-062) B2 (FLAVT)\, predavanja (PRE)\nLe
 tniki: Flavta (1 - GU2)\, Flavta (2 - GU2)\nIzvajalci: Matej Zupan\nProsto
 r: 2N.24 UČILNICA - FLAVTA 2
LOCATION:2N.24 UČILNICA - FLAVTA 2
ORGANIZER:Matej Zupan
RELATED-TO:ag-AFLABS-URNIK:srecanje:4412
X-WR-TIMEZONE:Europe/Ljubljana
END:VEVENT
BEGIN:VEVENT
SUMMARY:Flavta PED-M2 (IPP-34) B2 (FLAVT)\, predavanja (PRE)
DTSTART;TZID=Europe/Ljubljana:20260515T130000
DTEND;TZID=Europe/Ljubljana:20260515T140000
DTSTAMP:20260424T190145Z
UID:ag-AFLABS-URNIK:premaknjeno-srecanje:156358
ATTENDEE:Flavta (1 - IPP)
ATTENDEE:Flavta (2 - IPP)
CATEGORIES:Entry,Standard
COLOR:darkgreen
DESCRIPTION:Predmet: Flavta PED-M2 (IPP-34) B2 (FLAVT)\, predavanja (PRE)\
 nLetniki: Flavta (1 - IPP)\, Flavta (2 - IPP)\nIzvajalci: Matej Zupan\nPro
 stor: 2N.24 UČILNICA - FLAVTA 2
LOCATION:2N.24 UČILNICA - FLAVTA 2
ORGANIZER:Matej Zupan
RELATED-TO:ag-AFLABS-URNIK:srecanje:4429
X-WR-TIMEZONE:Europe/Ljubljana
END:VEVENT
BEGIN:VEVENT
SUMMARY:Flavta PED-M2 (IPP-34) B2 (FLAVT)\, predavanja (PRE)
DTSTART;TZID=Europe/Ljubljana:20260522T130000
DTEND;TZID=Europe/Ljubljana:20260522T140000
DTSTAMP:20260424T190145Z
UID:ag-AFLABS-URNIK:premaknjeno-srecanje:157463
ATTENDEE:Flavta (1 - IPP)
ATTENDEE:Flavta (2 - IPP)
CATEGORIES:Entry,Standard
COLOR:darkgreen
DESCRIPTION:Predmet: Flavta PED-M2 (IPP-34) B2 (FLAVT)\, predavanja (PRE)\
 nLetniki: Flavta (1 - IPP)\, Flavta (2 - IPP)\nIzvajalci: Matej Zupan\nPro
 stor: 2N.24 UČILNICA - FLAVTA 2
LOCATION:2N.24 UČILNICA - FLAVTA 2
ORGANIZER:Matej Zupan
RELATED-TO:ag-AFLABS-URNIK:srecanje:4429
X-WR-TIMEZONE:Europe/Ljubljana
END:VEVENT
BEGIN:VEVENT
SUMMARY:Flavta PED-M2 (IPP-34) B2 (FLAVT)\, predavanja (PRE)
DTSTART;TZID=Europe/Ljubljana:20260529T130000
DTEND;TZID=Europe/Ljubljana:20260529T140000
DTSTAMP:20260424T190145Z
UID:ag-AFLABS-URNIK:premaknjeno-srecanje:158568
ATTENDEE:Flavta (1 - IPP)
ATTENDEE:Flavta (2 - IPP)
CATEGORIES:Entry,Standard
COLOR:darkgreen
DESCRIPTION:Predmet: Flavta PED-M2 (IPP-34) B2 (FLAVT)\, predavanja (PRE)\
 nLetniki: Flavta (1 - IPP)\, Flavta (2 - IPP)\nIzvajalci: Matej Zupan\nPro
 stor: 2N.24 UČILNICA - FLAVTA 2
LOCATION:2N.24 UČILNICA - FLAVTA 2
ORGANIZER:Matej Zupan
RELATED-TO:ag-AFLABS-URNIK:srecanje:4429
X-WR-TIMEZONE:Europe/Ljubljana
END:VEVENT
END:VCALENDAR
