BEGIN:VCALENDAR
VERSION:2.0
PRODID:-//AFLabs urnik izvoz - ag//aflabs.si//SI
DTSTAMP:20260422T005502Z
NAME:UL AG Urnik
REFRESH-INTERVAL:PT1H
SOURCE:https://urnik.ag.uni-lj.si/teacher/30?day=2025-09-15&export=1
URL:https://urnik.ag.uni-lj.si/teacher/30?day=2025-09-15&export=1
X-PUBLISHED-TTL:PT1H
X-WR-CALNAME:UL AG Urnik
X-WR-TIMEZONE:Europe/Ljubljana
BEGIN:VTIMEZONE
TZID:Europe/Ljubljana
BEGIN:DAYLIGHT
DTSTART:20260329T020000
RDATE:20260329T020000
RDATE:20270328T020000
TZNAME:CEST
TZOFFSETFROM:+0100
TZOFFSETTO:+0200
END:DAYLIGHT
BEGIN:STANDARD
DTSTART:20261025T030000
RDATE:20261025T030000
RDATE:20271031T030000
TZNAME:CET
TZOFFSETFROM:+0200
TZOFFSETTO:+0100
END:STANDARD
END:VTIMEZONE
BEGIN:VEVENT
SUMMARY:Violina M1 (GU2-058) B2 (VIOLI)\, predavanja (PRE)
DTSTART;TZID=Europe/Ljubljana:20251020T143000
DTEND;TZID=Europe/Ljubljana:20251020T153000
DTSTAMP:20260422T005502Z
UID:ag-AFLABS-URNIK:premaknjeno-srecanje:123386
ATTENDEE:Violina (1 - GU2)
ATTENDEE:Violina (2 - GU2)
CATEGORIES:Entry,Standard
COLOR:darkgreen
DESCRIPTION:Predmet: Violina M1 (GU2-058) B2 (VIOLI)\, predavanja (PRE)\nL
 etniki: Violina (1 - GU2)\, Violina (2 - GU2)\nIzvajalci: Vasilij Meljniko
 v\nProstor: 1N.03 UČILNICA IP - VIOLINA
LOCATION:1N.03 UČILNICA IP - VIOLINA
ORGANIZER:Vasilij Meljnikov
RELATED-TO:ag-AFLABS-URNIK:srecanje:3921
X-WR-TIMEZONE:Europe/Ljubljana
END:VEVENT
BEGIN:VEVENT
SUMMARY:Violina M1 (GU2-058) B2 (VIOLI)\, predavanja (PRE)
DTSTART;TZID=Europe/Ljubljana:20251020T153000
DTEND;TZID=Europe/Ljubljana:20251020T163000
DTSTAMP:20260422T005502Z
UID:ag-AFLABS-URNIK:premaknjeno-srecanje:123406
ATTENDEE:Violina (1 - GU2)
ATTENDEE:Violina (2 - GU2)
CATEGORIES:Entry,Standard
COLOR:darkgreen
DESCRIPTION:Predmet: Violina M1 (GU2-058) B2 (VIOLI)\, predavanja (PRE)\nL
 etniki: Violina (1 - GU2)\, Violina (2 - GU2)\nIzvajalci: Vasilij Meljniko
 v\nProstor: 1N.03 UČILNICA IP - VIOLINA
LOCATION:1N.03 UČILNICA IP - VIOLINA
ORGANIZER:Vasilij Meljnikov
RELATED-TO:ag-AFLABS-URNIK:srecanje:3936
X-WR-TIMEZONE:Europe/Ljubljana
END:VEVENT
BEGIN:VEVENT
SUMMARY:Violina M2 (GU2-073) B2 (VIOLI)\, predavanja (PRE)
DTSTART;TZID=Europe/Ljubljana:20251020T163000
DTEND;TZID=Europe/Ljubljana:20251020T180000
DTSTAMP:20260422T005502Z
UID:ag-AFLABS-URNIK:premaknjeno-srecanje:123436
ATTENDEE:Violina (1 - GU2)
ATTENDEE:Violina (2 - GU2)
CATEGORIES:Entry,Standard
COLOR:darkgreen
DESCRIPTION:Predmet: Violina M2 (GU2-073) B2 (VIOLI)\, predavanja (PRE)\nL
 etniki: Violina (1 - GU2)\, Violina (2 - GU2)\nIzvajalci: Vasilij Meljniko
 v\nProstor: 1N.03 UČILNICA IP - VIOLINA
LOCATION:1N.03 UČILNICA IP - VIOLINA
ORGANIZER:Vasilij Meljnikov
RELATED-TO:ag-AFLABS-URNIK:srecanje:3950
X-WR-TIMEZONE:Europe/Ljubljana
END:VEVENT
END:VCALENDAR
