BEGIN:VCALENDAR
VERSION:2.0
PRODID:-//AFLabs urnik izvoz - ag//aflabs.si//SI
DTSTAMP:20260421T000042Z
NAME:UL AG Urnik
REFRESH-INTERVAL:PT1H
SOURCE:https://urnik.ag.uni-lj.si/teacher/24?day=2024-07-01&export=1
URL:https://urnik.ag.uni-lj.si/teacher/24?day=2024-07-01&export=1
X-PUBLISHED-TTL:PT1H
X-WR-CALNAME:UL AG Urnik
X-WR-TIMEZONE:Europe/Ljubljana
BEGIN:VTIMEZONE
TZID:Europe/Ljubljana
BEGIN:DAYLIGHT
DTSTART:20260329T020000
RDATE:20260329T020000
RDATE:20270328T020000
TZNAME:CEST
TZOFFSETFROM:+0100
TZOFFSETTO:+0200
END:DAYLIGHT
BEGIN:STANDARD
DTSTART:20261025T030000
RDATE:20261025T030000
RDATE:20271031T030000
TZNAME:CET
TZOFFSETFROM:+0200
TZOFFSETTO:+0100
END:STANDARD
END:VTIMEZONE
BEGIN:VEVENT
SUMMARY:Gregorijanski koral 1 (B4605) B (GREGO)\, predavanja (PRE)
DTSTART;TZID=Europe/Ljubljana:20240528T164500
DTEND;TZID=Europe/Ljubljana:20240528T174500
DTSTAMP:20260421T000042Z
UID:ag-AFLABS-URNIK:premaknjeno-srecanje:17142
ATTENDEE:2. letnik (2 - GP1)
ATTENDEE:3. letnik (3 - GP1)
ATTENDEE:Sakralna glasba (1 - GU1)
ATTENDEE:Sakralna glasba (2 - GU1)
ATTENDEE:Sakralna glasba (3 - GU1)
CATEGORIES:Entry,Standard
COLOR:darkgreen
DESCRIPTION:Predmet: Gregorijanski koral 1 (B4605) B (GREGO)\, predavanja 
 (PRE)\nLetniki: Sakralna glasba (1 - GU1)\, 2. letnik (2 - GP1)\, Sakralna
  glasba (2 - GU1)\, 3. letnik (3 - GP1)\, Sakralna glasba (3 - GU1)\nIzvaj
 alci: Anton Potočnik\nProstor: 2N.17 MALA PREDAVALNICA 6
LOCATION:2N.17 MALA PREDAVALNICA 6
ORGANIZER:Anton Potočnik
RELATED-TO:ag-AFLABS-URNIK:srecanje:847
X-WR-TIMEZONE:Europe/Ljubljana
END:VEVENT
BEGIN:VEVENT
SUMMARY:Gregorijanski koral 2 (B4612) B (GREGO)\, predavanja (PRE)
DTSTART;TZID=Europe/Ljubljana:20240530T140000
DTEND;TZID=Europe/Ljubljana:20240530T150000
DTSTAMP:20260421T000042Z
UID:ag-AFLABS-URNIK:premaknjeno-srecanje:17552
ATTENDEE:Sakralna glasba (1 - GU1)
ATTENDEE:Sakralna glasba (2 - GU1)
ATTENDEE:Sakralna glasba (3 - GU1)
CATEGORIES:Entry,Standard
COLOR:darkgreen
DESCRIPTION:Predmet: Gregorijanski koral 2 (B4612) B (GREGO)\, predavanja 
 (PRE)\nLetniki: Sakralna glasba (1 - GU1)\, Sakralna glasba (2 - GU1)\, Sa
 kralna glasba (3 - GU1)\nIzvajalci: Anton Potočnik\nProstor: G.13
LOCATION:G.13
ORGANIZER:Anton Potočnik
RELATED-TO:ag-AFLABS-URNIK:srecanje:163
X-WR-TIMEZONE:Europe/Ljubljana
END:VEVENT
BEGIN:VEVENT
SUMMARY:Gregorijanski koral 3 (B4627) B (GREGO)\, predavanja (PRE)
DTSTART;TZID=Europe/Ljubljana:20240530T140000
DTEND;TZID=Europe/Ljubljana:20240530T150000
DTSTAMP:20260421T000042Z
UID:ag-AFLABS-URNIK:premaknjeno-srecanje:17553
ATTENDEE:Sakralna glasba (1 - GU1)
ATTENDEE:Sakralna glasba (2 - GU1)
ATTENDEE:Sakralna glasba (3 - GU1)
CATEGORIES:Entry,Standard
COLOR:darkgreen
DESCRIPTION:Predmet: Gregorijanski koral 3 (B4627) B (GREGO)\, predavanja 
 (PRE)\nLetniki: Sakralna glasba (1 - GU1)\, Sakralna glasba (2 - GU1)\, Sa
 kralna glasba (3 - GU1)\nIzvajalci: Anton Potočnik\nProstor: G.13
LOCATION:G.13
ORGANIZER:Anton Potočnik
RELATED-TO:ag-AFLABS-URNIK:srecanje:164
X-WR-TIMEZONE:Europe/Ljubljana
END:VEVENT
BEGIN:VEVENT
SUMMARY:Gregorijanski koral - dirigiranje - Sakralna glasba (GU2-100) B2 (
 GREGO)\, predavanja (PRE)
DTSTART;TZID=Europe/Ljubljana:20240530T150000
DTEND;TZID=Europe/Ljubljana:20240530T160000
DTSTAMP:20260421T000042Z
UID:ag-AFLABS-URNIK:premaknjeno-srecanje:17570
ATTENDEE:1. letnik (1 - GU2)
CATEGORIES:Entry,Standard
COLOR:darkgreen
DESCRIPTION:Predmet: Gregorijanski koral - dirigiranje - Sakralna glasba (
 GU2-100) B2 (GREGO)\, predavanja (PRE)\nLetniki: 1. letnik (1 - GU2)\nIzva
 jalci: Anton Potočnik\nProstor: G.13
LOCATION:G.13
ORGANIZER:Anton Potočnik
RELATED-TO:ag-AFLABS-URNIK:srecanje:183
X-WR-TIMEZONE:Europe/Ljubljana
END:VEVENT
BEGIN:VEVENT
SUMMARY:Gregorijanski koral - Dirigiranje M (GU2-019) B2 (GREGO)\, predava
 nja (PRE)
DTSTART;TZID=Europe/Ljubljana:20240530T150000
DTEND;TZID=Europe/Ljubljana:20240530T160000
DTSTAMP:20260421T000042Z
UID:ag-AFLABS-URNIK:premaknjeno-srecanje:17571
ATTENDEE:1. letnik (1 - GU2)
CATEGORIES:Entry,Standard
COLOR:darkgreen
DESCRIPTION:Predmet: Gregorijanski koral - Dirigiranje M (GU2-019) B2 (GRE
 GO)\, predavanja (PRE)\nLetniki: 1. letnik (1 - GU2)\nIzvajalci: Anton Pot
 očnik\nProstor: G.13
LOCATION:G.13
ORGANIZER:Anton Potočnik
RELATED-TO:ag-AFLABS-URNIK:srecanje:184
X-WR-TIMEZONE:Europe/Ljubljana
END:VEVENT
BEGIN:VEVENT
SUMMARY:Gregorijanski koral - Izbrana poglavja (B2-I-20) B2 (GREGO)\, pred
 avanja (PRE)
DTSTART;TZID=Europe/Ljubljana:20240530T160000
DTEND;TZID=Europe/Ljubljana:20240530T170000
DTSTAMP:20260421T000042Z
UID:ag-AFLABS-URNIK:premaknjeno-srecanje:17587
ATTENDEE:1. letnik (1 - GTP)
ATTENDEE:2. letnik (2 - GTP)
ATTENDEE:Sakralna glasba (1 - GU2)
ATTENDEE:Sakralna glasba (2 - GU2)
CATEGORIES:Entry,Standard
COLOR:darkgreen
DESCRIPTION:Predmet: Gregorijanski koral - Izbrana poglavja (B2-I-20) B2 (
 GREGO)\, predavanja (PRE)\nLetniki: 1. letnik (1 - GTP)\, Sakralna glasba 
 (1 - GU2)\, 2. letnik (2 - GTP)\, Sakralna glasba (2 - GU2)\nIzvajalci: An
 ton Potočnik\nProstor: G.13
LOCATION:G.13
ORGANIZER:Anton Potočnik
RELATED-TO:ag-AFLABS-URNIK:srecanje:203
X-WR-TIMEZONE:Europe/Ljubljana
END:VEVENT
BEGIN:VEVENT
SUMMARY:Govorilna ura
DTSTART;TZID=Europe/Ljubljana:20240528T134500
DTEND;TZID=Europe/Ljubljana:20240528T144500
DTSTAMP:20260421T000042Z
UID:ag-AFLABS-URNIK:rezervacija:531
CATEGORIES:Reservation
COLOR:royalblue
DESCRIPTION:Predmeti: \nLetniki: \nIzvajalci: Anton Potočnik\nProstori: V
 . Hubadova dvorana
LOCATION:V. Hubadova dvorana
ORGANIZER:Anton Potočnik
X-WR-TIMEZONE:Europe/Ljubljana
END:VEVENT
END:VCALENDAR
