BEGIN:VCALENDAR
VERSION:2.0
PRODID:-//AFLabs urnik izvoz - ag//aflabs.si//SI
DTSTAMP:20260422T005001Z
NAME:UL AG Urnik
REFRESH-INTERVAL:PT1H
SOURCE:https://urnik.ag.uni-lj.si/teacher/228?day=2024-05-27&export=1
URL:https://urnik.ag.uni-lj.si/teacher/228?day=2024-05-27&export=1
X-PUBLISHED-TTL:PT1H
X-WR-CALNAME:UL AG Urnik
X-WR-TIMEZONE:Europe/Ljubljana
BEGIN:VTIMEZONE
TZID:Europe/Ljubljana
BEGIN:DAYLIGHT
DTSTART:20260329T020000
RDATE:20260329T020000
RDATE:20270328T020000
TZNAME:CEST
TZOFFSETFROM:+0100
TZOFFSETTO:+0200
END:DAYLIGHT
BEGIN:STANDARD
DTSTART:20261025T030000
RDATE:20261025T030000
RDATE:20271031T030000
TZNAME:CET
TZOFFSETFROM:+0200
TZOFFSETTO:+0100
END:STANDARD
END:VTIMEZONE
BEGIN:VEVENT
SUMMARY:Govorilna ura
DTSTART;TZID=Europe/Ljubljana:20240216T100000
DTEND;TZID=Europe/Ljubljana:20240216T110000
DTSTAMP:20260422T005001Z
UID:ag-AFLABS-URNIK:rezervacija:14
CATEGORIES:Reservation
COLOR:royalblue
DESCRIPTION:Predmeti: \nLetniki: \nIzvajalci: Anastasia Banovec\, Franko B
 ožac\, Barbara Jernejčič Fürst\nProstori: V.03\, V.10\, 1N.02 UČILNIC
 A IP - PETJE 2
LOCATION:V.03\, V.10\, 1N.02 UČILNICA IP - PETJE 2
ORGANIZER:Anastasia Banovec, Franko Božac, Barbara Jernejčič Fürst
X-WR-TIMEZONE:Europe/Ljubljana
END:VEVENT
BEGIN:VEVENT
SUMMARY:Govorilna ura
DTSTART;TZID=Europe/Ljubljana:20240223T100000
DTEND;TZID=Europe/Ljubljana:20240223T110000
DTSTAMP:20260422T005001Z
UID:ag-AFLABS-URNIK:rezervacija:50
CATEGORIES:Reservation
COLOR:royalblue
DESCRIPTION:Predmeti: \nLetniki: \nIzvajalci: Anastasia Banovec\, Franko B
 ožac\, Barbara Jernejčič Fürst\nProstori: V.03\, V.10\, 1N.02 UČILNIC
 A IP - PETJE 2
LOCATION:V.03\, V.10\, 1N.02 UČILNICA IP - PETJE 2
ORGANIZER:Anastasia Banovec, Franko Božac, Barbara Jernejčič Fürst
X-WR-TIMEZONE:Europe/Ljubljana
END:VEVENT
BEGIN:VEVENT
SUMMARY:Govorilna ura
DTSTART;TZID=Europe/Ljubljana:20240301T100000
DTEND;TZID=Europe/Ljubljana:20240301T110000
DTSTAMP:20260422T005001Z
UID:ag-AFLABS-URNIK:rezervacija:86
CATEGORIES:Reservation
COLOR:royalblue
DESCRIPTION:Predmeti: \nLetniki: \nIzvajalci: Anastasia Banovec\, Franko B
 ožac\, Barbara Jernejčič Fürst\nProstori: V.03\, V.10\, 1N.02 UČILNIC
 A IP - PETJE 2
LOCATION:V.03\, V.10\, 1N.02 UČILNICA IP - PETJE 2
ORGANIZER:Anastasia Banovec, Franko Božac, Barbara Jernejčič Fürst
X-WR-TIMEZONE:Europe/Ljubljana
END:VEVENT
BEGIN:VEVENT
SUMMARY:Govorilna ura
DTSTART;TZID=Europe/Ljubljana:20240308T100000
DTEND;TZID=Europe/Ljubljana:20240308T110000
DTSTAMP:20260422T005001Z
UID:ag-AFLABS-URNIK:rezervacija:122
CATEGORIES:Reservation
COLOR:royalblue
DESCRIPTION:Predmeti: \nLetniki: \nIzvajalci: Anastasia Banovec\, Franko B
 ožac\, Barbara Jernejčič Fürst\nProstori: V.03\, V.10\, 1N.02 UČILNIC
 A IP - PETJE 2
LOCATION:V.03\, V.10\, 1N.02 UČILNICA IP - PETJE 2
ORGANIZER:Anastasia Banovec, Franko Božac, Barbara Jernejčič Fürst
X-WR-TIMEZONE:Europe/Ljubljana
END:VEVENT
BEGIN:VEVENT
SUMMARY:Govorilna ura
DTSTART;TZID=Europe/Ljubljana:20240315T100000
DTEND;TZID=Europe/Ljubljana:20240315T110000
DTSTAMP:20260422T005001Z
UID:ag-AFLABS-URNIK:rezervacija:158
CATEGORIES:Reservation
COLOR:royalblue
DESCRIPTION:Predmeti: \nLetniki: \nIzvajalci: Anastasia Banovec\, Franko B
 ožac\, Barbara Jernejčič Fürst\nProstori: V.03\, V.10\, 1N.02 UČILNIC
 A IP - PETJE 2
LOCATION:V.03\, V.10\, 1N.02 UČILNICA IP - PETJE 2
ORGANIZER:Anastasia Banovec, Franko Božac, Barbara Jernejčič Fürst
X-WR-TIMEZONE:Europe/Ljubljana
END:VEVENT
BEGIN:VEVENT
SUMMARY:Govorilna ura
DTSTART;TZID=Europe/Ljubljana:20240322T100000
DTEND;TZID=Europe/Ljubljana:20240322T110000
DTSTAMP:20260422T005001Z
UID:ag-AFLABS-URNIK:rezervacija:194
CATEGORIES:Reservation
COLOR:royalblue
DESCRIPTION:Predmeti: \nLetniki: \nIzvajalci: Anastasia Banovec\, Franko B
 ožac\, Barbara Jernejčič Fürst\nProstori: V.03\, V.10\, 1N.02 UČILNIC
 A IP - PETJE 2
LOCATION:V.03\, V.10\, 1N.02 UČILNICA IP - PETJE 2
ORGANIZER:Anastasia Banovec, Franko Božac, Barbara Jernejčič Fürst
X-WR-TIMEZONE:Europe/Ljubljana
END:VEVENT
BEGIN:VEVENT
SUMMARY:Govorilna ura
DTSTART;TZID=Europe/Ljubljana:20240329T100000
DTEND;TZID=Europe/Ljubljana:20240329T110000
DTSTAMP:20260422T005001Z
UID:ag-AFLABS-URNIK:rezervacija:230
CATEGORIES:Reservation
COLOR:royalblue
DESCRIPTION:Predmeti: \nLetniki: \nIzvajalci: Anastasia Banovec\, Franko B
 ožac\, Barbara Jernejčič Fürst\nProstori: V.03\, V.10\, 1N.02 UČILNIC
 A IP - PETJE 2
LOCATION:V.03\, V.10\, 1N.02 UČILNICA IP - PETJE 2
ORGANIZER:Anastasia Banovec, Franko Božac, Barbara Jernejčič Fürst
X-WR-TIMEZONE:Europe/Ljubljana
END:VEVENT
BEGIN:VEVENT
SUMMARY:Govorilna ura
DTSTART;TZID=Europe/Ljubljana:20240405T100000
DTEND;TZID=Europe/Ljubljana:20240405T110000
DTSTAMP:20260422T005001Z
UID:ag-AFLABS-URNIK:rezervacija:266
CATEGORIES:Reservation
COLOR:royalblue
DESCRIPTION:Predmeti: \nLetniki: \nIzvajalci: Anastasia Banovec\, Franko B
 ožac\, Barbara Jernejčič Fürst\nProstori: V.03\, V.10\, 1N.02 UČILNIC
 A IP - PETJE 2
LOCATION:V.03\, V.10\, 1N.02 UČILNICA IP - PETJE 2
ORGANIZER:Anastasia Banovec, Franko Božac, Barbara Jernejčič Fürst
X-WR-TIMEZONE:Europe/Ljubljana
END:VEVENT
BEGIN:VEVENT
SUMMARY:Govorilna ura
DTSTART;TZID=Europe/Ljubljana:20240412T100000
DTEND;TZID=Europe/Ljubljana:20240412T110000
DTSTAMP:20260422T005001Z
UID:ag-AFLABS-URNIK:rezervacija:302
CATEGORIES:Reservation
COLOR:royalblue
DESCRIPTION:Predmeti: \nLetniki: \nIzvajalci: Anastasia Banovec\, Franko B
 ožac\, Barbara Jernejčič Fürst\nProstori: V.03\, V.10\, 1N.02 UČILNIC
 A IP - PETJE 2
LOCATION:V.03\, V.10\, 1N.02 UČILNICA IP - PETJE 2
ORGANIZER:Anastasia Banovec, Franko Božac, Barbara Jernejčič Fürst
X-WR-TIMEZONE:Europe/Ljubljana
END:VEVENT
BEGIN:VEVENT
SUMMARY:Govorilna ura
DTSTART;TZID=Europe/Ljubljana:20240419T100000
DTEND;TZID=Europe/Ljubljana:20240419T110000
DTSTAMP:20260422T005001Z
UID:ag-AFLABS-URNIK:rezervacija:338
CATEGORIES:Reservation
COLOR:royalblue
DESCRIPTION:Predmeti: \nLetniki: \nIzvajalci: Anastasia Banovec\, Franko B
 ožac\, Barbara Jernejčič Fürst\nProstori: V.03\, V.10\, 1N.02 UČILNIC
 A IP - PETJE 2
LOCATION:V.03\, V.10\, 1N.02 UČILNICA IP - PETJE 2
ORGANIZER:Anastasia Banovec, Franko Božac, Barbara Jernejčič Fürst
X-WR-TIMEZONE:Europe/Ljubljana
END:VEVENT
BEGIN:VEVENT
SUMMARY:Govorilna ura
DTSTART;TZID=Europe/Ljubljana:20240426T100000
DTEND;TZID=Europe/Ljubljana:20240426T110000
DTSTAMP:20260422T005001Z
UID:ag-AFLABS-URNIK:rezervacija:374
CATEGORIES:Reservation
COLOR:royalblue
DESCRIPTION:Predmeti: \nLetniki: \nIzvajalci: Anastasia Banovec\, Franko B
 ožac\, Barbara Jernejčič Fürst\nProstori: V.03\, V.10\, 1N.02 UČILNIC
 A IP - PETJE 2
LOCATION:V.03\, V.10\, 1N.02 UČILNICA IP - PETJE 2
ORGANIZER:Anastasia Banovec, Franko Božac, Barbara Jernejčič Fürst
X-WR-TIMEZONE:Europe/Ljubljana
END:VEVENT
BEGIN:VEVENT
SUMMARY:Govorilna ura
DTSTART;TZID=Europe/Ljubljana:20240503T100000
DTEND;TZID=Europe/Ljubljana:20240503T110000
DTSTAMP:20260422T005001Z
UID:ag-AFLABS-URNIK:rezervacija:410
CATEGORIES:Reservation
COLOR:royalblue
DESCRIPTION:Predmeti: \nLetniki: \nIzvajalci: Anastasia Banovec\, Franko B
 ožac\, Barbara Jernejčič Fürst\nProstori: V.03\, V.10\, 1N.02 UČILNIC
 A IP - PETJE 2
LOCATION:V.03\, V.10\, 1N.02 UČILNICA IP - PETJE 2
ORGANIZER:Anastasia Banovec, Franko Božac, Barbara Jernejčič Fürst
X-WR-TIMEZONE:Europe/Ljubljana
END:VEVENT
BEGIN:VEVENT
SUMMARY:Govorilna ura
DTSTART;TZID=Europe/Ljubljana:20240510T100000
DTEND;TZID=Europe/Ljubljana:20240510T110000
DTSTAMP:20260422T005001Z
UID:ag-AFLABS-URNIK:rezervacija:446
CATEGORIES:Reservation
COLOR:royalblue
DESCRIPTION:Predmeti: \nLetniki: \nIzvajalci: Anastasia Banovec\, Franko B
 ožac\, Barbara Jernejčič Fürst\nProstori: V.03\, V.10\, 1N.02 UČILNIC
 A IP - PETJE 2
LOCATION:V.03\, V.10\, 1N.02 UČILNICA IP - PETJE 2
ORGANIZER:Anastasia Banovec, Franko Božac, Barbara Jernejčič Fürst
X-WR-TIMEZONE:Europe/Ljubljana
END:VEVENT
BEGIN:VEVENT
SUMMARY:Govorilna ura
DTSTART;TZID=Europe/Ljubljana:20240517T100000
DTEND;TZID=Europe/Ljubljana:20240517T110000
DTSTAMP:20260422T005001Z
UID:ag-AFLABS-URNIK:rezervacija:482
CATEGORIES:Reservation
COLOR:royalblue
DESCRIPTION:Predmeti: \nLetniki: \nIzvajalci: Anastasia Banovec\, Franko B
 ožac\, Barbara Jernejčič Fürst\nProstori: V.03\, V.10\, 1N.02 UČILNIC
 A IP - PETJE 2
LOCATION:V.03\, V.10\, 1N.02 UČILNICA IP - PETJE 2
ORGANIZER:Anastasia Banovec, Franko Božac, Barbara Jernejčič Fürst
X-WR-TIMEZONE:Europe/Ljubljana
END:VEVENT
BEGIN:VEVENT
SUMMARY:Govorilna ura
DTSTART;TZID=Europe/Ljubljana:20240524T100000
DTEND;TZID=Europe/Ljubljana:20240524T110000
DTSTAMP:20260422T005001Z
UID:ag-AFLABS-URNIK:rezervacija:518
CATEGORIES:Reservation
COLOR:royalblue
DESCRIPTION:Predmeti: \nLetniki: \nIzvajalci: Anastasia Banovec\, Franko B
 ožac\, Barbara Jernejčič Fürst\nProstori: V.03\, V.10\, 1N.02 UČILNIC
 A IP - PETJE 2
LOCATION:V.03\, V.10\, 1N.02 UČILNICA IP - PETJE 2
ORGANIZER:Anastasia Banovec, Franko Božac, Barbara Jernejčič Fürst
X-WR-TIMEZONE:Europe/Ljubljana
END:VEVENT
BEGIN:VEVENT
SUMMARY:Govorilna ura
DTSTART;TZID=Europe/Ljubljana:20240531T100000
DTEND;TZID=Europe/Ljubljana:20240531T110000
DTSTAMP:20260422T005001Z
UID:ag-AFLABS-URNIK:rezervacija:554
CATEGORIES:Reservation
COLOR:royalblue
DESCRIPTION:Predmeti: \nLetniki: \nIzvajalci: Anastasia Banovec\, Franko B
 ožac\, Barbara Jernejčič Fürst\nProstori: V.03\, V.10\, 1N.02 UČILNIC
 A IP - PETJE 2
LOCATION:V.03\, V.10\, 1N.02 UČILNICA IP - PETJE 2
ORGANIZER:Anastasia Banovec, Franko Božac, Barbara Jernejčič Fürst
X-WR-TIMEZONE:Europe/Ljubljana
END:VEVENT
END:VCALENDAR
