BEGIN:VCALENDAR
VERSION:2.0
PRODID:-//AFLabs urnik izvoz - ag//aflabs.si//SI
DTSTAMP:20260419T203914Z
NAME:UL AG Urnik
REFRESH-INTERVAL:PT1H
SOURCE:https://urnik.ag.uni-lj.si/teacher/213?day=2026-06-29&export=1
URL:https://urnik.ag.uni-lj.si/teacher/213?day=2026-06-29&export=1
X-PUBLISHED-TTL:PT1H
X-WR-CALNAME:UL AG Urnik
X-WR-TIMEZONE:Europe/Ljubljana
BEGIN:VTIMEZONE
TZID:Europe/Ljubljana
BEGIN:DAYLIGHT
DTSTART:20260329T020000
RDATE:20260329T020000
RDATE:20270328T020000
TZNAME:CEST
TZOFFSETFROM:+0100
TZOFFSETTO:+0200
END:DAYLIGHT
BEGIN:STANDARD
DTSTART:20261025T030000
RDATE:20261025T030000
RDATE:20271031T030000
TZNAME:CET
TZOFFSETFROM:+0200
TZOFFSETTO:+0100
END:STANDARD
END:VTIMEZONE
BEGIN:VEVENT
SUMMARY:Violina 2 (B3107) B (VIOLI)\, predavanja (PRE)
DTSTART;TZID=Europe/Ljubljana:20260525T140000
DTEND;TZID=Europe/Ljubljana:20260525T144500
DTSTAMP:20260419T203914Z
UID:ag-AFLABS-URNIK:premaknjeno-srecanje:157652
ATTENDEE:Violina (1 - GU1)
ATTENDEE:Violina (2 - GU1)
ATTENDEE:Violina (3 - GU1)
CATEGORIES:Entry,Standard
COLOR:darkgreen
DESCRIPTION:Predmet: Violina 2 (B3107) B (VIOLI)\, predavanja (PRE)\nLetni
 ki: Violina (1 - GU1)\, Violina (2 - GU1)\, Violina (3 - GU1)\nIzvajalci: 
 Alvin Ćućić\nProstor: V.12
LOCATION:V.12
ORGANIZER:Alvin Ćućić
RELATED-TO:ag-AFLABS-URNIK:srecanje:3777
X-WR-TIMEZONE:Europe/Ljubljana
END:VEVENT
BEGIN:VEVENT
SUMMARY:Violina 2 (B3107) B (VIOLI)\, predavanja (PRE)
DTSTART;TZID=Europe/Ljubljana:20260525T144500
DTEND;TZID=Europe/Ljubljana:20260525T153000
DTSTAMP:20260419T203914Z
UID:ag-AFLABS-URNIK:premaknjeno-srecanje:157666
ATTENDEE:Violina (1 - GU1)
ATTENDEE:Violina (2 - GU1)
ATTENDEE:Violina (3 - GU1)
CATEGORIES:Entry,Standard
COLOR:darkgreen
DESCRIPTION:Predmet: Violina 2 (B3107) B (VIOLI)\, predavanja (PRE)\nLetni
 ki: Violina (1 - GU1)\, Violina (2 - GU1)\, Violina (3 - GU1)\nIzvajalci: 
 Alvin Ćućić\nProstor: V.12
LOCATION:V.12
ORGANIZER:Alvin Ćućić
RELATED-TO:ag-AFLABS-URNIK:srecanje:3782
X-WR-TIMEZONE:Europe/Ljubljana
END:VEVENT
BEGIN:VEVENT
SUMMARY:Violina 2 (B3107) B (VIOLI)\, predavanja (PRE)
DTSTART;TZID=Europe/Ljubljana:20260525T153000
DTEND;TZID=Europe/Ljubljana:20260525T161500
DTSTAMP:20260419T203914Z
UID:ag-AFLABS-URNIK:premaknjeno-srecanje:157685
ATTENDEE:Violina (1 - GU1)
ATTENDEE:Violina (2 - GU1)
ATTENDEE:Violina (3 - GU1)
CATEGORIES:Entry,Standard
COLOR:darkgreen
DESCRIPTION:Predmet: Violina 2 (B3107) B (VIOLI)\, predavanja (PRE)\nLetni
 ki: Violina (1 - GU1)\, Violina (2 - GU1)\, Violina (3 - GU1)\nIzvajalci: 
 Alvin Ćućić\nProstor: V.12
LOCATION:V.12
ORGANIZER:Alvin Ćućić
RELATED-TO:ag-AFLABS-URNIK:srecanje:3786
X-WR-TIMEZONE:Europe/Ljubljana
END:VEVENT
BEGIN:VEVENT
SUMMARY:Violina PED-M2 (IPP-30) B2 (VIOLI)\, predavanja (PRE)
DTSTART;TZID=Europe/Ljubljana:20260525T161500
DTEND;TZID=Europe/Ljubljana:20260525T170000
DTSTAMP:20260419T203914Z
UID:ag-AFLABS-URNIK:premaknjeno-srecanje:157704
ATTENDEE:Violina (1 - IPP)
ATTENDEE:Violina (2 - IPP)
CATEGORIES:Entry,Standard
COLOR:darkgreen
DESCRIPTION:Predmet: Violina PED-M2 (IPP-30) B2 (VIOLI)\, predavanja (PRE)
 \nLetniki: Violina (1 - IPP)\, Violina (2 - IPP)\nIzvajalci: Alvin Ćući
 ć\nProstor: V.12
LOCATION:V.12
ORGANIZER:Alvin Ćućić
RELATED-TO:ag-AFLABS-URNIK:srecanje:3792
X-WR-TIMEZONE:Europe/Ljubljana
END:VEVENT
BEGIN:VEVENT
SUMMARY:Violina 3 (B3108) B (VIOLI)\, predavanja (PRE)
DTSTART;TZID=Europe/Ljubljana:20260525T170000
DTEND;TZID=Europe/Ljubljana:20260525T174500
DTSTAMP:20260419T203914Z
UID:ag-AFLABS-URNIK:premaknjeno-srecanje:157715
ATTENDEE:Violina (1 - GU1)
ATTENDEE:Violina (2 - GU1)
ATTENDEE:Violina (3 - GU1)
CATEGORIES:Entry,Standard
COLOR:darkgreen
DESCRIPTION:Predmet: Violina 3 (B3108) B (VIOLI)\, predavanja (PRE)\nLetni
 ki: Violina (1 - GU1)\, Violina (2 - GU1)\, Violina (3 - GU1)\nIzvajalci: 
 Alvin Ćućić\nProstor: V.12
LOCATION:V.12
ORGANIZER:Alvin Ćućić
RELATED-TO:ag-AFLABS-URNIK:srecanje:3796
X-WR-TIMEZONE:Europe/Ljubljana
END:VEVENT
BEGIN:VEVENT
SUMMARY:Violina 1 (B3106) B (VIOLI)\, predavanja (PRE)
DTSTART;TZID=Europe/Ljubljana:20260527T090000
DTEND;TZID=Europe/Ljubljana:20260527T094500
DTSTAMP:20260419T203914Z
UID:ag-AFLABS-URNIK:premaknjeno-srecanje:158007
ATTENDEE:Violina (1 - GU1)
ATTENDEE:Violina (2 - GU1)
ATTENDEE:Violina (3 - GU1)
CATEGORIES:Entry,Standard
COLOR:darkgreen
DESCRIPTION:Predmet: Violina 1 (B3106) B (VIOLI)\, predavanja (PRE)\nLetni
 ki: Violina (1 - GU1)\, Violina (2 - GU1)\, Violina (3 - GU1)\nIzvajalci: 
 Alvin Ćućić\nProstor: V.15
LOCATION:V.15
ORGANIZER:Alvin Ćućić
RELATED-TO:ag-AFLABS-URNIK:srecanje:3498
X-WR-TIMEZONE:Europe/Ljubljana
END:VEVENT
BEGIN:VEVENT
SUMMARY:Violina 3 (B3108) B (VIOLI)\, predavanja (PRE)
DTSTART;TZID=Europe/Ljubljana:20260527T094500
DTEND;TZID=Europe/Ljubljana:20260527T103000
DTSTAMP:20260419T203914Z
UID:ag-AFLABS-URNIK:premaknjeno-srecanje:158023
ATTENDEE:Violina (1 - GU1)
ATTENDEE:Violina (2 - GU1)
ATTENDEE:Violina (3 - GU1)
CATEGORIES:Entry,Standard
COLOR:darkgreen
DESCRIPTION:Predmet: Violina 3 (B3108) B (VIOLI)\, predavanja (PRE)\nLetni
 ki: Violina (1 - GU1)\, Violina (2 - GU1)\, Violina (3 - GU1)\nIzvajalci: 
 Alvin Ćućić\nProstor: V.15
LOCATION:V.15
ORGANIZER:Alvin Ćućić
RELATED-TO:ag-AFLABS-URNIK:srecanje:3507
X-WR-TIMEZONE:Europe/Ljubljana
END:VEVENT
BEGIN:VEVENT
SUMMARY:Violina 3 (B3108) B (VIOLI)\, predavanja (PRE)
DTSTART;TZID=Europe/Ljubljana:20260527T103000
DTEND;TZID=Europe/Ljubljana:20260527T111500
DTSTAMP:20260419T203914Z
UID:ag-AFLABS-URNIK:premaknjeno-srecanje:158042
ATTENDEE:Violina (1 - GU1)
ATTENDEE:Violina (2 - GU1)
ATTENDEE:Violina (3 - GU1)
CATEGORIES:Entry,Standard
COLOR:darkgreen
DESCRIPTION:Predmet: Violina 3 (B3108) B (VIOLI)\, predavanja (PRE)\nLetni
 ki: Violina (1 - GU1)\, Violina (2 - GU1)\, Violina (3 - GU1)\nIzvajalci: 
 Alvin Ćućić\nProstor: V.15
LOCATION:V.15
ORGANIZER:Alvin Ćućić
RELATED-TO:ag-AFLABS-URNIK:srecanje:3510
X-WR-TIMEZONE:Europe/Ljubljana
END:VEVENT
BEGIN:VEVENT
SUMMARY:Violina M1 (GU2-058) B2 (VIOLI)\, predavanja (PRE)
DTSTART;TZID=Europe/Ljubljana:20260527T111500
DTEND;TZID=Europe/Ljubljana:20260527T120000
DTSTAMP:20260419T203914Z
UID:ag-AFLABS-URNIK:premaknjeno-srecanje:158067
ATTENDEE:Violina (1 - GU2)
ATTENDEE:Violina (2 - GU2)
CATEGORIES:Entry,Standard
COLOR:darkgreen
DESCRIPTION:Predmet: Violina M1 (GU2-058) B2 (VIOLI)\, predavanja (PRE)\nL
 etniki: Violina (1 - GU2)\, Violina (2 - GU2)\nIzvajalci: Alvin Ćućić\n
 Prostor: V.15
LOCATION:V.15
ORGANIZER:Alvin Ćućić
RELATED-TO:ag-AFLABS-URNIK:srecanje:3517
X-WR-TIMEZONE:Europe/Ljubljana
END:VEVENT
BEGIN:VEVENT
SUMMARY:Oboa 1 (B3603) B (OBOA )\, predavanja (PRE)
DTSTART;TZID=Europe/Ljubljana:20260528T080000
DTEND;TZID=Europe/Ljubljana:20260528T084500
DTSTAMP:20260419T203914Z
UID:ag-AFLABS-URNIK:premaknjeno-srecanje:158211
ATTENDEE:Oboa (1 - GU1)
ATTENDEE:Oboa (2 - GU1)
ATTENDEE:Oboa (3 - GU1)
CATEGORIES:Entry,Standard
COLOR:darkgreen
DESCRIPTION:Predmet: Oboa 1 (B3603) B (OBOA )\, predavanja (PRE)\nLetniki:
  Oboa (1 - GU1)\, Oboa (2 - GU1)\, Oboa (3 - GU1)\nIzvajalci: Alvin Ćući
 ć\nProstor: 2N.21 UČILNICA - KOREPETICIJE
LOCATION:2N.21 UČILNICA - KOREPETICIJE
ORGANIZER:Alvin Ćućić
RELATED-TO:ag-AFLABS-URNIK:srecanje:3569
X-WR-TIMEZONE:Europe/Ljubljana
END:VEVENT
BEGIN:VEVENT
SUMMARY:Oboa 2 (B3604) B (OBOA )\, predavanja (PRE)
DTSTART;TZID=Europe/Ljubljana:20260528T084500
DTEND;TZID=Europe/Ljubljana:20260528T093000
DTSTAMP:20260419T203914Z
UID:ag-AFLABS-URNIK:premaknjeno-srecanje:158221
ATTENDEE:Oboa (1 - GU1)
ATTENDEE:Oboa (2 - GU1)
ATTENDEE:Oboa (3 - GU1)
CATEGORIES:Entry,Standard
COLOR:darkgreen
DESCRIPTION:Predmet: Oboa 2 (B3604) B (OBOA )\, predavanja (PRE)\nLetniki:
  Oboa (1 - GU1)\, Oboa (2 - GU1)\, Oboa (3 - GU1)\nIzvajalci: Alvin Ćući
 ć\nProstor: 2N.21 UČILNICA - KOREPETICIJE
LOCATION:2N.21 UČILNICA - KOREPETICIJE
ORGANIZER:Alvin Ćućić
RELATED-TO:ag-AFLABS-URNIK:srecanje:3572
X-WR-TIMEZONE:Europe/Ljubljana
END:VEVENT
BEGIN:VEVENT
SUMMARY:Oboa 2 (B3604) B (OBOA )\, predavanja (PRE)
DTSTART;TZID=Europe/Ljubljana:20260528T093000
DTEND;TZID=Europe/Ljubljana:20260528T101500
DTSTAMP:20260419T203914Z
UID:ag-AFLABS-URNIK:premaknjeno-srecanje:158246
ATTENDEE:Oboa (1 - GU1)
ATTENDEE:Oboa (2 - GU1)
ATTENDEE:Oboa (3 - GU1)
CATEGORIES:Entry,Standard
COLOR:darkgreen
DESCRIPTION:Predmet: Oboa 2 (B3604) B (OBOA )\, predavanja (PRE)\nLetniki:
  Oboa (1 - GU1)\, Oboa (2 - GU1)\, Oboa (3 - GU1)\nIzvajalci: Alvin Ćući
 ć\nProstor: 2N.21 UČILNICA - KOREPETICIJE
LOCATION:2N.21 UČILNICA - KOREPETICIJE
ORGANIZER:Alvin Ćućić
RELATED-TO:ag-AFLABS-URNIK:srecanje:3578
X-WR-TIMEZONE:Europe/Ljubljana
END:VEVENT
BEGIN:VEVENT
SUMMARY:Oboa 3 (B3605) B (OBOA )\, predavanja (PRE)
DTSTART;TZID=Europe/Ljubljana:20260528T101500
DTEND;TZID=Europe/Ljubljana:20260528T110000
DTSTAMP:20260419T203914Z
UID:ag-AFLABS-URNIK:premaknjeno-srecanje:158259
ATTENDEE:Oboa (1 - GU1)
ATTENDEE:Oboa (2 - GU1)
ATTENDEE:Oboa (3 - GU1)
CATEGORIES:Entry,Standard
COLOR:darkgreen
DESCRIPTION:Predmet: Oboa 3 (B3605) B (OBOA )\, predavanja (PRE)\nLetniki:
  Oboa (1 - GU1)\, Oboa (2 - GU1)\, Oboa (3 - GU1)\nIzvajalci: Alvin Ćući
 ć\nProstor: 2N.21 UČILNICA - KOREPETICIJE
LOCATION:2N.21 UČILNICA - KOREPETICIJE
ORGANIZER:Alvin Ćućić
RELATED-TO:ag-AFLABS-URNIK:srecanje:3582
X-WR-TIMEZONE:Europe/Ljubljana
END:VEVENT
BEGIN:VEVENT
SUMMARY:Oboa M1 (GU2-063) B2 (OBOA )\, predavanja (PRE)
DTSTART;TZID=Europe/Ljubljana:20260528T110000
DTEND;TZID=Europe/Ljubljana:20260528T114500
DTSTAMP:20260419T203914Z
UID:ag-AFLABS-URNIK:premaknjeno-srecanje:158279
ATTENDEE:Oboa (1 - GU2)
ATTENDEE:Oboa (2 - GU2)
CATEGORIES:Entry,Standard
COLOR:darkgreen
DESCRIPTION:Predmet: Oboa M1 (GU2-063) B2 (OBOA )\, predavanja (PRE)\nLetn
 iki: Oboa (1 - GU2)\, Oboa (2 - GU2)\nIzvajalci: Alvin Ćućić\nProstor: 
 2N.21 UČILNICA - KOREPETICIJE
LOCATION:2N.21 UČILNICA - KOREPETICIJE
ORGANIZER:Alvin Ćućić
RELATED-TO:ag-AFLABS-URNIK:srecanje:3585
X-WR-TIMEZONE:Europe/Ljubljana
END:VEVENT
BEGIN:VEVENT
SUMMARY:Oboa M2 (GU2-078) B2 (OBOA )\, predavanja (PRE)
DTSTART;TZID=Europe/Ljubljana:20260528T114500
DTEND;TZID=Europe/Ljubljana:20260528T123000
DTSTAMP:20260419T203914Z
UID:ag-AFLABS-URNIK:premaknjeno-srecanje:158319
ATTENDEE:Oboa (1 - GU2)
ATTENDEE:Oboa (2 - GU2)
CATEGORIES:Entry,Standard
COLOR:darkgreen
DESCRIPTION:Predmet: Oboa M2 (GU2-078) B2 (OBOA )\, predavanja (PRE)\nLetn
 iki: Oboa (1 - GU2)\, Oboa (2 - GU2)\nIzvajalci: Alvin Ćućić\nProstor: 
 2N.21 UČILNICA - KOREPETICIJE
LOCATION:2N.21 UČILNICA - KOREPETICIJE
ORGANIZER:Alvin Ćućić
RELATED-TO:ag-AFLABS-URNIK:srecanje:3601
X-WR-TIMEZONE:Europe/Ljubljana
END:VEVENT
BEGIN:VEVENT
SUMMARY:Govorilna ura
DTSTART;TZID=Europe/Ljubljana:20260527T080000
DTEND;TZID=Europe/Ljubljana:20260527T090000
DTSTAMP:20260419T203914Z
UID:ag-AFLABS-URNIK:rezervacija:3591
CATEGORIES:Reservation
COLOR:royalblue
DESCRIPTION:Predmeti: \nLetniki: \nIzvajalci: Alvin Ćućić\nProstori: V.
 15
LOCATION:V.15
ORGANIZER:Alvin Ćućić
X-WR-TIMEZONE:Europe/Ljubljana
END:VEVENT
END:VCALENDAR
