BEGIN:VCALENDAR
VERSION:2.0
PRODID:-//AFLabs urnik izvoz - ag//aflabs.si//SI
DTSTAMP:20260421T192305Z
NAME:UL AG Urnik
REFRESH-INTERVAL:PT1H
SOURCE:https://urnik.ag.uni-lj.si/teacher/202?day=2024-06-10&export=1
URL:https://urnik.ag.uni-lj.si/teacher/202?day=2024-06-10&export=1
X-PUBLISHED-TTL:PT1H
X-WR-CALNAME:UL AG Urnik
X-WR-TIMEZONE:Europe/Ljubljana
BEGIN:VTIMEZONE
TZID:Europe/Ljubljana
BEGIN:DAYLIGHT
DTSTART:20260329T020000
RDATE:20260329T020000
RDATE:20270328T020000
TZNAME:CEST
TZOFFSETFROM:+0100
TZOFFSETTO:+0200
END:DAYLIGHT
BEGIN:STANDARD
DTSTART:20261025T030000
RDATE:20261025T030000
RDATE:20271031T030000
TZNAME:CET
TZOFFSETFROM:+0200
TZOFFSETTO:+0100
END:STANDARD
END:VTIMEZONE
BEGIN:VEVENT
SUMMARY:Petje M1 (GU2-026) B2 (PETJE)\, predavanja (PRE)
DTSTART;TZID=Europe/Ljubljana:20240510T090000
DTEND;TZID=Europe/Ljubljana:20240510T110000
DTSTAMP:20260421T192305Z
UID:ag-AFLABS-URNIK:premaknjeno-srecanje:14257
ATTENDEE:Petje (1 - GU2)
ATTENDEE:Petje (2 - GU2)
CATEGORIES:Entry,Standard
COLOR:darkgreen
DESCRIPTION:Predmet: Petje M1 (GU2-026) B2 (PETJE)\, predavanja (PRE)\nLet
 niki: Petje (1 - GU2)\, Petje (2 - GU2)\nIzvajalci: Anastasia Banovec\nPro
 stor: 1N.02 UČILNICA IP - PETJE 2
LOCATION:1N.02 UČILNICA IP - PETJE 2
ORGANIZER:Anastasia Banovec
RELATED-TO:ag-AFLABS-URNIK:srecanje:254
X-WR-TIMEZONE:Europe/Ljubljana
END:VEVENT
BEGIN:VEVENT
SUMMARY:Petje M1 (GU2-026) B2 (PETJE)\, predavanja (PRE)
DTSTART;TZID=Europe/Ljubljana:20240517T090000
DTEND;TZID=Europe/Ljubljana:20240517T110000
DTSTAMP:20260421T192305Z
UID:ag-AFLABS-URNIK:premaknjeno-srecanje:15424
ATTENDEE:Petje (1 - GU2)
ATTENDEE:Petje (2 - GU2)
CATEGORIES:Entry,Standard
COLOR:darkgreen
DESCRIPTION:Predmet: Petje M1 (GU2-026) B2 (PETJE)\, predavanja (PRE)\nLet
 niki: Petje (1 - GU2)\, Petje (2 - GU2)\nIzvajalci: Anastasia Banovec\nPro
 stor: 1N.02 UČILNICA IP - PETJE 2
LOCATION:1N.02 UČILNICA IP - PETJE 2
ORGANIZER:Anastasia Banovec
RELATED-TO:ag-AFLABS-URNIK:srecanje:254
X-WR-TIMEZONE:Europe/Ljubljana
END:VEVENT
BEGIN:VEVENT
SUMMARY:Petje M1 (GU2-026) B2 (PETJE)\, predavanja (PRE)
DTSTART;TZID=Europe/Ljubljana:20240524T090000
DTEND;TZID=Europe/Ljubljana:20240524T110000
DTSTAMP:20260421T192305Z
UID:ag-AFLABS-URNIK:premaknjeno-srecanje:16591
ATTENDEE:Petje (1 - GU2)
ATTENDEE:Petje (2 - GU2)
CATEGORIES:Entry,Standard
COLOR:darkgreen
DESCRIPTION:Predmet: Petje M1 (GU2-026) B2 (PETJE)\, predavanja (PRE)\nLet
 niki: Petje (1 - GU2)\, Petje (2 - GU2)\nIzvajalci: Anastasia Banovec\nPro
 stor: 1N.02 UČILNICA IP - PETJE 2
LOCATION:1N.02 UČILNICA IP - PETJE 2
ORGANIZER:Anastasia Banovec
RELATED-TO:ag-AFLABS-URNIK:srecanje:254
X-WR-TIMEZONE:Europe/Ljubljana
END:VEVENT
BEGIN:VEVENT
SUMMARY:Petje M1 (GU2-026) B2 (PETJE)\, predavanja (PRE)
DTSTART;TZID=Europe/Ljubljana:20240531T090000
DTEND;TZID=Europe/Ljubljana:20240531T110000
DTSTAMP:20260421T192305Z
UID:ag-AFLABS-URNIK:premaknjeno-srecanje:17626
ATTENDEE:Petje (1 - GU2)
ATTENDEE:Petje (2 - GU2)
CATEGORIES:Entry,Standard
COLOR:darkgreen
DESCRIPTION:Predmet: Petje M1 (GU2-026) B2 (PETJE)\, predavanja (PRE)\nLet
 niki: Petje (1 - GU2)\, Petje (2 - GU2)\nIzvajalci: Anastasia Banovec\nPro
 stor: 1N.02 UČILNICA IP - PETJE 2
LOCATION:1N.02 UČILNICA IP - PETJE 2
ORGANIZER:Anastasia Banovec
RELATED-TO:ag-AFLABS-URNIK:srecanje:254
X-WR-TIMEZONE:Europe/Ljubljana
END:VEVENT
BEGIN:VEVENT
SUMMARY:Petje M1 (GU2-026) B2 (PETJE)\, predavanja (PRE)
DTSTART;TZID=Europe/Ljubljana:20240510T110000
DTEND;TZID=Europe/Ljubljana:20240510T120000
DTSTAMP:20260421T192305Z
UID:ag-AFLABS-URNIK:premaknjeno-srecanje:14300
ATTENDEE:Petje (1 - GU2)
ATTENDEE:Petje (2 - GU2)
CATEGORIES:Entry,Standard
COLOR:darkgreen
DESCRIPTION:Predmet: Petje M1 (GU2-026) B2 (PETJE)\, predavanja (PRE)\nLet
 niki: Petje (1 - GU2)\, Petje (2 - GU2)\nIzvajalci: Anastasia Banovec\nPro
 stor: 1N.02 UČILNICA IP - PETJE 2
LOCATION:1N.02 UČILNICA IP - PETJE 2
ORGANIZER:Anastasia Banovec
RELATED-TO:ag-AFLABS-URNIK:srecanje:297
X-WR-TIMEZONE:Europe/Ljubljana
END:VEVENT
BEGIN:VEVENT
SUMMARY:Petje M1 (GU2-026) B2 (PETJE)\, predavanja (PRE)
DTSTART;TZID=Europe/Ljubljana:20240517T110000
DTEND;TZID=Europe/Ljubljana:20240517T120000
DTSTAMP:20260421T192305Z
UID:ag-AFLABS-URNIK:premaknjeno-srecanje:15467
ATTENDEE:Petje (1 - GU2)
ATTENDEE:Petje (2 - GU2)
CATEGORIES:Entry,Standard
COLOR:darkgreen
DESCRIPTION:Predmet: Petje M1 (GU2-026) B2 (PETJE)\, predavanja (PRE)\nLet
 niki: Petje (1 - GU2)\, Petje (2 - GU2)\nIzvajalci: Anastasia Banovec\nPro
 stor: 1N.02 UČILNICA IP - PETJE 2
LOCATION:1N.02 UČILNICA IP - PETJE 2
ORGANIZER:Anastasia Banovec
RELATED-TO:ag-AFLABS-URNIK:srecanje:297
X-WR-TIMEZONE:Europe/Ljubljana
END:VEVENT
BEGIN:VEVENT
SUMMARY:Petje M1 (GU2-026) B2 (PETJE)\, predavanja (PRE)
DTSTART;TZID=Europe/Ljubljana:20240524T110000
DTEND;TZID=Europe/Ljubljana:20240524T120000
DTSTAMP:20260421T192305Z
UID:ag-AFLABS-URNIK:premaknjeno-srecanje:16634
ATTENDEE:Petje (1 - GU2)
ATTENDEE:Petje (2 - GU2)
CATEGORIES:Entry,Standard
COLOR:darkgreen
DESCRIPTION:Predmet: Petje M1 (GU2-026) B2 (PETJE)\, predavanja (PRE)\nLet
 niki: Petje (1 - GU2)\, Petje (2 - GU2)\nIzvajalci: Anastasia Banovec\nPro
 stor: 1N.02 UČILNICA IP - PETJE 2
LOCATION:1N.02 UČILNICA IP - PETJE 2
ORGANIZER:Anastasia Banovec
RELATED-TO:ag-AFLABS-URNIK:srecanje:297
X-WR-TIMEZONE:Europe/Ljubljana
END:VEVENT
BEGIN:VEVENT
SUMMARY:Petje M1 (GU2-026) B2 (PETJE)\, predavanja (PRE)
DTSTART;TZID=Europe/Ljubljana:20240531T110000
DTEND;TZID=Europe/Ljubljana:20240531T120000
DTSTAMP:20260421T192305Z
UID:ag-AFLABS-URNIK:premaknjeno-srecanje:17662
ATTENDEE:Petje (1 - GU2)
ATTENDEE:Petje (2 - GU2)
CATEGORIES:Entry,Standard
COLOR:darkgreen
DESCRIPTION:Predmet: Petje M1 (GU2-026) B2 (PETJE)\, predavanja (PRE)\nLet
 niki: Petje (1 - GU2)\, Petje (2 - GU2)\nIzvajalci: Anastasia Banovec\nPro
 stor: 1N.02 UČILNICA IP - PETJE 2
LOCATION:1N.02 UČILNICA IP - PETJE 2
ORGANIZER:Anastasia Banovec
RELATED-TO:ag-AFLABS-URNIK:srecanje:297
X-WR-TIMEZONE:Europe/Ljubljana
END:VEVENT
BEGIN:VEVENT
SUMMARY:Petje M1 (GU2-026) B2 (PETJE)\, predavanja (PRE)
DTSTART;TZID=Europe/Ljubljana:20240510T120000
DTEND;TZID=Europe/Ljubljana:20240510T130000
DTSTAMP:20260421T192305Z
UID:ag-AFLABS-URNIK:premaknjeno-srecanje:14317
ATTENDEE:Petje (1 - GU2)
ATTENDEE:Petje (2 - GU2)
CATEGORIES:Entry,Standard
COLOR:darkgreen
DESCRIPTION:Predmet: Petje M1 (GU2-026) B2 (PETJE)\, predavanja (PRE)\nLet
 niki: Petje (1 - GU2)\, Petje (2 - GU2)\nIzvajalci: Anastasia Banovec\nPro
 stor: 1N.02 UČILNICA IP - PETJE 2
LOCATION:1N.02 UČILNICA IP - PETJE 2
ORGANIZER:Anastasia Banovec
RELATED-TO:ag-AFLABS-URNIK:srecanje:314
X-WR-TIMEZONE:Europe/Ljubljana
END:VEVENT
BEGIN:VEVENT
SUMMARY:Petje M1 (GU2-026) B2 (PETJE)\, predavanja (PRE)
DTSTART;TZID=Europe/Ljubljana:20240517T120000
DTEND;TZID=Europe/Ljubljana:20240517T130000
DTSTAMP:20260421T192305Z
UID:ag-AFLABS-URNIK:premaknjeno-srecanje:15484
ATTENDEE:Petje (1 - GU2)
ATTENDEE:Petje (2 - GU2)
CATEGORIES:Entry,Standard
COLOR:darkgreen
DESCRIPTION:Predmet: Petje M1 (GU2-026) B2 (PETJE)\, predavanja (PRE)\nLet
 niki: Petje (1 - GU2)\, Petje (2 - GU2)\nIzvajalci: Anastasia Banovec\nPro
 stor: 1N.02 UČILNICA IP - PETJE 2
LOCATION:1N.02 UČILNICA IP - PETJE 2
ORGANIZER:Anastasia Banovec
RELATED-TO:ag-AFLABS-URNIK:srecanje:314
X-WR-TIMEZONE:Europe/Ljubljana
END:VEVENT
BEGIN:VEVENT
SUMMARY:Petje M1 (GU2-026) B2 (PETJE)\, predavanja (PRE)
DTSTART;TZID=Europe/Ljubljana:20240524T120000
DTEND;TZID=Europe/Ljubljana:20240524T130000
DTSTAMP:20260421T192305Z
UID:ag-AFLABS-URNIK:premaknjeno-srecanje:16651
ATTENDEE:Petje (1 - GU2)
ATTENDEE:Petje (2 - GU2)
CATEGORIES:Entry,Standard
COLOR:darkgreen
DESCRIPTION:Predmet: Petje M1 (GU2-026) B2 (PETJE)\, predavanja (PRE)\nLet
 niki: Petje (1 - GU2)\, Petje (2 - GU2)\nIzvajalci: Anastasia Banovec\nPro
 stor: 1N.02 UČILNICA IP - PETJE 2
LOCATION:1N.02 UČILNICA IP - PETJE 2
ORGANIZER:Anastasia Banovec
RELATED-TO:ag-AFLABS-URNIK:srecanje:314
X-WR-TIMEZONE:Europe/Ljubljana
END:VEVENT
BEGIN:VEVENT
SUMMARY:Petje M1 (GU2-026) B2 (PETJE)\, predavanja (PRE)
DTSTART;TZID=Europe/Ljubljana:20240531T120000
DTEND;TZID=Europe/Ljubljana:20240531T130000
DTSTAMP:20260421T192305Z
UID:ag-AFLABS-URNIK:premaknjeno-srecanje:17677
ATTENDEE:Petje (1 - GU2)
ATTENDEE:Petje (2 - GU2)
CATEGORIES:Entry,Standard
COLOR:darkgreen
DESCRIPTION:Predmet: Petje M1 (GU2-026) B2 (PETJE)\, predavanja (PRE)\nLet
 niki: Petje (1 - GU2)\, Petje (2 - GU2)\nIzvajalci: Anastasia Banovec\nPro
 stor: 1N.02 UČILNICA IP - PETJE 2
LOCATION:1N.02 UČILNICA IP - PETJE 2
ORGANIZER:Anastasia Banovec
RELATED-TO:ag-AFLABS-URNIK:srecanje:314
X-WR-TIMEZONE:Europe/Ljubljana
END:VEVENT
BEGIN:VEVENT
SUMMARY:Petje M1 (GU2-026) B2 (PETJE)\, predavanja (PRE)
DTSTART;TZID=Europe/Ljubljana:20240510T130000
DTEND;TZID=Europe/Ljubljana:20240510T140000
DTSTAMP:20260421T192305Z
UID:ag-AFLABS-URNIK:premaknjeno-srecanje:14335
ATTENDEE:Petje (1 - GU2)
ATTENDEE:Petje (2 - GU2)
CATEGORIES:Entry,Standard
COLOR:darkgreen
DESCRIPTION:Predmet: Petje M1 (GU2-026) B2 (PETJE)\, predavanja (PRE)\nLet
 niki: Petje (1 - GU2)\, Petje (2 - GU2)\nIzvajalci: Anastasia Banovec\nPro
 stor: 1N.02 UČILNICA IP - PETJE 2
LOCATION:1N.02 UČILNICA IP - PETJE 2
ORGANIZER:Anastasia Banovec
RELATED-TO:ag-AFLABS-URNIK:srecanje:332
X-WR-TIMEZONE:Europe/Ljubljana
END:VEVENT
BEGIN:VEVENT
SUMMARY:Petje M1 (GU2-026) B2 (PETJE)\, predavanja (PRE)
DTSTART;TZID=Europe/Ljubljana:20240517T130000
DTEND;TZID=Europe/Ljubljana:20240517T140000
DTSTAMP:20260421T192305Z
UID:ag-AFLABS-URNIK:premaknjeno-srecanje:15502
ATTENDEE:Petje (1 - GU2)
ATTENDEE:Petje (2 - GU2)
CATEGORIES:Entry,Standard
COLOR:darkgreen
DESCRIPTION:Predmet: Petje M1 (GU2-026) B2 (PETJE)\, predavanja (PRE)\nLet
 niki: Petje (1 - GU2)\, Petje (2 - GU2)\nIzvajalci: Anastasia Banovec\nPro
 stor: 1N.02 UČILNICA IP - PETJE 2
LOCATION:1N.02 UČILNICA IP - PETJE 2
ORGANIZER:Anastasia Banovec
RELATED-TO:ag-AFLABS-URNIK:srecanje:332
X-WR-TIMEZONE:Europe/Ljubljana
END:VEVENT
BEGIN:VEVENT
SUMMARY:Petje M1 (GU2-026) B2 (PETJE)\, predavanja (PRE)
DTSTART;TZID=Europe/Ljubljana:20240524T130000
DTEND;TZID=Europe/Ljubljana:20240524T140000
DTSTAMP:20260421T192305Z
UID:ag-AFLABS-URNIK:premaknjeno-srecanje:16669
ATTENDEE:Petje (1 - GU2)
ATTENDEE:Petje (2 - GU2)
CATEGORIES:Entry,Standard
COLOR:darkgreen
DESCRIPTION:Predmet: Petje M1 (GU2-026) B2 (PETJE)\, predavanja (PRE)\nLet
 niki: Petje (1 - GU2)\, Petje (2 - GU2)\nIzvajalci: Anastasia Banovec\nPro
 stor: 1N.02 UČILNICA IP - PETJE 2
LOCATION:1N.02 UČILNICA IP - PETJE 2
ORGANIZER:Anastasia Banovec
RELATED-TO:ag-AFLABS-URNIK:srecanje:332
X-WR-TIMEZONE:Europe/Ljubljana
END:VEVENT
BEGIN:VEVENT
SUMMARY:Petje M1 (GU2-026) B2 (PETJE)\, predavanja (PRE)
DTSTART;TZID=Europe/Ljubljana:20240531T130000
DTEND;TZID=Europe/Ljubljana:20240531T140000
DTSTAMP:20260421T192305Z
UID:ag-AFLABS-URNIK:premaknjeno-srecanje:17692
ATTENDEE:Petje (1 - GU2)
ATTENDEE:Petje (2 - GU2)
CATEGORIES:Entry,Standard
COLOR:darkgreen
DESCRIPTION:Predmet: Petje M1 (GU2-026) B2 (PETJE)\, predavanja (PRE)\nLet
 niki: Petje (1 - GU2)\, Petje (2 - GU2)\nIzvajalci: Anastasia Banovec\nPro
 stor: 1N.02 UČILNICA IP - PETJE 2
LOCATION:1N.02 UČILNICA IP - PETJE 2
ORGANIZER:Anastasia Banovec
RELATED-TO:ag-AFLABS-URNIK:srecanje:332
X-WR-TIMEZONE:Europe/Ljubljana
END:VEVENT
BEGIN:VEVENT
SUMMARY:Govorilna ura
DTSTART;TZID=Europe/Ljubljana:20240531T100000
DTEND;TZID=Europe/Ljubljana:20240531T110000
DTSTAMP:20260421T192305Z
UID:ag-AFLABS-URNIK:rezervacija:554
CATEGORIES:Reservation
COLOR:royalblue
DESCRIPTION:Predmeti: \nLetniki: \nIzvajalci: Anastasia Banovec\, Franko B
 ožac\, Barbara Jernejčič Fürst\nProstori: V.03\, V.10\, 1N.02 UČILNIC
 A IP - PETJE 2
LOCATION:V.03\, V.10\, 1N.02 UČILNICA IP - PETJE 2
ORGANIZER:Anastasia Banovec, Franko Božac, Barbara Jernejčič Fürst
X-WR-TIMEZONE:Europe/Ljubljana
END:VEVENT
BEGIN:VEVENT
SUMMARY:Govorilna ura
DTSTART;TZID=Europe/Ljubljana:20240517T100000
DTEND;TZID=Europe/Ljubljana:20240517T110000
DTSTAMP:20260421T192305Z
UID:ag-AFLABS-URNIK:rezervacija:482
CATEGORIES:Reservation
COLOR:royalblue
DESCRIPTION:Predmeti: \nLetniki: \nIzvajalci: Anastasia Banovec\, Franko B
 ožac\, Barbara Jernejčič Fürst\nProstori: V.03\, V.10\, 1N.02 UČILNIC
 A IP - PETJE 2
LOCATION:V.03\, V.10\, 1N.02 UČILNICA IP - PETJE 2
ORGANIZER:Anastasia Banovec, Franko Božac, Barbara Jernejčič Fürst
X-WR-TIMEZONE:Europe/Ljubljana
END:VEVENT
BEGIN:VEVENT
SUMMARY:Govorilna ura
DTSTART;TZID=Europe/Ljubljana:20240510T100000
DTEND;TZID=Europe/Ljubljana:20240510T110000
DTSTAMP:20260421T192305Z
UID:ag-AFLABS-URNIK:rezervacija:446
CATEGORIES:Reservation
COLOR:royalblue
DESCRIPTION:Predmeti: \nLetniki: \nIzvajalci: Anastasia Banovec\, Franko B
 ožac\, Barbara Jernejčič Fürst\nProstori: V.03\, V.10\, 1N.02 UČILNIC
 A IP - PETJE 2
LOCATION:V.03\, V.10\, 1N.02 UČILNICA IP - PETJE 2
ORGANIZER:Anastasia Banovec, Franko Božac, Barbara Jernejčič Fürst
X-WR-TIMEZONE:Europe/Ljubljana
END:VEVENT
BEGIN:VEVENT
SUMMARY:Govorilna ura
DTSTART;TZID=Europe/Ljubljana:20240524T100000
DTEND;TZID=Europe/Ljubljana:20240524T110000
DTSTAMP:20260421T192305Z
UID:ag-AFLABS-URNIK:rezervacija:518
CATEGORIES:Reservation
COLOR:royalblue
DESCRIPTION:Predmeti: \nLetniki: \nIzvajalci: Anastasia Banovec\, Franko B
 ožac\, Barbara Jernejčič Fürst\nProstori: V.03\, V.10\, 1N.02 UČILNIC
 A IP - PETJE 2
LOCATION:V.03\, V.10\, 1N.02 UČILNICA IP - PETJE 2
ORGANIZER:Anastasia Banovec, Franko Božac, Barbara Jernejčič Fürst
X-WR-TIMEZONE:Europe/Ljubljana
END:VEVENT
END:VCALENDAR
