BEGIN:VCALENDAR
VERSION:2.0
PRODID:-//AFLabs urnik izvoz - ag//aflabs.si//SI
DTSTAMP:20260420T151309Z
NAME:UL AG Urnik
REFRESH-INTERVAL:PT1H
SOURCE:https://urnik.ag.uni-lj.si/teacher/17?day=2025-09-08&export=1
URL:https://urnik.ag.uni-lj.si/teacher/17?day=2025-09-08&export=1
X-PUBLISHED-TTL:PT1H
X-WR-CALNAME:UL AG Urnik
X-WR-TIMEZONE:Europe/Ljubljana
BEGIN:VTIMEZONE
TZID:Europe/Ljubljana
BEGIN:DAYLIGHT
DTSTART:20260329T020000
RDATE:20260329T020000
RDATE:20270328T020000
TZNAME:CEST
TZOFFSETFROM:+0100
TZOFFSETTO:+0200
END:DAYLIGHT
BEGIN:STANDARD
DTSTART:20261025T030000
RDATE:20261025T030000
RDATE:20271031T030000
TZNAME:CET
TZOFFSETFROM:+0200
TZOFFSETTO:+0100
END:STANDARD
END:VTIMEZONE
BEGIN:VEVENT
SUMMARY:Kitara 2 (B2909) B (KITAR)\, predavanja (PRE)
DTSTART;TZID=Europe/Ljubljana:20251007T090000
DTEND;TZID=Europe/Ljubljana:20251007T103000
DTSTAMP:20260420T151309Z
UID:ag-AFLABS-URNIK:premaknjeno-srecanje:104125
ATTENDEE:Kitara (1 - GU1)
ATTENDEE:Kitara (2 - GU1)
ATTENDEE:Kitara (3 - GU1)
CATEGORIES:Entry,Standard
COLOR:darkgreen
DESCRIPTION:Predmet: Kitara 2 (B2909) B (KITAR)\, predavanja (PRE)\nLetnik
 i: Kitara (1 - GU1)\, Kitara (2 - GU1)\, Kitara (3 - GU1)\nIzvajalci: Andr
 ej Grafenauer\nProstor: V.24
LOCATION:V.24
ORGANIZER:Andrej Grafenauer
RELATED-TO:ag-AFLABS-URNIK:srecanje:3404
X-WR-TIMEZONE:Europe/Ljubljana
END:VEVENT
BEGIN:VEVENT
SUMMARY:Kitara 3 (B2910) B (KITAR)\, predavanja (PRE)
DTSTART;TZID=Europe/Ljubljana:20251007T104500
DTEND;TZID=Europe/Ljubljana:20251007T121500
DTSTAMP:20260420T151309Z
UID:ag-AFLABS-URNIK:premaknjeno-srecanje:104141
ATTENDEE:Kitara (1 - GU1)
ATTENDEE:Kitara (2 - GU1)
ATTENDEE:Kitara (3 - GU1)
CATEGORIES:Entry,Standard
COLOR:darkgreen
DESCRIPTION:Predmet: Kitara 3 (B2910) B (KITAR)\, predavanja (PRE)\nLetnik
 i: Kitara (1 - GU1)\, Kitara (2 - GU1)\, Kitara (3 - GU1)\nIzvajalci: Andr
 ej Grafenauer\nProstor: V.24
LOCATION:V.24
ORGANIZER:Andrej Grafenauer
RELATED-TO:ag-AFLABS-URNIK:srecanje:3418
X-WR-TIMEZONE:Europe/Ljubljana
END:VEVENT
BEGIN:VEVENT
SUMMARY:Kitara 2 (B2909) B (KITAR)\, predavanja (PRE)
DTSTART;TZID=Europe/Ljubljana:20251007T123000
DTEND;TZID=Europe/Ljubljana:20251007T140000
DTSTAMP:20260420T151309Z
UID:ag-AFLABS-URNIK:premaknjeno-srecanje:104174
ATTENDEE:Kitara (1 - GU1)
ATTENDEE:Kitara (2 - GU1)
ATTENDEE:Kitara (3 - GU1)
CATEGORIES:Entry,Standard
COLOR:darkgreen
DESCRIPTION:Predmet: Kitara 2 (B2909) B (KITAR)\, predavanja (PRE)\nLetnik
 i: Kitara (1 - GU1)\, Kitara (2 - GU1)\, Kitara (3 - GU1)\nIzvajalci: Andr
 ej Grafenauer\nProstor: V.24
LOCATION:V.24
ORGANIZER:Andrej Grafenauer
RELATED-TO:ag-AFLABS-URNIK:srecanje:3441
X-WR-TIMEZONE:Europe/Ljubljana
END:VEVENT
BEGIN:VEVENT
SUMMARY:Specialna didaktika pouka kitare in drugih strunskih instrumentov 
 2 (IPP-59) B2 (SPECI)\, predavanja (PRE)
DTSTART;TZID=Europe/Ljubljana:20251008T090000
DTEND;TZID=Europe/Ljubljana:20251008T103000
DTSTAMP:20260420T151309Z
UID:ag-AFLABS-URNIK:premaknjeno-srecanje:104248
ATTENDEE:2. letnik (2 - GU2)
ATTENDEE:2. letnik (2 - IPP)
CATEGORIES:Entry,Standard
COLOR:darkgreen
DESCRIPTION:Predmet: Specialna didaktika pouka kitare in drugih strunskih 
 instrumentov 2 (IPP-59) B2 (SPECI)\, predavanja (PRE)\nLetniki: 2. letnik 
 (2 - GU2)\, 2. letnik (2 - IPP)\nIzvajalci: Andrej Grafenauer\nProstor: V.
 24
LOCATION:V.24
ORGANIZER:Andrej Grafenauer
RELATED-TO:ag-AFLABS-URNIK:srecanje:3499
X-WR-TIMEZONE:Europe/Ljubljana
END:VEVENT
BEGIN:VEVENT
SUMMARY:Kitara M2 (GU2-053) B2 (KITAR)\, predavanja (PRE)
DTSTART;TZID=Europe/Ljubljana:20251008T104500
DTEND;TZID=Europe/Ljubljana:20251008T121500
DTSTAMP:20260420T151309Z
UID:ag-AFLABS-URNIK:premaknjeno-srecanje:104264
ATTENDEE:Kitara (1 - GU2)
ATTENDEE:Kitara (2 - GU2)
CATEGORIES:Entry,Standard
COLOR:darkgreen
DESCRIPTION:Predmet: Kitara M2 (GU2-053) B2 (KITAR)\, predavanja (PRE)\nLe
 tniki: Kitara (1 - GU2)\, Kitara (2 - GU2)\nIzvajalci: Andrej Grafenauer\n
 Prostor: V.24
LOCATION:V.24
ORGANIZER:Andrej Grafenauer
RELATED-TO:ag-AFLABS-URNIK:srecanje:3511
X-WR-TIMEZONE:Europe/Ljubljana
END:VEVENT
BEGIN:VEVENT
SUMMARY:Kitara 3 (B2910) B (KITAR)\, predavanja (PRE)
DTSTART;TZID=Europe/Ljubljana:20251008T123000
DTEND;TZID=Europe/Ljubljana:20251008T140000
DTSTAMP:20260420T151309Z
UID:ag-AFLABS-URNIK:premaknjeno-srecanje:104291
ATTENDEE:Kitara (1 - GU1)
ATTENDEE:Kitara (2 - GU1)
ATTENDEE:Kitara (3 - GU1)
CATEGORIES:Entry,Standard
COLOR:darkgreen
DESCRIPTION:Predmet: Kitara 3 (B2910) B (KITAR)\, predavanja (PRE)\nLetnik
 i: Kitara (1 - GU1)\, Kitara (2 - GU1)\, Kitara (3 - GU1)\nIzvajalci: Andr
 ej Grafenauer\nProstor: V.24
LOCATION:V.24
ORGANIZER:Andrej Grafenauer
RELATED-TO:ag-AFLABS-URNIK:srecanje:3532
X-WR-TIMEZONE:Europe/Ljubljana
END:VEVENT
BEGIN:VEVENT
SUMMARY:Kitara M2 (GU2-053) B2 (KITAR)\, predavanja (PRE)
DTSTART;TZID=Europe/Ljubljana:20251009T111500
DTEND;TZID=Europe/Ljubljana:20251009T124500
DTSTAMP:20260420T151309Z
UID:ag-AFLABS-URNIK:premaknjeno-srecanje:104387
ATTENDEE:Kitara (1 - GU2)
ATTENDEE:Kitara (2 - GU2)
CATEGORIES:Entry,Standard
COLOR:darkgreen
DESCRIPTION:Predmet: Kitara M2 (GU2-053) B2 (KITAR)\, predavanja (PRE)\nLe
 tniki: Kitara (1 - GU2)\, Kitara (2 - GU2)\nIzvajalci: Andrej Grafenauer\n
 Prostor: V.24
LOCATION:V.24
ORGANIZER:Andrej Grafenauer
RELATED-TO:ag-AFLABS-URNIK:srecanje:3597
X-WR-TIMEZONE:Europe/Ljubljana
END:VEVENT
BEGIN:VEVENT
SUMMARY:Specialna didaktika pouka kitare in drugih strunskih instrumentov 
 1 (IPP-49) B2 (SPECI)\, predavanja (PRE)
DTSTART;TZID=Europe/Ljubljana:20251010T103000
DTEND;TZID=Europe/Ljubljana:20251010T120000
DTSTAMP:20260420T151309Z
UID:ag-AFLABS-URNIK:premaknjeno-srecanje:104496
ATTENDEE:1. letnik (1 - GU2)
ATTENDEE:1. letnik (1 - IPP)
ATTENDEE:2. letnik (2 - GU2)
CATEGORIES:Entry,Standard
COLOR:darkgreen
DESCRIPTION:Predmet: Specialna didaktika pouka kitare in drugih strunskih 
 instrumentov 1 (IPP-49) B2 (SPECI)\, predavanja (PRE)\nLetniki: 1. letnik 
 (1 - GU2)\, 1. letnik (1 - IPP)\, 2. letnik (2 - GU2)\nIzvajalci: Andrej G
 rafenauer\nProstor: G.14
LOCATION:G.14
ORGANIZER:Andrej Grafenauer
RELATED-TO:ag-AFLABS-URNIK:srecanje:3691
X-WR-TIMEZONE:Europe/Ljubljana
END:VEVENT
BEGIN:VEVENT
SUMMARY:Govorilna ura
DTSTART;TZID=Europe/Ljubljana:20251009T100000
DTEND;TZID=Europe/Ljubljana:20251009T110000
DTSTAMP:20260420T151309Z
UID:ag-AFLABS-URNIK:rezervacija:1580
CATEGORIES:Reservation
COLOR:royalblue
DESCRIPTION:Predmeti: \nLetniki: \nIzvajalci: Andrej Grafenauer\nProstori:
  V.24
LOCATION:V.24
ORGANIZER:Andrej Grafenauer
X-WR-TIMEZONE:Europe/Ljubljana
END:VEVENT
END:VCALENDAR
