BEGIN:VCALENDAR
VERSION:2.0
PRODID:-//AFLabs urnik izvoz - ag//aflabs.si//SI
DTSTAMP:20260424T071028Z
NAME:UL AG Urnik
REFRESH-INTERVAL:PT1H
SOURCE:https://urnik.ag.uni-lj.si/teacher/163?day=2024-04-29&export=1
URL:https://urnik.ag.uni-lj.si/teacher/163?day=2024-04-29&export=1
X-PUBLISHED-TTL:PT1H
X-WR-CALNAME:UL AG Urnik
X-WR-TIMEZONE:Europe/Ljubljana
BEGIN:VTIMEZONE
TZID:Europe/Ljubljana
BEGIN:DAYLIGHT
DTSTART:20260329T020000
RDATE:20260329T020000
RDATE:20270328T020000
TZNAME:CEST
TZOFFSETFROM:+0100
TZOFFSETTO:+0200
END:DAYLIGHT
BEGIN:STANDARD
DTSTART:20261025T030000
RDATE:20261025T030000
RDATE:20271031T030000
TZNAME:CET
TZOFFSETFROM:+0200
TZOFFSETTO:+0100
END:STANDARD
END:VTIMEZONE
BEGIN:VEVENT
SUMMARY:Jazz inštrument/petje 1 (B9000) B (JAZZ )\, predavanja (PRE)
DTSTART;TZID=Europe/Ljubljana:20240219T140000
DTEND;TZID=Europe/Ljubljana:20240219T151500
DTSTAMP:20260424T071028Z
UID:ag-AFLABS-URNIK:premaknjeno-srecanje:520
ATTENDEE:Jazz (1 - GU1)
ATTENDEE:Jazz (2 - GU1)
ATTENDEE:Jazz (3 - GU1)
CATEGORIES:Entry,Standard
COLOR:darkgreen
DESCRIPTION:Predmet: Jazz inštrument/petje 1 (B9000) B (JAZZ )\, predavan
 ja (PRE)\nLetniki: Jazz (1 - GU1)\, Jazz (2 - GU1)\, Jazz (3 - GU1)\nIzvaj
 alci: Marko Črnčec\nProstor: PT.02 UČILNICA IP - KLAVIR
LOCATION:PT.02 UČILNICA IP - KLAVIR
ORGANIZER:Marko Črnčec
RELATED-TO:ag-AFLABS-URNIK:srecanje:520
X-WR-TIMEZONE:Europe/Ljubljana
END:VEVENT
BEGIN:VEVENT
SUMMARY:Jazz inštrument/petje 1 (B9000) B (JAZZ )\, predavanja (PRE)
DTSTART;TZID=Europe/Ljubljana:20240226T140000
DTEND;TZID=Europe/Ljubljana:20240226T151500
DTSTAMP:20260424T071028Z
UID:ag-AFLABS-URNIK:premaknjeno-srecanje:1687
ATTENDEE:Jazz (1 - GU1)
ATTENDEE:Jazz (2 - GU1)
ATTENDEE:Jazz (3 - GU1)
CATEGORIES:Entry,Standard
COLOR:darkgreen
DESCRIPTION:Predmet: Jazz inštrument/petje 1 (B9000) B (JAZZ )\, predavan
 ja (PRE)\nLetniki: Jazz (1 - GU1)\, Jazz (2 - GU1)\, Jazz (3 - GU1)\nIzvaj
 alci: Marko Črnčec\nProstor: PT.02 UČILNICA IP - KLAVIR
LOCATION:PT.02 UČILNICA IP - KLAVIR
ORGANIZER:Marko Črnčec
RELATED-TO:ag-AFLABS-URNIK:srecanje:520
X-WR-TIMEZONE:Europe/Ljubljana
END:VEVENT
BEGIN:VEVENT
SUMMARY:Jazz inštrument/petje 1 (B9000) B (JAZZ )\, predavanja (PRE)
DTSTART;TZID=Europe/Ljubljana:20240304T140000
DTEND;TZID=Europe/Ljubljana:20240304T151500
DTSTAMP:20260424T071028Z
UID:ag-AFLABS-URNIK:premaknjeno-srecanje:2854
ATTENDEE:Jazz (1 - GU1)
ATTENDEE:Jazz (2 - GU1)
ATTENDEE:Jazz (3 - GU1)
CATEGORIES:Entry,Standard
COLOR:darkgreen
DESCRIPTION:Predmet: Jazz inštrument/petje 1 (B9000) B (JAZZ )\, predavan
 ja (PRE)\nLetniki: Jazz (1 - GU1)\, Jazz (2 - GU1)\, Jazz (3 - GU1)\nIzvaj
 alci: Marko Črnčec\nProstor: PT.02 UČILNICA IP - KLAVIR
LOCATION:PT.02 UČILNICA IP - KLAVIR
ORGANIZER:Marko Črnčec
RELATED-TO:ag-AFLABS-URNIK:srecanje:520
X-WR-TIMEZONE:Europe/Ljubljana
END:VEVENT
BEGIN:VEVENT
SUMMARY:Jazz inštrument/petje 1 (B9000) B (JAZZ )\, predavanja (PRE)
DTSTART;TZID=Europe/Ljubljana:20240311T140000
DTEND;TZID=Europe/Ljubljana:20240311T151500
DTSTAMP:20260424T071028Z
UID:ag-AFLABS-URNIK:premaknjeno-srecanje:4021
ATTENDEE:Jazz (1 - GU1)
ATTENDEE:Jazz (2 - GU1)
ATTENDEE:Jazz (3 - GU1)
CATEGORIES:Entry,Standard
COLOR:darkgreen
DESCRIPTION:Predmet: Jazz inštrument/petje 1 (B9000) B (JAZZ )\, predavan
 ja (PRE)\nLetniki: Jazz (1 - GU1)\, Jazz (2 - GU1)\, Jazz (3 - GU1)\nIzvaj
 alci: Marko Črnčec\nProstor: PT.02 UČILNICA IP - KLAVIR
LOCATION:PT.02 UČILNICA IP - KLAVIR
ORGANIZER:Marko Črnčec
RELATED-TO:ag-AFLABS-URNIK:srecanje:520
X-WR-TIMEZONE:Europe/Ljubljana
END:VEVENT
BEGIN:VEVENT
SUMMARY:Jazz inštrument/petje 1 (B9000) B (JAZZ )\, predavanja (PRE)
DTSTART;TZID=Europe/Ljubljana:20240318T140000
DTEND;TZID=Europe/Ljubljana:20240318T151500
DTSTAMP:20260424T071028Z
UID:ag-AFLABS-URNIK:premaknjeno-srecanje:5188
ATTENDEE:Jazz (1 - GU1)
ATTENDEE:Jazz (2 - GU1)
ATTENDEE:Jazz (3 - GU1)
CATEGORIES:Entry,Standard
COLOR:darkgreen
DESCRIPTION:Predmet: Jazz inštrument/petje 1 (B9000) B (JAZZ )\, predavan
 ja (PRE)\nLetniki: Jazz (1 - GU1)\, Jazz (2 - GU1)\, Jazz (3 - GU1)\nIzvaj
 alci: Marko Črnčec\nProstor: PT.02 UČILNICA IP - KLAVIR
LOCATION:PT.02 UČILNICA IP - KLAVIR
ORGANIZER:Marko Črnčec
RELATED-TO:ag-AFLABS-URNIK:srecanje:520
X-WR-TIMEZONE:Europe/Ljubljana
END:VEVENT
BEGIN:VEVENT
SUMMARY:Jazz inštrument/petje 1 (B9000) B (JAZZ )\, predavanja (PRE)
DTSTART;TZID=Europe/Ljubljana:20240325T140000
DTEND;TZID=Europe/Ljubljana:20240325T151500
DTSTAMP:20260424T071028Z
UID:ag-AFLABS-URNIK:premaknjeno-srecanje:6354
ATTENDEE:Jazz (1 - GU1)
ATTENDEE:Jazz (2 - GU1)
ATTENDEE:Jazz (3 - GU1)
CATEGORIES:Entry,Standard
COLOR:darkgreen
DESCRIPTION:Predmet: Jazz inštrument/petje 1 (B9000) B (JAZZ )\, predavan
 ja (PRE)\nLetniki: Jazz (1 - GU1)\, Jazz (2 - GU1)\, Jazz (3 - GU1)\nIzvaj
 alci: Marko Črnčec\nProstor: PT.02 UČILNICA IP - KLAVIR
LOCATION:PT.02 UČILNICA IP - KLAVIR
ORGANIZER:Marko Črnčec
RELATED-TO:ag-AFLABS-URNIK:srecanje:520
X-WR-TIMEZONE:Europe/Ljubljana
END:VEVENT
BEGIN:VEVENT
SUMMARY:Jazz inštrument/petje 1 (B9000) B (JAZZ )\, predavanja (PRE)
DTSTART;TZID=Europe/Ljubljana:20240401T140000
DTEND;TZID=Europe/Ljubljana:20240401T151500
DTSTAMP:20260424T071028Z
UID:ag-AFLABS-URNIK:premaknjeno-srecanje:7521
ATTENDEE:Jazz (1 - GU1)
ATTENDEE:Jazz (2 - GU1)
ATTENDEE:Jazz (3 - GU1)
CATEGORIES:Entry,Standard
COLOR:darkgreen
DESCRIPTION:Predmet: Jazz inštrument/petje 1 (B9000) B (JAZZ )\, predavan
 ja (PRE)\nLetniki: Jazz (1 - GU1)\, Jazz (2 - GU1)\, Jazz (3 - GU1)\nIzvaj
 alci: Marko Črnčec\nProstor: PT.02 UČILNICA IP - KLAVIR
LOCATION:PT.02 UČILNICA IP - KLAVIR
ORGANIZER:Marko Črnčec
RELATED-TO:ag-AFLABS-URNIK:srecanje:520
X-WR-TIMEZONE:Europe/Ljubljana
END:VEVENT
BEGIN:VEVENT
SUMMARY:Jazz inštrument/petje 1 (B9000) B (JAZZ )\, predavanja (PRE)
DTSTART;TZID=Europe/Ljubljana:20240408T140000
DTEND;TZID=Europe/Ljubljana:20240408T151500
DTSTAMP:20260424T071028Z
UID:ag-AFLABS-URNIK:premaknjeno-srecanje:8688
ATTENDEE:Jazz (1 - GU1)
ATTENDEE:Jazz (2 - GU1)
ATTENDEE:Jazz (3 - GU1)
CATEGORIES:Entry,Standard
COLOR:darkgreen
DESCRIPTION:Predmet: Jazz inštrument/petje 1 (B9000) B (JAZZ )\, predavan
 ja (PRE)\nLetniki: Jazz (1 - GU1)\, Jazz (2 - GU1)\, Jazz (3 - GU1)\nIzvaj
 alci: Marko Črnčec\nProstor: PT.02 UČILNICA IP - KLAVIR
LOCATION:PT.02 UČILNICA IP - KLAVIR
ORGANIZER:Marko Črnčec
RELATED-TO:ag-AFLABS-URNIK:srecanje:520
X-WR-TIMEZONE:Europe/Ljubljana
END:VEVENT
BEGIN:VEVENT
SUMMARY:Jazz inštrument/petje 1 (B9000) B (JAZZ )\, predavanja (PRE)
DTSTART;TZID=Europe/Ljubljana:20240415T140000
DTEND;TZID=Europe/Ljubljana:20240415T151500
DTSTAMP:20260424T071028Z
UID:ag-AFLABS-URNIK:premaknjeno-srecanje:9855
ATTENDEE:Jazz (1 - GU1)
ATTENDEE:Jazz (2 - GU1)
ATTENDEE:Jazz (3 - GU1)
CATEGORIES:Entry,Standard
COLOR:darkgreen
DESCRIPTION:Predmet: Jazz inštrument/petje 1 (B9000) B (JAZZ )\, predavan
 ja (PRE)\nLetniki: Jazz (1 - GU1)\, Jazz (2 - GU1)\, Jazz (3 - GU1)\nIzvaj
 alci: Marko Črnčec\nProstor: PT.02 UČILNICA IP - KLAVIR
LOCATION:PT.02 UČILNICA IP - KLAVIR
ORGANIZER:Marko Črnčec
RELATED-TO:ag-AFLABS-URNIK:srecanje:520
X-WR-TIMEZONE:Europe/Ljubljana
END:VEVENT
BEGIN:VEVENT
SUMMARY:Jazz inštrument/petje 1 (B9000) B (JAZZ )\, predavanja (PRE)
DTSTART;TZID=Europe/Ljubljana:20240422T140000
DTEND;TZID=Europe/Ljubljana:20240422T151500
DTSTAMP:20260424T071028Z
UID:ag-AFLABS-URNIK:premaknjeno-srecanje:11022
ATTENDEE:Jazz (1 - GU1)
ATTENDEE:Jazz (2 - GU1)
ATTENDEE:Jazz (3 - GU1)
CATEGORIES:Entry,Standard
COLOR:darkgreen
DESCRIPTION:Predmet: Jazz inštrument/petje 1 (B9000) B (JAZZ )\, predavan
 ja (PRE)\nLetniki: Jazz (1 - GU1)\, Jazz (2 - GU1)\, Jazz (3 - GU1)\nIzvaj
 alci: Marko Črnčec\nProstor: PT.02 UČILNICA IP - KLAVIR
LOCATION:PT.02 UČILNICA IP - KLAVIR
ORGANIZER:Marko Črnčec
RELATED-TO:ag-AFLABS-URNIK:srecanje:520
X-WR-TIMEZONE:Europe/Ljubljana
END:VEVENT
BEGIN:VEVENT
SUMMARY:Jazz inštrument/petje 1 (B9000) B (JAZZ )\, predavanja (PRE)
DTSTART;TZID=Europe/Ljubljana:20240429T140000
DTEND;TZID=Europe/Ljubljana:20240429T151500
DTSTAMP:20260424T071028Z
UID:ag-AFLABS-URNIK:premaknjeno-srecanje:12189
ATTENDEE:Jazz (1 - GU1)
ATTENDEE:Jazz (2 - GU1)
ATTENDEE:Jazz (3 - GU1)
CATEGORIES:Entry,Standard
COLOR:darkgreen
DESCRIPTION:Predmet: Jazz inštrument/petje 1 (B9000) B (JAZZ )\, predavan
 ja (PRE)\nLetniki: Jazz (1 - GU1)\, Jazz (2 - GU1)\, Jazz (3 - GU1)\nIzvaj
 alci: Marko Črnčec\nProstor: PT.02 UČILNICA IP - KLAVIR
LOCATION:PT.02 UČILNICA IP - KLAVIR
ORGANIZER:Marko Črnčec
RELATED-TO:ag-AFLABS-URNIK:srecanje:520
X-WR-TIMEZONE:Europe/Ljubljana
END:VEVENT
BEGIN:VEVENT
SUMMARY:Jazz inštrument/petje 1 (B9000) B (JAZZ )\, predavanja (PRE)
DTSTART;TZID=Europe/Ljubljana:20240506T140000
DTEND;TZID=Europe/Ljubljana:20240506T151500
DTSTAMP:20260424T071028Z
UID:ag-AFLABS-URNIK:premaknjeno-srecanje:13356
ATTENDEE:Jazz (1 - GU1)
ATTENDEE:Jazz (2 - GU1)
ATTENDEE:Jazz (3 - GU1)
CATEGORIES:Entry,Standard
COLOR:darkgreen
DESCRIPTION:Predmet: Jazz inštrument/petje 1 (B9000) B (JAZZ )\, predavan
 ja (PRE)\nLetniki: Jazz (1 - GU1)\, Jazz (2 - GU1)\, Jazz (3 - GU1)\nIzvaj
 alci: Marko Črnčec\nProstor: PT.02 UČILNICA IP - KLAVIR
LOCATION:PT.02 UČILNICA IP - KLAVIR
ORGANIZER:Marko Črnčec
RELATED-TO:ag-AFLABS-URNIK:srecanje:520
X-WR-TIMEZONE:Europe/Ljubljana
END:VEVENT
BEGIN:VEVENT
SUMMARY:Jazz inštrument/petje 1 (B9000) B (JAZZ )\, predavanja (PRE)
DTSTART;TZID=Europe/Ljubljana:20240513T140000
DTEND;TZID=Europe/Ljubljana:20240513T151500
DTSTAMP:20260424T071028Z
UID:ag-AFLABS-URNIK:premaknjeno-srecanje:14523
ATTENDEE:Jazz (1 - GU1)
ATTENDEE:Jazz (2 - GU1)
ATTENDEE:Jazz (3 - GU1)
CATEGORIES:Entry,Standard
COLOR:darkgreen
DESCRIPTION:Predmet: Jazz inštrument/petje 1 (B9000) B (JAZZ )\, predavan
 ja (PRE)\nLetniki: Jazz (1 - GU1)\, Jazz (2 - GU1)\, Jazz (3 - GU1)\nIzvaj
 alci: Marko Črnčec\nProstor: PT.02 UČILNICA IP - KLAVIR
LOCATION:PT.02 UČILNICA IP - KLAVIR
ORGANIZER:Marko Črnčec
RELATED-TO:ag-AFLABS-URNIK:srecanje:520
X-WR-TIMEZONE:Europe/Ljubljana
END:VEVENT
BEGIN:VEVENT
SUMMARY:Jazz inštrument/petje 1 (B9000) B (JAZZ )\, predavanja (PRE)
DTSTART;TZID=Europe/Ljubljana:20240520T140000
DTEND;TZID=Europe/Ljubljana:20240520T151500
DTSTAMP:20260424T071028Z
UID:ag-AFLABS-URNIK:premaknjeno-srecanje:15690
ATTENDEE:Jazz (1 - GU1)
ATTENDEE:Jazz (2 - GU1)
ATTENDEE:Jazz (3 - GU1)
CATEGORIES:Entry,Standard
COLOR:darkgreen
DESCRIPTION:Predmet: Jazz inštrument/petje 1 (B9000) B (JAZZ )\, predavan
 ja (PRE)\nLetniki: Jazz (1 - GU1)\, Jazz (2 - GU1)\, Jazz (3 - GU1)\nIzvaj
 alci: Marko Črnčec\nProstor: PT.02 UČILNICA IP - KLAVIR
LOCATION:PT.02 UČILNICA IP - KLAVIR
ORGANIZER:Marko Črnčec
RELATED-TO:ag-AFLABS-URNIK:srecanje:520
X-WR-TIMEZONE:Europe/Ljubljana
END:VEVENT
BEGIN:VEVENT
SUMMARY:Jazz inštrument/petje 1 (B9000) B (JAZZ )\, predavanja (PRE)
DTSTART;TZID=Europe/Ljubljana:20240527T140000
DTEND;TZID=Europe/Ljubljana:20240527T151500
DTSTAMP:20260424T071028Z
UID:ag-AFLABS-URNIK:premaknjeno-srecanje:16839
ATTENDEE:Jazz (1 - GU1)
ATTENDEE:Jazz (2 - GU1)
ATTENDEE:Jazz (3 - GU1)
CATEGORIES:Entry,Standard
COLOR:darkgreen
DESCRIPTION:Predmet: Jazz inštrument/petje 1 (B9000) B (JAZZ )\, predavan
 ja (PRE)\nLetniki: Jazz (1 - GU1)\, Jazz (2 - GU1)\, Jazz (3 - GU1)\nIzvaj
 alci: Marko Črnčec\nProstor: PT.02 UČILNICA IP - KLAVIR
LOCATION:PT.02 UČILNICA IP - KLAVIR
ORGANIZER:Marko Črnčec
RELATED-TO:ag-AFLABS-URNIK:srecanje:520
X-WR-TIMEZONE:Europe/Ljubljana
END:VEVENT
BEGIN:VEVENT
SUMMARY:Jazz klavir - stranski 1 (B9005) B (JAZZ )\, predavanja (PRE)
DTSTART;TZID=Europe/Ljubljana:20240219T153000
DTEND;TZID=Europe/Ljubljana:20240219T161500
DTSTAMP:20260424T071028Z
UID:ag-AFLABS-URNIK:premaknjeno-srecanje:546
ATTENDEE:1. letnik (1 - GU1)
ATTENDEE:Jazz (1 - GU1)
ATTENDEE:Jazz (2 - GU1)
ATTENDEE:Jazz (3 - GU1)
CATEGORIES:Entry,Standard
COLOR:darkgreen
DESCRIPTION:Predmet: Jazz klavir - stranski 1 (B9005) B (JAZZ )\, predavan
 ja (PRE)\nLetniki: 1. letnik (1 - GU1)\, Jazz (1 - GU1)\, Jazz (2 - GU1)\,
  Jazz (3 - GU1)\nIzvajalci: Marko Črnčec\nProstor: KT.07 VADNICA/8x Elek
 trični klavir
LOCATION:KT.07 VADNICA/8x Električni klavir
ORGANIZER:Marko Črnčec
RELATED-TO:ag-AFLABS-URNIK:srecanje:546
X-WR-TIMEZONE:Europe/Ljubljana
END:VEVENT
BEGIN:VEVENT
SUMMARY:Jazz klavir - stranski 1 (B9005) B (JAZZ )\, predavanja (PRE)
DTSTART;TZID=Europe/Ljubljana:20240226T153000
DTEND;TZID=Europe/Ljubljana:20240226T161500
DTSTAMP:20260424T071028Z
UID:ag-AFLABS-URNIK:premaknjeno-srecanje:1713
ATTENDEE:1. letnik (1 - GU1)
ATTENDEE:Jazz (1 - GU1)
ATTENDEE:Jazz (2 - GU1)
ATTENDEE:Jazz (3 - GU1)
CATEGORIES:Entry,Standard
COLOR:darkgreen
DESCRIPTION:Predmet: Jazz klavir - stranski 1 (B9005) B (JAZZ )\, predavan
 ja (PRE)\nLetniki: 1. letnik (1 - GU1)\, Jazz (1 - GU1)\, Jazz (2 - GU1)\,
  Jazz (3 - GU1)\nIzvajalci: Marko Črnčec\nProstor: KT.07 VADNICA/8x Elek
 trični klavir
LOCATION:KT.07 VADNICA/8x Električni klavir
ORGANIZER:Marko Črnčec
RELATED-TO:ag-AFLABS-URNIK:srecanje:546
X-WR-TIMEZONE:Europe/Ljubljana
END:VEVENT
BEGIN:VEVENT
SUMMARY:Jazz klavir - stranski 1 (B9005) B (JAZZ )\, predavanja (PRE)
DTSTART;TZID=Europe/Ljubljana:20240304T153000
DTEND;TZID=Europe/Ljubljana:20240304T161500
DTSTAMP:20260424T071028Z
UID:ag-AFLABS-URNIK:premaknjeno-srecanje:2880
ATTENDEE:1. letnik (1 - GU1)
ATTENDEE:Jazz (1 - GU1)
ATTENDEE:Jazz (2 - GU1)
ATTENDEE:Jazz (3 - GU1)
CATEGORIES:Entry,Standard
COLOR:darkgreen
DESCRIPTION:Predmet: Jazz klavir - stranski 1 (B9005) B (JAZZ )\, predavan
 ja (PRE)\nLetniki: 1. letnik (1 - GU1)\, Jazz (1 - GU1)\, Jazz (2 - GU1)\,
  Jazz (3 - GU1)\nIzvajalci: Marko Črnčec\nProstor: KT.07 VADNICA/8x Elek
 trični klavir
LOCATION:KT.07 VADNICA/8x Električni klavir
ORGANIZER:Marko Črnčec
RELATED-TO:ag-AFLABS-URNIK:srecanje:546
X-WR-TIMEZONE:Europe/Ljubljana
END:VEVENT
BEGIN:VEVENT
SUMMARY:Jazz klavir - stranski 1 (B9005) B (JAZZ )\, predavanja (PRE)
DTSTART;TZID=Europe/Ljubljana:20240311T153000
DTEND;TZID=Europe/Ljubljana:20240311T161500
DTSTAMP:20260424T071028Z
UID:ag-AFLABS-URNIK:premaknjeno-srecanje:4047
ATTENDEE:1. letnik (1 - GU1)
ATTENDEE:Jazz (1 - GU1)
ATTENDEE:Jazz (2 - GU1)
ATTENDEE:Jazz (3 - GU1)
CATEGORIES:Entry,Standard
COLOR:darkgreen
DESCRIPTION:Predmet: Jazz klavir - stranski 1 (B9005) B (JAZZ )\, predavan
 ja (PRE)\nLetniki: 1. letnik (1 - GU1)\, Jazz (1 - GU1)\, Jazz (2 - GU1)\,
  Jazz (3 - GU1)\nIzvajalci: Marko Črnčec\nProstor: KT.07 VADNICA/8x Elek
 trični klavir
LOCATION:KT.07 VADNICA/8x Električni klavir
ORGANIZER:Marko Črnčec
RELATED-TO:ag-AFLABS-URNIK:srecanje:546
X-WR-TIMEZONE:Europe/Ljubljana
END:VEVENT
BEGIN:VEVENT
SUMMARY:Jazz klavir - stranski 1 (B9005) B (JAZZ )\, predavanja (PRE)
DTSTART;TZID=Europe/Ljubljana:20240318T153000
DTEND;TZID=Europe/Ljubljana:20240318T161500
DTSTAMP:20260424T071028Z
UID:ag-AFLABS-URNIK:premaknjeno-srecanje:5214
ATTENDEE:1. letnik (1 - GU1)
ATTENDEE:Jazz (1 - GU1)
ATTENDEE:Jazz (2 - GU1)
ATTENDEE:Jazz (3 - GU1)
CATEGORIES:Entry,Standard
COLOR:darkgreen
DESCRIPTION:Predmet: Jazz klavir - stranski 1 (B9005) B (JAZZ )\, predavan
 ja (PRE)\nLetniki: 1. letnik (1 - GU1)\, Jazz (1 - GU1)\, Jazz (2 - GU1)\,
  Jazz (3 - GU1)\nIzvajalci: Marko Črnčec\nProstor: KT.07 VADNICA/8x Elek
 trični klavir
LOCATION:KT.07 VADNICA/8x Električni klavir
ORGANIZER:Marko Črnčec
RELATED-TO:ag-AFLABS-URNIK:srecanje:546
X-WR-TIMEZONE:Europe/Ljubljana
END:VEVENT
BEGIN:VEVENT
SUMMARY:Jazz klavir - stranski 1 (B9005) B (JAZZ )\, predavanja (PRE)
DTSTART;TZID=Europe/Ljubljana:20240325T153000
DTEND;TZID=Europe/Ljubljana:20240325T161500
DTSTAMP:20260424T071028Z
UID:ag-AFLABS-URNIK:premaknjeno-srecanje:6380
ATTENDEE:1. letnik (1 - GU1)
ATTENDEE:Jazz (1 - GU1)
ATTENDEE:Jazz (2 - GU1)
ATTENDEE:Jazz (3 - GU1)
CATEGORIES:Entry,Standard
COLOR:darkgreen
DESCRIPTION:Predmet: Jazz klavir - stranski 1 (B9005) B (JAZZ )\, predavan
 ja (PRE)\nLetniki: 1. letnik (1 - GU1)\, Jazz (1 - GU1)\, Jazz (2 - GU1)\,
  Jazz (3 - GU1)\nIzvajalci: Marko Črnčec\nProstor: KT.07 VADNICA/8x Elek
 trični klavir
LOCATION:KT.07 VADNICA/8x Električni klavir
ORGANIZER:Marko Črnčec
RELATED-TO:ag-AFLABS-URNIK:srecanje:546
X-WR-TIMEZONE:Europe/Ljubljana
END:VEVENT
BEGIN:VEVENT
SUMMARY:Jazz klavir - stranski 1 (B9005) B (JAZZ )\, predavanja (PRE)
DTSTART;TZID=Europe/Ljubljana:20240401T153000
DTEND;TZID=Europe/Ljubljana:20240401T161500
DTSTAMP:20260424T071028Z
UID:ag-AFLABS-URNIK:premaknjeno-srecanje:7547
ATTENDEE:1. letnik (1 - GU1)
ATTENDEE:Jazz (1 - GU1)
ATTENDEE:Jazz (2 - GU1)
ATTENDEE:Jazz (3 - GU1)
CATEGORIES:Entry,Standard
COLOR:darkgreen
DESCRIPTION:Predmet: Jazz klavir - stranski 1 (B9005) B (JAZZ )\, predavan
 ja (PRE)\nLetniki: 1. letnik (1 - GU1)\, Jazz (1 - GU1)\, Jazz (2 - GU1)\,
  Jazz (3 - GU1)\nIzvajalci: Marko Črnčec\nProstor: KT.07 VADNICA/8x Elek
 trični klavir
LOCATION:KT.07 VADNICA/8x Električni klavir
ORGANIZER:Marko Črnčec
RELATED-TO:ag-AFLABS-URNIK:srecanje:546
X-WR-TIMEZONE:Europe/Ljubljana
END:VEVENT
BEGIN:VEVENT
SUMMARY:Jazz klavir - stranski 1 (B9005) B (JAZZ )\, predavanja (PRE)
DTSTART;TZID=Europe/Ljubljana:20240408T153000
DTEND;TZID=Europe/Ljubljana:20240408T161500
DTSTAMP:20260424T071028Z
UID:ag-AFLABS-URNIK:premaknjeno-srecanje:8714
ATTENDEE:1. letnik (1 - GU1)
ATTENDEE:Jazz (1 - GU1)
ATTENDEE:Jazz (2 - GU1)
ATTENDEE:Jazz (3 - GU1)
CATEGORIES:Entry,Standard
COLOR:darkgreen
DESCRIPTION:Predmet: Jazz klavir - stranski 1 (B9005) B (JAZZ )\, predavan
 ja (PRE)\nLetniki: 1. letnik (1 - GU1)\, Jazz (1 - GU1)\, Jazz (2 - GU1)\,
  Jazz (3 - GU1)\nIzvajalci: Marko Črnčec\nProstor: KT.07 VADNICA/8x Elek
 trični klavir
LOCATION:KT.07 VADNICA/8x Električni klavir
ORGANIZER:Marko Črnčec
RELATED-TO:ag-AFLABS-URNIK:srecanje:546
X-WR-TIMEZONE:Europe/Ljubljana
END:VEVENT
BEGIN:VEVENT
SUMMARY:Jazz klavir - stranski 1 (B9005) B (JAZZ )\, predavanja (PRE)
DTSTART;TZID=Europe/Ljubljana:20240415T153000
DTEND;TZID=Europe/Ljubljana:20240415T161500
DTSTAMP:20260424T071028Z
UID:ag-AFLABS-URNIK:premaknjeno-srecanje:9881
ATTENDEE:1. letnik (1 - GU1)
ATTENDEE:Jazz (1 - GU1)
ATTENDEE:Jazz (2 - GU1)
ATTENDEE:Jazz (3 - GU1)
CATEGORIES:Entry,Standard
COLOR:darkgreen
DESCRIPTION:Predmet: Jazz klavir - stranski 1 (B9005) B (JAZZ )\, predavan
 ja (PRE)\nLetniki: 1. letnik (1 - GU1)\, Jazz (1 - GU1)\, Jazz (2 - GU1)\,
  Jazz (3 - GU1)\nIzvajalci: Marko Črnčec\nProstor: KT.07 VADNICA/8x Elek
 trični klavir
LOCATION:KT.07 VADNICA/8x Električni klavir
ORGANIZER:Marko Črnčec
RELATED-TO:ag-AFLABS-URNIK:srecanje:546
X-WR-TIMEZONE:Europe/Ljubljana
END:VEVENT
BEGIN:VEVENT
SUMMARY:Jazz klavir - stranski 1 (B9005) B (JAZZ )\, predavanja (PRE)
DTSTART;TZID=Europe/Ljubljana:20240422T153000
DTEND;TZID=Europe/Ljubljana:20240422T161500
DTSTAMP:20260424T071028Z
UID:ag-AFLABS-URNIK:premaknjeno-srecanje:11048
ATTENDEE:1. letnik (1 - GU1)
ATTENDEE:Jazz (1 - GU1)
ATTENDEE:Jazz (2 - GU1)
ATTENDEE:Jazz (3 - GU1)
CATEGORIES:Entry,Standard
COLOR:darkgreen
DESCRIPTION:Predmet: Jazz klavir - stranski 1 (B9005) B (JAZZ )\, predavan
 ja (PRE)\nLetniki: 1. letnik (1 - GU1)\, Jazz (1 - GU1)\, Jazz (2 - GU1)\,
  Jazz (3 - GU1)\nIzvajalci: Marko Črnčec\nProstor: KT.07 VADNICA/8x Elek
 trični klavir
LOCATION:KT.07 VADNICA/8x Električni klavir
ORGANIZER:Marko Črnčec
RELATED-TO:ag-AFLABS-URNIK:srecanje:546
X-WR-TIMEZONE:Europe/Ljubljana
END:VEVENT
BEGIN:VEVENT
SUMMARY:Jazz klavir - stranski 1 (B9005) B (JAZZ )\, predavanja (PRE)
DTSTART;TZID=Europe/Ljubljana:20240429T153000
DTEND;TZID=Europe/Ljubljana:20240429T161500
DTSTAMP:20260424T071028Z
UID:ag-AFLABS-URNIK:premaknjeno-srecanje:12215
ATTENDEE:1. letnik (1 - GU1)
ATTENDEE:Jazz (1 - GU1)
ATTENDEE:Jazz (2 - GU1)
ATTENDEE:Jazz (3 - GU1)
CATEGORIES:Entry,Standard
COLOR:darkgreen
DESCRIPTION:Predmet: Jazz klavir - stranski 1 (B9005) B (JAZZ )\, predavan
 ja (PRE)\nLetniki: 1. letnik (1 - GU1)\, Jazz (1 - GU1)\, Jazz (2 - GU1)\,
  Jazz (3 - GU1)\nIzvajalci: Marko Črnčec\nProstor: KT.07 VADNICA/8x Elek
 trični klavir
LOCATION:KT.07 VADNICA/8x Električni klavir
ORGANIZER:Marko Črnčec
RELATED-TO:ag-AFLABS-URNIK:srecanje:546
X-WR-TIMEZONE:Europe/Ljubljana
END:VEVENT
BEGIN:VEVENT
SUMMARY:Jazz klavir - stranski 1 (B9005) B (JAZZ )\, predavanja (PRE)
DTSTART;TZID=Europe/Ljubljana:20240506T153000
DTEND;TZID=Europe/Ljubljana:20240506T161500
DTSTAMP:20260424T071028Z
UID:ag-AFLABS-URNIK:premaknjeno-srecanje:13382
ATTENDEE:1. letnik (1 - GU1)
ATTENDEE:Jazz (1 - GU1)
ATTENDEE:Jazz (2 - GU1)
ATTENDEE:Jazz (3 - GU1)
CATEGORIES:Entry,Standard
COLOR:darkgreen
DESCRIPTION:Predmet: Jazz klavir - stranski 1 (B9005) B (JAZZ )\, predavan
 ja (PRE)\nLetniki: 1. letnik (1 - GU1)\, Jazz (1 - GU1)\, Jazz (2 - GU1)\,
  Jazz (3 - GU1)\nIzvajalci: Marko Črnčec\nProstor: KT.07 VADNICA/8x Elek
 trični klavir
LOCATION:KT.07 VADNICA/8x Električni klavir
ORGANIZER:Marko Črnčec
RELATED-TO:ag-AFLABS-URNIK:srecanje:546
X-WR-TIMEZONE:Europe/Ljubljana
END:VEVENT
BEGIN:VEVENT
SUMMARY:Jazz klavir - stranski 1 (B9005) B (JAZZ )\, predavanja (PRE)
DTSTART;TZID=Europe/Ljubljana:20240513T153000
DTEND;TZID=Europe/Ljubljana:20240513T161500
DTSTAMP:20260424T071028Z
UID:ag-AFLABS-URNIK:premaknjeno-srecanje:14549
ATTENDEE:1. letnik (1 - GU1)
ATTENDEE:Jazz (1 - GU1)
ATTENDEE:Jazz (2 - GU1)
ATTENDEE:Jazz (3 - GU1)
CATEGORIES:Entry,Standard
COLOR:darkgreen
DESCRIPTION:Predmet: Jazz klavir - stranski 1 (B9005) B (JAZZ )\, predavan
 ja (PRE)\nLetniki: 1. letnik (1 - GU1)\, Jazz (1 - GU1)\, Jazz (2 - GU1)\,
  Jazz (3 - GU1)\nIzvajalci: Marko Črnčec\nProstor: KT.07 VADNICA/8x Elek
 trični klavir
LOCATION:KT.07 VADNICA/8x Električni klavir
ORGANIZER:Marko Črnčec
RELATED-TO:ag-AFLABS-URNIK:srecanje:546
X-WR-TIMEZONE:Europe/Ljubljana
END:VEVENT
BEGIN:VEVENT
SUMMARY:Jazz klavir - stranski 1 (B9005) B (JAZZ )\, predavanja (PRE)
DTSTART;TZID=Europe/Ljubljana:20240520T153000
DTEND;TZID=Europe/Ljubljana:20240520T161500
DTSTAMP:20260424T071028Z
UID:ag-AFLABS-URNIK:premaknjeno-srecanje:15716
ATTENDEE:1. letnik (1 - GU1)
ATTENDEE:Jazz (1 - GU1)
ATTENDEE:Jazz (2 - GU1)
ATTENDEE:Jazz (3 - GU1)
CATEGORIES:Entry,Standard
COLOR:darkgreen
DESCRIPTION:Predmet: Jazz klavir - stranski 1 (B9005) B (JAZZ )\, predavan
 ja (PRE)\nLetniki: 1. letnik (1 - GU1)\, Jazz (1 - GU1)\, Jazz (2 - GU1)\,
  Jazz (3 - GU1)\nIzvajalci: Marko Črnčec\nProstor: KT.07 VADNICA/8x Elek
 trični klavir
LOCATION:KT.07 VADNICA/8x Električni klavir
ORGANIZER:Marko Črnčec
RELATED-TO:ag-AFLABS-URNIK:srecanje:546
X-WR-TIMEZONE:Europe/Ljubljana
END:VEVENT
BEGIN:VEVENT
SUMMARY:Jazz klavir - stranski 1 (B9005) B (JAZZ )\, predavanja (PRE)
DTSTART;TZID=Europe/Ljubljana:20240527T153000
DTEND;TZID=Europe/Ljubljana:20240527T161500
DTSTAMP:20260424T071028Z
UID:ag-AFLABS-URNIK:premaknjeno-srecanje:16865
ATTENDEE:1. letnik (1 - GU1)
ATTENDEE:Jazz (1 - GU1)
ATTENDEE:Jazz (2 - GU1)
ATTENDEE:Jazz (3 - GU1)
CATEGORIES:Entry,Standard
COLOR:darkgreen
DESCRIPTION:Predmet: Jazz klavir - stranski 1 (B9005) B (JAZZ )\, predavan
 ja (PRE)\nLetniki: 1. letnik (1 - GU1)\, Jazz (1 - GU1)\, Jazz (2 - GU1)\,
  Jazz (3 - GU1)\nIzvajalci: Marko Črnčec\nProstor: KT.07 VADNICA/8x Elek
 trični klavir
LOCATION:KT.07 VADNICA/8x Električni klavir
ORGANIZER:Marko Črnčec
RELATED-TO:ag-AFLABS-URNIK:srecanje:546
X-WR-TIMEZONE:Europe/Ljubljana
END:VEVENT
END:VCALENDAR
