BEGIN:VCALENDAR
VERSION:2.0
PRODID:-//AFLabs urnik izvoz - ag//aflabs.si//SI
DTSTAMP:20260422T063831Z
NAME:UL AG Urnik
REFRESH-INTERVAL:PT1H
SOURCE:https://urnik.ag.uni-lj.si/teacher/162?day=2024-06-10&export=1
URL:https://urnik.ag.uni-lj.si/teacher/162?day=2024-06-10&export=1
X-PUBLISHED-TTL:PT1H
X-WR-CALNAME:UL AG Urnik
X-WR-TIMEZONE:Europe/Ljubljana
BEGIN:VTIMEZONE
TZID:Europe/Ljubljana
BEGIN:DAYLIGHT
DTSTART:20260329T020000
RDATE:20260329T020000
RDATE:20270328T020000
TZNAME:CEST
TZOFFSETFROM:+0100
TZOFFSETTO:+0200
END:DAYLIGHT
BEGIN:STANDARD
DTSTART:20261025T030000
RDATE:20261025T030000
RDATE:20271031T030000
TZNAME:CET
TZOFFSETFROM:+0200
TZOFFSETTO:+0100
END:STANDARD
END:VTIMEZONE
BEGIN:VEVENT
SUMMARY:Klavir 1 (B2500) B (KLAVI)\, predavanja (PRE)
DTSTART;TZID=Europe/Ljubljana:20240506T090000
DTEND;TZID=Europe/Ljubljana:20240506T110000
DTSTAMP:20260422T063831Z
UID:ag-AFLABS-URNIK:premaknjeno-srecanje:13219
ATTENDEE:Klavir (1 - GU1)
ATTENDEE:Klavir (2 - GU1)
ATTENDEE:Klavir (3 - GU1)
CATEGORIES:Entry,Standard
COLOR:darkgreen
DESCRIPTION:Predmet: Klavir 1 (B2500) B (KLAVI)\, predavanja (PRE)\nLetnik
 i: Klavir (1 - GU1)\, Klavir (2 - GU1)\, Klavir (3 - GU1)\nIzvajalci: Rube
 n Dalibaltayan\nProstor: PT.02 UČILNICA IP - KLAVIR
LOCATION:PT.02 UČILNICA IP - KLAVIR
ORGANIZER:Ruben Dalibaltayan
RELATED-TO:ag-AFLABS-URNIK:srecanje:383
X-WR-TIMEZONE:Europe/Ljubljana
END:VEVENT
BEGIN:VEVENT
SUMMARY:Klavir 1 (B2500) B (KLAVI)\, predavanja (PRE)
DTSTART;TZID=Europe/Ljubljana:20240513T090000
DTEND;TZID=Europe/Ljubljana:20240513T110000
DTSTAMP:20260422T063831Z
UID:ag-AFLABS-URNIK:premaknjeno-srecanje:14386
ATTENDEE:Klavir (1 - GU1)
ATTENDEE:Klavir (2 - GU1)
ATTENDEE:Klavir (3 - GU1)
CATEGORIES:Entry,Standard
COLOR:darkgreen
DESCRIPTION:Predmet: Klavir 1 (B2500) B (KLAVI)\, predavanja (PRE)\nLetnik
 i: Klavir (1 - GU1)\, Klavir (2 - GU1)\, Klavir (3 - GU1)\nIzvajalci: Rube
 n Dalibaltayan\nProstor: PT.02 UČILNICA IP - KLAVIR
LOCATION:PT.02 UČILNICA IP - KLAVIR
ORGANIZER:Ruben Dalibaltayan
RELATED-TO:ag-AFLABS-URNIK:srecanje:383
X-WR-TIMEZONE:Europe/Ljubljana
END:VEVENT
BEGIN:VEVENT
SUMMARY:Klavir 1 (B2500) B (KLAVI)\, predavanja (PRE)
DTSTART;TZID=Europe/Ljubljana:20240520T090000
DTEND;TZID=Europe/Ljubljana:20240520T110000
DTSTAMP:20260422T063831Z
UID:ag-AFLABS-URNIK:premaknjeno-srecanje:15553
ATTENDEE:Klavir (1 - GU1)
ATTENDEE:Klavir (2 - GU1)
ATTENDEE:Klavir (3 - GU1)
CATEGORIES:Entry,Standard
COLOR:darkgreen
DESCRIPTION:Predmet: Klavir 1 (B2500) B (KLAVI)\, predavanja (PRE)\nLetnik
 i: Klavir (1 - GU1)\, Klavir (2 - GU1)\, Klavir (3 - GU1)\nIzvajalci: Rube
 n Dalibaltayan\nProstor: PT.02 UČILNICA IP - KLAVIR
LOCATION:PT.02 UČILNICA IP - KLAVIR
ORGANIZER:Ruben Dalibaltayan
RELATED-TO:ag-AFLABS-URNIK:srecanje:383
X-WR-TIMEZONE:Europe/Ljubljana
END:VEVENT
BEGIN:VEVENT
SUMMARY:Klavir 1 (B2500) B (KLAVI)\, predavanja (PRE)
DTSTART;TZID=Europe/Ljubljana:20240527T090000
DTEND;TZID=Europe/Ljubljana:20240527T110000
DTSTAMP:20260422T063831Z
UID:ag-AFLABS-URNIK:premaknjeno-srecanje:16717
ATTENDEE:Klavir (1 - GU1)
ATTENDEE:Klavir (2 - GU1)
ATTENDEE:Klavir (3 - GU1)
CATEGORIES:Entry,Standard
COLOR:darkgreen
DESCRIPTION:Predmet: Klavir 1 (B2500) B (KLAVI)\, predavanja (PRE)\nLetnik
 i: Klavir (1 - GU1)\, Klavir (2 - GU1)\, Klavir (3 - GU1)\nIzvajalci: Rube
 n Dalibaltayan\nProstor: PT.02 UČILNICA IP - KLAVIR
LOCATION:PT.02 UČILNICA IP - KLAVIR
ORGANIZER:Ruben Dalibaltayan
RELATED-TO:ag-AFLABS-URNIK:srecanje:383
X-WR-TIMEZONE:Europe/Ljubljana
END:VEVENT
BEGIN:VEVENT
SUMMARY:Klavir 1 (B2500) B (KLAVI)\, predavanja (PRE)
DTSTART;TZID=Europe/Ljubljana:20240506T110000
DTEND;TZID=Europe/Ljubljana:20240506T123000
DTSTAMP:20260422T063831Z
UID:ag-AFLABS-URNIK:premaknjeno-srecanje:13274
ATTENDEE:Klavir (1 - GU1)
ATTENDEE:Klavir (2 - GU1)
ATTENDEE:Klavir (3 - GU1)
CATEGORIES:Entry,Standard
COLOR:darkgreen
DESCRIPTION:Predmet: Klavir 1 (B2500) B (KLAVI)\, predavanja (PRE)\nLetnik
 i: Klavir (1 - GU1)\, Klavir (2 - GU1)\, Klavir (3 - GU1)\nIzvajalci: Rube
 n Dalibaltayan\nProstor: PT.02 UČILNICA IP - KLAVIR
LOCATION:PT.02 UČILNICA IP - KLAVIR
ORGANIZER:Ruben Dalibaltayan
RELATED-TO:ag-AFLABS-URNIK:srecanje:438
X-WR-TIMEZONE:Europe/Ljubljana
END:VEVENT
BEGIN:VEVENT
SUMMARY:Klavir 1 (B2500) B (KLAVI)\, predavanja (PRE)
DTSTART;TZID=Europe/Ljubljana:20240513T110000
DTEND;TZID=Europe/Ljubljana:20240513T123000
DTSTAMP:20260422T063831Z
UID:ag-AFLABS-URNIK:premaknjeno-srecanje:14441
ATTENDEE:Klavir (1 - GU1)
ATTENDEE:Klavir (2 - GU1)
ATTENDEE:Klavir (3 - GU1)
CATEGORIES:Entry,Standard
COLOR:darkgreen
DESCRIPTION:Predmet: Klavir 1 (B2500) B (KLAVI)\, predavanja (PRE)\nLetnik
 i: Klavir (1 - GU1)\, Klavir (2 - GU1)\, Klavir (3 - GU1)\nIzvajalci: Rube
 n Dalibaltayan\nProstor: PT.02 UČILNICA IP - KLAVIR
LOCATION:PT.02 UČILNICA IP - KLAVIR
ORGANIZER:Ruben Dalibaltayan
RELATED-TO:ag-AFLABS-URNIK:srecanje:438
X-WR-TIMEZONE:Europe/Ljubljana
END:VEVENT
BEGIN:VEVENT
SUMMARY:Klavir 1 (B2500) B (KLAVI)\, predavanja (PRE)
DTSTART;TZID=Europe/Ljubljana:20240520T110000
DTEND;TZID=Europe/Ljubljana:20240520T123000
DTSTAMP:20260422T063831Z
UID:ag-AFLABS-URNIK:premaknjeno-srecanje:15608
ATTENDEE:Klavir (1 - GU1)
ATTENDEE:Klavir (2 - GU1)
ATTENDEE:Klavir (3 - GU1)
CATEGORIES:Entry,Standard
COLOR:darkgreen
DESCRIPTION:Predmet: Klavir 1 (B2500) B (KLAVI)\, predavanja (PRE)\nLetnik
 i: Klavir (1 - GU1)\, Klavir (2 - GU1)\, Klavir (3 - GU1)\nIzvajalci: Rube
 n Dalibaltayan\nProstor: PT.02 UČILNICA IP - KLAVIR
LOCATION:PT.02 UČILNICA IP - KLAVIR
ORGANIZER:Ruben Dalibaltayan
RELATED-TO:ag-AFLABS-URNIK:srecanje:438
X-WR-TIMEZONE:Europe/Ljubljana
END:VEVENT
BEGIN:VEVENT
SUMMARY:Klavir 1 (B2500) B (KLAVI)\, predavanja (PRE)
DTSTART;TZID=Europe/Ljubljana:20240527T110000
DTEND;TZID=Europe/Ljubljana:20240527T123000
DTSTAMP:20260422T063831Z
UID:ag-AFLABS-URNIK:premaknjeno-srecanje:16767
ATTENDEE:Klavir (1 - GU1)
ATTENDEE:Klavir (2 - GU1)
ATTENDEE:Klavir (3 - GU1)
CATEGORIES:Entry,Standard
COLOR:darkgreen
DESCRIPTION:Predmet: Klavir 1 (B2500) B (KLAVI)\, predavanja (PRE)\nLetnik
 i: Klavir (1 - GU1)\, Klavir (2 - GU1)\, Klavir (3 - GU1)\nIzvajalci: Rube
 n Dalibaltayan\nProstor: PT.02 UČILNICA IP - KLAVIR
LOCATION:PT.02 UČILNICA IP - KLAVIR
ORGANIZER:Ruben Dalibaltayan
RELATED-TO:ag-AFLABS-URNIK:srecanje:438
X-WR-TIMEZONE:Europe/Ljubljana
END:VEVENT
BEGIN:VEVENT
SUMMARY:Klavir 3 (B2506) B (KLAVI)\, predavanja (PRE)
DTSTART;TZID=Europe/Ljubljana:20240506T123000
DTEND;TZID=Europe/Ljubljana:20240506T140000
DTSTAMP:20260422T063831Z
UID:ag-AFLABS-URNIK:premaknjeno-srecanje:13315
ATTENDEE:Klavir (1 - GU1)
ATTENDEE:Klavir (2 - GU1)
ATTENDEE:Klavir (3 - GU1)
CATEGORIES:Entry,Standard
COLOR:darkgreen
DESCRIPTION:Predmet: Klavir 3 (B2506) B (KLAVI)\, predavanja (PRE)\nLetnik
 i: Klavir (1 - GU1)\, Klavir (2 - GU1)\, Klavir (3 - GU1)\nIzvajalci: Rube
 n Dalibaltayan\nProstor: PT.02 UČILNICA IP - KLAVIR
LOCATION:PT.02 UČILNICA IP - KLAVIR
ORGANIZER:Ruben Dalibaltayan
RELATED-TO:ag-AFLABS-URNIK:srecanje:479
X-WR-TIMEZONE:Europe/Ljubljana
END:VEVENT
BEGIN:VEVENT
SUMMARY:Klavir 3 (B2506) B (KLAVI)\, predavanja (PRE)
DTSTART;TZID=Europe/Ljubljana:20240513T123000
DTEND;TZID=Europe/Ljubljana:20240513T140000
DTSTAMP:20260422T063831Z
UID:ag-AFLABS-URNIK:premaknjeno-srecanje:14482
ATTENDEE:Klavir (1 - GU1)
ATTENDEE:Klavir (2 - GU1)
ATTENDEE:Klavir (3 - GU1)
CATEGORIES:Entry,Standard
COLOR:darkgreen
DESCRIPTION:Predmet: Klavir 3 (B2506) B (KLAVI)\, predavanja (PRE)\nLetnik
 i: Klavir (1 - GU1)\, Klavir (2 - GU1)\, Klavir (3 - GU1)\nIzvajalci: Rube
 n Dalibaltayan\nProstor: PT.02 UČILNICA IP - KLAVIR
LOCATION:PT.02 UČILNICA IP - KLAVIR
ORGANIZER:Ruben Dalibaltayan
RELATED-TO:ag-AFLABS-URNIK:srecanje:479
X-WR-TIMEZONE:Europe/Ljubljana
END:VEVENT
BEGIN:VEVENT
SUMMARY:Klavir 3 (B2506) B (KLAVI)\, predavanja (PRE)
DTSTART;TZID=Europe/Ljubljana:20240520T123000
DTEND;TZID=Europe/Ljubljana:20240520T140000
DTSTAMP:20260422T063831Z
UID:ag-AFLABS-URNIK:premaknjeno-srecanje:15649
ATTENDEE:Klavir (1 - GU1)
ATTENDEE:Klavir (2 - GU1)
ATTENDEE:Klavir (3 - GU1)
CATEGORIES:Entry,Standard
COLOR:darkgreen
DESCRIPTION:Predmet: Klavir 3 (B2506) B (KLAVI)\, predavanja (PRE)\nLetnik
 i: Klavir (1 - GU1)\, Klavir (2 - GU1)\, Klavir (3 - GU1)\nIzvajalci: Rube
 n Dalibaltayan\nProstor: PT.02 UČILNICA IP - KLAVIR
LOCATION:PT.02 UČILNICA IP - KLAVIR
ORGANIZER:Ruben Dalibaltayan
RELATED-TO:ag-AFLABS-URNIK:srecanje:479
X-WR-TIMEZONE:Europe/Ljubljana
END:VEVENT
BEGIN:VEVENT
SUMMARY:Klavir 3 (B2506) B (KLAVI)\, predavanja (PRE)
DTSTART;TZID=Europe/Ljubljana:20240527T123000
DTEND;TZID=Europe/Ljubljana:20240527T140000
DTSTAMP:20260422T063831Z
UID:ag-AFLABS-URNIK:premaknjeno-srecanje:16805
ATTENDEE:Klavir (1 - GU1)
ATTENDEE:Klavir (2 - GU1)
ATTENDEE:Klavir (3 - GU1)
CATEGORIES:Entry,Standard
COLOR:darkgreen
DESCRIPTION:Predmet: Klavir 3 (B2506) B (KLAVI)\, predavanja (PRE)\nLetnik
 i: Klavir (1 - GU1)\, Klavir (2 - GU1)\, Klavir (3 - GU1)\nIzvajalci: Rube
 n Dalibaltayan\nProstor: PT.02 UČILNICA IP - KLAVIR
LOCATION:PT.02 UČILNICA IP - KLAVIR
ORGANIZER:Ruben Dalibaltayan
RELATED-TO:ag-AFLABS-URNIK:srecanje:479
X-WR-TIMEZONE:Europe/Ljubljana
END:VEVENT
BEGIN:VEVENT
SUMMARY:Klavir M2 (GU2-037) B2 (KLAVI)\, predavanja (PRE)
DTSTART;TZID=Europe/Ljubljana:20240506T151500
DTEND;TZID=Europe/Ljubljana:20240506T170000
DTSTAMP:20260422T063831Z
UID:ag-AFLABS-URNIK:premaknjeno-srecanje:13378
ATTENDEE:Klavir (1 - GU2)
ATTENDEE:Klavir (2 - GU2)
CATEGORIES:Entry,Standard
COLOR:darkgreen
DESCRIPTION:Predmet: Klavir M2 (GU2-037) B2 (KLAVI)\, predavanja (PRE)\nLe
 tniki: Klavir (1 - GU2)\, Klavir (2 - GU2)\nIzvajalci: Ruben Dalibaltayan\
 nProstor: PT.02 UČILNICA IP - KLAVIR
LOCATION:PT.02 UČILNICA IP - KLAVIR
ORGANIZER:Ruben Dalibaltayan
RELATED-TO:ag-AFLABS-URNIK:srecanje:542
X-WR-TIMEZONE:Europe/Ljubljana
END:VEVENT
BEGIN:VEVENT
SUMMARY:Klavir M2 (GU2-037) B2 (KLAVI)\, predavanja (PRE)
DTSTART;TZID=Europe/Ljubljana:20240513T151500
DTEND;TZID=Europe/Ljubljana:20240513T170000
DTSTAMP:20260422T063831Z
UID:ag-AFLABS-URNIK:premaknjeno-srecanje:14545
ATTENDEE:Klavir (1 - GU2)
ATTENDEE:Klavir (2 - GU2)
CATEGORIES:Entry,Standard
COLOR:darkgreen
DESCRIPTION:Predmet: Klavir M2 (GU2-037) B2 (KLAVI)\, predavanja (PRE)\nLe
 tniki: Klavir (1 - GU2)\, Klavir (2 - GU2)\nIzvajalci: Ruben Dalibaltayan\
 nProstor: PT.02 UČILNICA IP - KLAVIR
LOCATION:PT.02 UČILNICA IP - KLAVIR
ORGANIZER:Ruben Dalibaltayan
RELATED-TO:ag-AFLABS-URNIK:srecanje:542
X-WR-TIMEZONE:Europe/Ljubljana
END:VEVENT
BEGIN:VEVENT
SUMMARY:Klavir M2 (GU2-037) B2 (KLAVI)\, predavanja (PRE)
DTSTART;TZID=Europe/Ljubljana:20240520T151500
DTEND;TZID=Europe/Ljubljana:20240520T170000
DTSTAMP:20260422T063831Z
UID:ag-AFLABS-URNIK:premaknjeno-srecanje:15712
ATTENDEE:Klavir (1 - GU2)
ATTENDEE:Klavir (2 - GU2)
CATEGORIES:Entry,Standard
COLOR:darkgreen
DESCRIPTION:Predmet: Klavir M2 (GU2-037) B2 (KLAVI)\, predavanja (PRE)\nLe
 tniki: Klavir (1 - GU2)\, Klavir (2 - GU2)\nIzvajalci: Ruben Dalibaltayan\
 nProstor: PT.02 UČILNICA IP - KLAVIR
LOCATION:PT.02 UČILNICA IP - KLAVIR
ORGANIZER:Ruben Dalibaltayan
RELATED-TO:ag-AFLABS-URNIK:srecanje:542
X-WR-TIMEZONE:Europe/Ljubljana
END:VEVENT
BEGIN:VEVENT
SUMMARY:Klavir M2 (GU2-037) B2 (KLAVI)\, predavanja (PRE)
DTSTART;TZID=Europe/Ljubljana:20240527T151500
DTEND;TZID=Europe/Ljubljana:20240527T170000
DTSTAMP:20260422T063831Z
UID:ag-AFLABS-URNIK:premaknjeno-srecanje:16861
ATTENDEE:Klavir (1 - GU2)
ATTENDEE:Klavir (2 - GU2)
CATEGORIES:Entry,Standard
COLOR:darkgreen
DESCRIPTION:Predmet: Klavir M2 (GU2-037) B2 (KLAVI)\, predavanja (PRE)\nLe
 tniki: Klavir (1 - GU2)\, Klavir (2 - GU2)\nIzvajalci: Ruben Dalibaltayan\
 nProstor: PT.02 UČILNICA IP - KLAVIR
LOCATION:PT.02 UČILNICA IP - KLAVIR
ORGANIZER:Ruben Dalibaltayan
RELATED-TO:ag-AFLABS-URNIK:srecanje:542
X-WR-TIMEZONE:Europe/Ljubljana
END:VEVENT
BEGIN:VEVENT
SUMMARY:Klavir M2 (GU2-037) B2 (KLAVI)\, predavanja (PRE)
DTSTART;TZID=Europe/Ljubljana:20240506T170000
DTEND;TZID=Europe/Ljubljana:20240506T190000
DTSTAMP:20260422T063831Z
UID:ag-AFLABS-URNIK:premaknjeno-srecanje:13407
ATTENDEE:Klavir (1 - GU2)
ATTENDEE:Klavir (2 - GU2)
CATEGORIES:Entry,Standard
COLOR:darkgreen
DESCRIPTION:Predmet: Klavir M2 (GU2-037) B2 (KLAVI)\, predavanja (PRE)\nLe
 tniki: Klavir (1 - GU2)\, Klavir (2 - GU2)\nIzvajalci: Ruben Dalibaltayan\
 nProstor: PT.02 UČILNICA IP - KLAVIR
LOCATION:PT.02 UČILNICA IP - KLAVIR
ORGANIZER:Ruben Dalibaltayan
RELATED-TO:ag-AFLABS-URNIK:srecanje:571
X-WR-TIMEZONE:Europe/Ljubljana
END:VEVENT
BEGIN:VEVENT
SUMMARY:Klavir M2 (GU2-037) B2 (KLAVI)\, predavanja (PRE)
DTSTART;TZID=Europe/Ljubljana:20240513T170000
DTEND;TZID=Europe/Ljubljana:20240513T190000
DTSTAMP:20260422T063831Z
UID:ag-AFLABS-URNIK:premaknjeno-srecanje:14574
ATTENDEE:Klavir (1 - GU2)
ATTENDEE:Klavir (2 - GU2)
CATEGORIES:Entry,Standard
COLOR:darkgreen
DESCRIPTION:Predmet: Klavir M2 (GU2-037) B2 (KLAVI)\, predavanja (PRE)\nLe
 tniki: Klavir (1 - GU2)\, Klavir (2 - GU2)\nIzvajalci: Ruben Dalibaltayan\
 nProstor: PT.02 UČILNICA IP - KLAVIR
LOCATION:PT.02 UČILNICA IP - KLAVIR
ORGANIZER:Ruben Dalibaltayan
RELATED-TO:ag-AFLABS-URNIK:srecanje:571
X-WR-TIMEZONE:Europe/Ljubljana
END:VEVENT
BEGIN:VEVENT
SUMMARY:Klavir M2 (GU2-037) B2 (KLAVI)\, predavanja (PRE)
DTSTART;TZID=Europe/Ljubljana:20240520T170000
DTEND;TZID=Europe/Ljubljana:20240520T190000
DTSTAMP:20260422T063831Z
UID:ag-AFLABS-URNIK:premaknjeno-srecanje:15741
ATTENDEE:Klavir (1 - GU2)
ATTENDEE:Klavir (2 - GU2)
CATEGORIES:Entry,Standard
COLOR:darkgreen
DESCRIPTION:Predmet: Klavir M2 (GU2-037) B2 (KLAVI)\, predavanja (PRE)\nLe
 tniki: Klavir (1 - GU2)\, Klavir (2 - GU2)\nIzvajalci: Ruben Dalibaltayan\
 nProstor: PT.02 UČILNICA IP - KLAVIR
LOCATION:PT.02 UČILNICA IP - KLAVIR
ORGANIZER:Ruben Dalibaltayan
RELATED-TO:ag-AFLABS-URNIK:srecanje:571
X-WR-TIMEZONE:Europe/Ljubljana
END:VEVENT
BEGIN:VEVENT
SUMMARY:Klavir M2 (GU2-037) B2 (KLAVI)\, predavanja (PRE)
DTSTART;TZID=Europe/Ljubljana:20240527T170000
DTEND;TZID=Europe/Ljubljana:20240527T190000
DTSTAMP:20260422T063831Z
UID:ag-AFLABS-URNIK:premaknjeno-srecanje:16889
ATTENDEE:Klavir (1 - GU2)
ATTENDEE:Klavir (2 - GU2)
CATEGORIES:Entry,Standard
COLOR:darkgreen
DESCRIPTION:Predmet: Klavir M2 (GU2-037) B2 (KLAVI)\, predavanja (PRE)\nLe
 tniki: Klavir (1 - GU2)\, Klavir (2 - GU2)\nIzvajalci: Ruben Dalibaltayan\
 nProstor: PT.02 UČILNICA IP - KLAVIR
LOCATION:PT.02 UČILNICA IP - KLAVIR
ORGANIZER:Ruben Dalibaltayan
RELATED-TO:ag-AFLABS-URNIK:srecanje:571
X-WR-TIMEZONE:Europe/Ljubljana
END:VEVENT
BEGIN:VEVENT
SUMMARY:Klavir 3 (B2506) B (KLAVI)\, predavanja (PRE)
DTSTART;TZID=Europe/Ljubljana:20240507T090000
DTEND;TZID=Europe/Ljubljana:20240507T113000
DTSTAMP:20260422T063831Z
UID:ag-AFLABS-URNIK:premaknjeno-srecanje:13442
ATTENDEE:Klavir (1 - GU1)
ATTENDEE:Klavir (2 - GU1)
ATTENDEE:Klavir (3 - GU1)
CATEGORIES:Entry,Standard
COLOR:darkgreen
DESCRIPTION:Predmet: Klavir 3 (B2506) B (KLAVI)\, predavanja (PRE)\nLetnik
 i: Klavir (1 - GU1)\, Klavir (2 - GU1)\, Klavir (3 - GU1)\nIzvajalci: Rube
 n Dalibaltayan\nProstor: 2N.19 UČILNICA ZA KLAVIR
LOCATION:2N.19 UČILNICA ZA KLAVIR
ORGANIZER:Ruben Dalibaltayan
RELATED-TO:ag-AFLABS-URNIK:srecanje:606
X-WR-TIMEZONE:Europe/Ljubljana
END:VEVENT
BEGIN:VEVENT
SUMMARY:Klavir 3 (B2506) B (KLAVI)\, predavanja (PRE)
DTSTART;TZID=Europe/Ljubljana:20240514T090000
DTEND;TZID=Europe/Ljubljana:20240514T113000
DTSTAMP:20260422T063831Z
UID:ag-AFLABS-URNIK:premaknjeno-srecanje:14609
ATTENDEE:Klavir (1 - GU1)
ATTENDEE:Klavir (2 - GU1)
ATTENDEE:Klavir (3 - GU1)
CATEGORIES:Entry,Standard
COLOR:darkgreen
DESCRIPTION:Predmet: Klavir 3 (B2506) B (KLAVI)\, predavanja (PRE)\nLetnik
 i: Klavir (1 - GU1)\, Klavir (2 - GU1)\, Klavir (3 - GU1)\nIzvajalci: Rube
 n Dalibaltayan\nProstor: 2N.19 UČILNICA ZA KLAVIR
LOCATION:2N.19 UČILNICA ZA KLAVIR
ORGANIZER:Ruben Dalibaltayan
RELATED-TO:ag-AFLABS-URNIK:srecanje:606
X-WR-TIMEZONE:Europe/Ljubljana
END:VEVENT
BEGIN:VEVENT
SUMMARY:Klavir 3 (B2506) B (KLAVI)\, predavanja (PRE)
DTSTART;TZID=Europe/Ljubljana:20240521T090000
DTEND;TZID=Europe/Ljubljana:20240521T113000
DTSTAMP:20260422T063831Z
UID:ag-AFLABS-URNIK:premaknjeno-srecanje:15776
ATTENDEE:Klavir (1 - GU1)
ATTENDEE:Klavir (2 - GU1)
ATTENDEE:Klavir (3 - GU1)
CATEGORIES:Entry,Standard
COLOR:darkgreen
DESCRIPTION:Predmet: Klavir 3 (B2506) B (KLAVI)\, predavanja (PRE)\nLetnik
 i: Klavir (1 - GU1)\, Klavir (2 - GU1)\, Klavir (3 - GU1)\nIzvajalci: Rube
 n Dalibaltayan\nProstor: 2N.19 UČILNICA ZA KLAVIR
LOCATION:2N.19 UČILNICA ZA KLAVIR
ORGANIZER:Ruben Dalibaltayan
RELATED-TO:ag-AFLABS-URNIK:srecanje:606
X-WR-TIMEZONE:Europe/Ljubljana
END:VEVENT
BEGIN:VEVENT
SUMMARY:Klavir 3 (B2506) B (KLAVI)\, predavanja (PRE)
DTSTART;TZID=Europe/Ljubljana:20240528T090000
DTEND;TZID=Europe/Ljubljana:20240528T113000
DTSTAMP:20260422T063831Z
UID:ag-AFLABS-URNIK:premaknjeno-srecanje:16920
ATTENDEE:Klavir (1 - GU1)
ATTENDEE:Klavir (2 - GU1)
ATTENDEE:Klavir (3 - GU1)
CATEGORIES:Entry,Standard
COLOR:darkgreen
DESCRIPTION:Predmet: Klavir 3 (B2506) B (KLAVI)\, predavanja (PRE)\nLetnik
 i: Klavir (1 - GU1)\, Klavir (2 - GU1)\, Klavir (3 - GU1)\nIzvajalci: Rube
 n Dalibaltayan\nProstor: 2N.19 UČILNICA ZA KLAVIR
LOCATION:2N.19 UČILNICA ZA KLAVIR
ORGANIZER:Ruben Dalibaltayan
RELATED-TO:ag-AFLABS-URNIK:srecanje:606
X-WR-TIMEZONE:Europe/Ljubljana
END:VEVENT
BEGIN:VEVENT
SUMMARY:Klavir M2 (GU2-037) B2 (KLAVI)\, predavanja (PRE)
DTSTART;TZID=Europe/Ljubljana:20240507T113000
DTEND;TZID=Europe/Ljubljana:20240507T133000
DTSTAMP:20260422T063831Z
UID:ag-AFLABS-URNIK:premaknjeno-srecanje:13528
ATTENDEE:Klavir (1 - GU2)
ATTENDEE:Klavir (2 - GU2)
CATEGORIES:Entry,Standard
COLOR:darkgreen
DESCRIPTION:Predmet: Klavir M2 (GU2-037) B2 (KLAVI)\, predavanja (PRE)\nLe
 tniki: Klavir (1 - GU2)\, Klavir (2 - GU2)\nIzvajalci: Ruben Dalibaltayan\
 nProstor: 2N.19 UČILNICA ZA KLAVIR
LOCATION:2N.19 UČILNICA ZA KLAVIR
ORGANIZER:Ruben Dalibaltayan
RELATED-TO:ag-AFLABS-URNIK:srecanje:692
X-WR-TIMEZONE:Europe/Ljubljana
END:VEVENT
BEGIN:VEVENT
SUMMARY:Klavir M2 (GU2-037) B2 (KLAVI)\, predavanja (PRE)
DTSTART;TZID=Europe/Ljubljana:20240514T113000
DTEND;TZID=Europe/Ljubljana:20240514T133000
DTSTAMP:20260422T063831Z
UID:ag-AFLABS-URNIK:premaknjeno-srecanje:14695
ATTENDEE:Klavir (1 - GU2)
ATTENDEE:Klavir (2 - GU2)
CATEGORIES:Entry,Standard
COLOR:darkgreen
DESCRIPTION:Predmet: Klavir M2 (GU2-037) B2 (KLAVI)\, predavanja (PRE)\nLe
 tniki: Klavir (1 - GU2)\, Klavir (2 - GU2)\nIzvajalci: Ruben Dalibaltayan\
 nProstor: 2N.19 UČILNICA ZA KLAVIR
LOCATION:2N.19 UČILNICA ZA KLAVIR
ORGANIZER:Ruben Dalibaltayan
RELATED-TO:ag-AFLABS-URNIK:srecanje:692
X-WR-TIMEZONE:Europe/Ljubljana
END:VEVENT
BEGIN:VEVENT
SUMMARY:Klavir M2 (GU2-037) B2 (KLAVI)\, predavanja (PRE)
DTSTART;TZID=Europe/Ljubljana:20240521T113000
DTEND;TZID=Europe/Ljubljana:20240521T133000
DTSTAMP:20260422T063831Z
UID:ag-AFLABS-URNIK:premaknjeno-srecanje:15862
ATTENDEE:Klavir (1 - GU2)
ATTENDEE:Klavir (2 - GU2)
CATEGORIES:Entry,Standard
COLOR:darkgreen
DESCRIPTION:Predmet: Klavir M2 (GU2-037) B2 (KLAVI)\, predavanja (PRE)\nLe
 tniki: Klavir (1 - GU2)\, Klavir (2 - GU2)\nIzvajalci: Ruben Dalibaltayan\
 nProstor: 2N.19 UČILNICA ZA KLAVIR
LOCATION:2N.19 UČILNICA ZA KLAVIR
ORGANIZER:Ruben Dalibaltayan
RELATED-TO:ag-AFLABS-URNIK:srecanje:692
X-WR-TIMEZONE:Europe/Ljubljana
END:VEVENT
BEGIN:VEVENT
SUMMARY:Klavir M2 (GU2-037) B2 (KLAVI)\, predavanja (PRE)
DTSTART;TZID=Europe/Ljubljana:20240528T113000
DTEND;TZID=Europe/Ljubljana:20240528T133000
DTSTAMP:20260422T063831Z
UID:ag-AFLABS-URNIK:premaknjeno-srecanje:17000
ATTENDEE:Klavir (1 - GU2)
ATTENDEE:Klavir (2 - GU2)
CATEGORIES:Entry,Standard
COLOR:darkgreen
DESCRIPTION:Predmet: Klavir M2 (GU2-037) B2 (KLAVI)\, predavanja (PRE)\nLe
 tniki: Klavir (1 - GU2)\, Klavir (2 - GU2)\nIzvajalci: Ruben Dalibaltayan\
 nProstor: 2N.19 UČILNICA ZA KLAVIR
LOCATION:2N.19 UČILNICA ZA KLAVIR
ORGANIZER:Ruben Dalibaltayan
RELATED-TO:ag-AFLABS-URNIK:srecanje:692
X-WR-TIMEZONE:Europe/Ljubljana
END:VEVENT
BEGIN:VEVENT
SUMMARY:Klavir M2 (GU2-037) B2 (KLAVI)\, predavanja (PRE)
DTSTART;TZID=Europe/Ljubljana:20240507T133000
DTEND;TZID=Europe/Ljubljana:20240507T153000
DTSTAMP:20260422T063831Z
UID:ag-AFLABS-URNIK:premaknjeno-srecanje:13585
ATTENDEE:Klavir (1 - GU2)
ATTENDEE:Klavir (2 - GU2)
CATEGORIES:Entry,Standard
COLOR:darkgreen
DESCRIPTION:Predmet: Klavir M2 (GU2-037) B2 (KLAVI)\, predavanja (PRE)\nLe
 tniki: Klavir (1 - GU2)\, Klavir (2 - GU2)\nIzvajalci: Ruben Dalibaltayan\
 nProstor: 2N.19 UČILNICA ZA KLAVIR
LOCATION:2N.19 UČILNICA ZA KLAVIR
ORGANIZER:Ruben Dalibaltayan
RELATED-TO:ag-AFLABS-URNIK:srecanje:749
X-WR-TIMEZONE:Europe/Ljubljana
END:VEVENT
BEGIN:VEVENT
SUMMARY:Klavir M2 (GU2-037) B2 (KLAVI)\, predavanja (PRE)
DTSTART;TZID=Europe/Ljubljana:20240514T133000
DTEND;TZID=Europe/Ljubljana:20240514T153000
DTSTAMP:20260422T063831Z
UID:ag-AFLABS-URNIK:premaknjeno-srecanje:14752
ATTENDEE:Klavir (1 - GU2)
ATTENDEE:Klavir (2 - GU2)
CATEGORIES:Entry,Standard
COLOR:darkgreen
DESCRIPTION:Predmet: Klavir M2 (GU2-037) B2 (KLAVI)\, predavanja (PRE)\nLe
 tniki: Klavir (1 - GU2)\, Klavir (2 - GU2)\nIzvajalci: Ruben Dalibaltayan\
 nProstor: 2N.19 UČILNICA ZA KLAVIR
LOCATION:2N.19 UČILNICA ZA KLAVIR
ORGANIZER:Ruben Dalibaltayan
RELATED-TO:ag-AFLABS-URNIK:srecanje:749
X-WR-TIMEZONE:Europe/Ljubljana
END:VEVENT
BEGIN:VEVENT
SUMMARY:Klavir M2 (GU2-037) B2 (KLAVI)\, predavanja (PRE)
DTSTART;TZID=Europe/Ljubljana:20240521T133000
DTEND;TZID=Europe/Ljubljana:20240521T153000
DTSTAMP:20260422T063831Z
UID:ag-AFLABS-URNIK:premaknjeno-srecanje:15919
ATTENDEE:Klavir (1 - GU2)
ATTENDEE:Klavir (2 - GU2)
CATEGORIES:Entry,Standard
COLOR:darkgreen
DESCRIPTION:Predmet: Klavir M2 (GU2-037) B2 (KLAVI)\, predavanja (PRE)\nLe
 tniki: Klavir (1 - GU2)\, Klavir (2 - GU2)\nIzvajalci: Ruben Dalibaltayan\
 nProstor: 2N.19 UČILNICA ZA KLAVIR
LOCATION:2N.19 UČILNICA ZA KLAVIR
ORGANIZER:Ruben Dalibaltayan
RELATED-TO:ag-AFLABS-URNIK:srecanje:749
X-WR-TIMEZONE:Europe/Ljubljana
END:VEVENT
BEGIN:VEVENT
SUMMARY:Klavir M2 (GU2-037) B2 (KLAVI)\, predavanja (PRE)
DTSTART;TZID=Europe/Ljubljana:20240528T133000
DTEND;TZID=Europe/Ljubljana:20240528T153000
DTSTAMP:20260422T063831Z
UID:ag-AFLABS-URNIK:premaknjeno-srecanje:17051
ATTENDEE:Klavir (1 - GU2)
ATTENDEE:Klavir (2 - GU2)
CATEGORIES:Entry,Standard
COLOR:darkgreen
DESCRIPTION:Predmet: Klavir M2 (GU2-037) B2 (KLAVI)\, predavanja (PRE)\nLe
 tniki: Klavir (1 - GU2)\, Klavir (2 - GU2)\nIzvajalci: Ruben Dalibaltayan\
 nProstor: 2N.19 UČILNICA ZA KLAVIR
LOCATION:2N.19 UČILNICA ZA KLAVIR
ORGANIZER:Ruben Dalibaltayan
RELATED-TO:ag-AFLABS-URNIK:srecanje:749
X-WR-TIMEZONE:Europe/Ljubljana
END:VEVENT
BEGIN:VEVENT
SUMMARY:Klavir 1 (B2500) B (KLAVI)\, predavanja (PRE)
DTSTART;TZID=Europe/Ljubljana:20240507T153000
DTEND;TZID=Europe/Ljubljana:20240507T173000
DTSTAMP:20260422T063831Z
UID:ag-AFLABS-URNIK:premaknjeno-srecanje:13644
ATTENDEE:Klavir (1 - GU1)
ATTENDEE:Klavir (2 - GU1)
ATTENDEE:Klavir (3 - GU1)
CATEGORIES:Entry,Standard
COLOR:darkgreen
DESCRIPTION:Predmet: Klavir 1 (B2500) B (KLAVI)\, predavanja (PRE)\nLetnik
 i: Klavir (1 - GU1)\, Klavir (2 - GU1)\, Klavir (3 - GU1)\nIzvajalci: Rube
 n Dalibaltayan\nProstor: 2N.19 UČILNICA ZA KLAVIR
LOCATION:2N.19 UČILNICA ZA KLAVIR
ORGANIZER:Ruben Dalibaltayan
RELATED-TO:ag-AFLABS-URNIK:srecanje:808
X-WR-TIMEZONE:Europe/Ljubljana
END:VEVENT
BEGIN:VEVENT
SUMMARY:Klavir 1 (B2500) B (KLAVI)\, predavanja (PRE)
DTSTART;TZID=Europe/Ljubljana:20240514T153000
DTEND;TZID=Europe/Ljubljana:20240514T173000
DTSTAMP:20260422T063831Z
UID:ag-AFLABS-URNIK:premaknjeno-srecanje:14811
ATTENDEE:Klavir (1 - GU1)
ATTENDEE:Klavir (2 - GU1)
ATTENDEE:Klavir (3 - GU1)
CATEGORIES:Entry,Standard
COLOR:darkgreen
DESCRIPTION:Predmet: Klavir 1 (B2500) B (KLAVI)\, predavanja (PRE)\nLetnik
 i: Klavir (1 - GU1)\, Klavir (2 - GU1)\, Klavir (3 - GU1)\nIzvajalci: Rube
 n Dalibaltayan\nProstor: 2N.19 UČILNICA ZA KLAVIR
LOCATION:2N.19 UČILNICA ZA KLAVIR
ORGANIZER:Ruben Dalibaltayan
RELATED-TO:ag-AFLABS-URNIK:srecanje:808
X-WR-TIMEZONE:Europe/Ljubljana
END:VEVENT
BEGIN:VEVENT
SUMMARY:Klavir 1 (B2500) B (KLAVI)\, predavanja (PRE)
DTSTART;TZID=Europe/Ljubljana:20240521T153000
DTEND;TZID=Europe/Ljubljana:20240521T173000
DTSTAMP:20260422T063831Z
UID:ag-AFLABS-URNIK:premaknjeno-srecanje:15978
ATTENDEE:Klavir (1 - GU1)
ATTENDEE:Klavir (2 - GU1)
ATTENDEE:Klavir (3 - GU1)
CATEGORIES:Entry,Standard
COLOR:darkgreen
DESCRIPTION:Predmet: Klavir 1 (B2500) B (KLAVI)\, predavanja (PRE)\nLetnik
 i: Klavir (1 - GU1)\, Klavir (2 - GU1)\, Klavir (3 - GU1)\nIzvajalci: Rube
 n Dalibaltayan\nProstor: 2N.19 UČILNICA ZA KLAVIR
LOCATION:2N.19 UČILNICA ZA KLAVIR
ORGANIZER:Ruben Dalibaltayan
RELATED-TO:ag-AFLABS-URNIK:srecanje:808
X-WR-TIMEZONE:Europe/Ljubljana
END:VEVENT
BEGIN:VEVENT
SUMMARY:Klavir 1 (B2500) B (KLAVI)\, predavanja (PRE)
DTSTART;TZID=Europe/Ljubljana:20240528T153000
DTEND;TZID=Europe/Ljubljana:20240528T173000
DTSTAMP:20260422T063831Z
UID:ag-AFLABS-URNIK:premaknjeno-srecanje:17106
ATTENDEE:Klavir (1 - GU1)
ATTENDEE:Klavir (2 - GU1)
ATTENDEE:Klavir (3 - GU1)
CATEGORIES:Entry,Standard
COLOR:darkgreen
DESCRIPTION:Predmet: Klavir 1 (B2500) B (KLAVI)\, predavanja (PRE)\nLetnik
 i: Klavir (1 - GU1)\, Klavir (2 - GU1)\, Klavir (3 - GU1)\nIzvajalci: Rube
 n Dalibaltayan\nProstor: 2N.19 UČILNICA ZA KLAVIR
LOCATION:2N.19 UČILNICA ZA KLAVIR
ORGANIZER:Ruben Dalibaltayan
RELATED-TO:ag-AFLABS-URNIK:srecanje:808
X-WR-TIMEZONE:Europe/Ljubljana
END:VEVENT
BEGIN:VEVENT
SUMMARY:Klavir 1 (B2500) B (KLAVI)\, predavanja (PRE)
DTSTART;TZID=Europe/Ljubljana:20240507T173000
DTEND;TZID=Europe/Ljubljana:20240507T193000
DTSTAMP:20260422T063831Z
UID:ag-AFLABS-URNIK:premaknjeno-srecanje:13697
ATTENDEE:Klavir (1 - GU1)
ATTENDEE:Klavir (2 - GU1)
ATTENDEE:Klavir (3 - GU1)
CATEGORIES:Entry,Standard
COLOR:darkgreen
DESCRIPTION:Predmet: Klavir 1 (B2500) B (KLAVI)\, predavanja (PRE)\nLetnik
 i: Klavir (1 - GU1)\, Klavir (2 - GU1)\, Klavir (3 - GU1)\nIzvajalci: Rube
 n Dalibaltayan\nProstor: 2N.19 UČILNICA ZA KLAVIR
LOCATION:2N.19 UČILNICA ZA KLAVIR
ORGANIZER:Ruben Dalibaltayan
RELATED-TO:ag-AFLABS-URNIK:srecanje:861
X-WR-TIMEZONE:Europe/Ljubljana
END:VEVENT
BEGIN:VEVENT
SUMMARY:Klavir 1 (B2500) B (KLAVI)\, predavanja (PRE)
DTSTART;TZID=Europe/Ljubljana:20240514T173000
DTEND;TZID=Europe/Ljubljana:20240514T193000
DTSTAMP:20260422T063831Z
UID:ag-AFLABS-URNIK:premaknjeno-srecanje:14864
ATTENDEE:Klavir (1 - GU1)
ATTENDEE:Klavir (2 - GU1)
ATTENDEE:Klavir (3 - GU1)
CATEGORIES:Entry,Standard
COLOR:darkgreen
DESCRIPTION:Predmet: Klavir 1 (B2500) B (KLAVI)\, predavanja (PRE)\nLetnik
 i: Klavir (1 - GU1)\, Klavir (2 - GU1)\, Klavir (3 - GU1)\nIzvajalci: Rube
 n Dalibaltayan\nProstor: 2N.19 UČILNICA ZA KLAVIR
LOCATION:2N.19 UČILNICA ZA KLAVIR
ORGANIZER:Ruben Dalibaltayan
RELATED-TO:ag-AFLABS-URNIK:srecanje:861
X-WR-TIMEZONE:Europe/Ljubljana
END:VEVENT
BEGIN:VEVENT
SUMMARY:Klavir 1 (B2500) B (KLAVI)\, predavanja (PRE)
DTSTART;TZID=Europe/Ljubljana:20240521T173000
DTEND;TZID=Europe/Ljubljana:20240521T193000
DTSTAMP:20260422T063831Z
UID:ag-AFLABS-URNIK:premaknjeno-srecanje:16031
ATTENDEE:Klavir (1 - GU1)
ATTENDEE:Klavir (2 - GU1)
ATTENDEE:Klavir (3 - GU1)
CATEGORIES:Entry,Standard
COLOR:darkgreen
DESCRIPTION:Predmet: Klavir 1 (B2500) B (KLAVI)\, predavanja (PRE)\nLetnik
 i: Klavir (1 - GU1)\, Klavir (2 - GU1)\, Klavir (3 - GU1)\nIzvajalci: Rube
 n Dalibaltayan\nProstor: 2N.19 UČILNICA ZA KLAVIR
LOCATION:2N.19 UČILNICA ZA KLAVIR
ORGANIZER:Ruben Dalibaltayan
RELATED-TO:ag-AFLABS-URNIK:srecanje:861
X-WR-TIMEZONE:Europe/Ljubljana
END:VEVENT
BEGIN:VEVENT
SUMMARY:Klavir 1 (B2500) B (KLAVI)\, predavanja (PRE)
DTSTART;TZID=Europe/Ljubljana:20240528T173000
DTEND;TZID=Europe/Ljubljana:20240528T193000
DTSTAMP:20260422T063831Z
UID:ag-AFLABS-URNIK:premaknjeno-srecanje:17156
ATTENDEE:Klavir (1 - GU1)
ATTENDEE:Klavir (2 - GU1)
ATTENDEE:Klavir (3 - GU1)
CATEGORIES:Entry,Standard
COLOR:darkgreen
DESCRIPTION:Predmet: Klavir 1 (B2500) B (KLAVI)\, predavanja (PRE)\nLetnik
 i: Klavir (1 - GU1)\, Klavir (2 - GU1)\, Klavir (3 - GU1)\nIzvajalci: Rube
 n Dalibaltayan\nProstor: 2N.19 UČILNICA ZA KLAVIR
LOCATION:2N.19 UČILNICA ZA KLAVIR
ORGANIZER:Ruben Dalibaltayan
RELATED-TO:ag-AFLABS-URNIK:srecanje:861
X-WR-TIMEZONE:Europe/Ljubljana
END:VEVENT
END:VCALENDAR
