BEGIN:VCALENDAR
VERSION:2.0
PRODID:-//AFLabs urnik izvoz - ag//aflabs.si//SI
DTSTAMP:20260420T194705Z
NAME:UL AG Urnik
REFRESH-INTERVAL:PT1H
SOURCE:https://urnik.ag.uni-lj.si/teacher/157?day=2024-12-02&export=1
URL:https://urnik.ag.uni-lj.si/teacher/157?day=2024-12-02&export=1
X-PUBLISHED-TTL:PT1H
X-WR-CALNAME:UL AG Urnik
X-WR-TIMEZONE:Europe/Ljubljana
BEGIN:VTIMEZONE
TZID:Europe/Ljubljana
BEGIN:DAYLIGHT
DTSTART:20260329T020000
RDATE:20260329T020000
RDATE:20270328T020000
TZNAME:CEST
TZOFFSETFROM:+0100
TZOFFSETTO:+0200
END:DAYLIGHT
BEGIN:STANDARD
DTSTART:20261025T030000
RDATE:20261025T030000
RDATE:20271031T030000
TZNAME:CET
TZOFFSETFROM:+0200
TZOFFSETTO:+0100
END:STANDARD
END:VTIMEZONE
BEGIN:VEVENT
SUMMARY:Francoski jezik s fonetiko (GU2-029) B2 (FRANC)\, predavanja (PRE)
DTSTART;TZID=Europe/Ljubljana:20241002T080000
DTEND;TZID=Europe/Ljubljana:20241002T093000
DTSTAMP:20260420T194705Z
UID:ag-AFLABS-URNIK:premaknjeno-srecanje:57199
ATTENDEE:1. letnik (1 - GU2)
CATEGORIES:Entry,Standard
COLOR:darkgreen
DESCRIPTION:Predmet: Francoski jezik s fonetiko (GU2-029) B2 (FRANC)\, pre
 davanja (PRE)\nLetniki: 1. letnik (1 - GU2)\nIzvajalci: Agata Šega\nProst
 or: 2N.13 ELEKTROAKUSTIČNA UČILNICA
LOCATION:2N.13 ELEKTROAKUSTIČNA UČILNICA
ORGANIZER:Agata Šega
RELATED-TO:ag-AFLABS-URNIK:srecanje:2433
X-WR-TIMEZONE:Europe/Ljubljana
END:VEVENT
BEGIN:VEVENT
SUMMARY:Francoski jezik s fonetiko (GU2-029) B2 (FRANC)\, predavanja (PRE)
DTSTART;TZID=Europe/Ljubljana:20241009T080000
DTEND;TZID=Europe/Ljubljana:20241009T093000
DTSTAMP:20260420T194705Z
UID:ag-AFLABS-URNIK:premaknjeno-srecanje:57477
ATTENDEE:1. letnik (1 - GU2)
CATEGORIES:Entry,Standard
COLOR:darkgreen
DESCRIPTION:Predmet: Francoski jezik s fonetiko (GU2-029) B2 (FRANC)\, pre
 davanja (PRE)\nLetniki: 1. letnik (1 - GU2)\nIzvajalci: Agata Šega\nProst
 or: 2N.13 ELEKTROAKUSTIČNA UČILNICA
LOCATION:2N.13 ELEKTROAKUSTIČNA UČILNICA
ORGANIZER:Agata Šega
RELATED-TO:ag-AFLABS-URNIK:srecanje:2433
X-WR-TIMEZONE:Europe/Ljubljana
END:VEVENT
BEGIN:VEVENT
SUMMARY:Francoski jezik s fonetiko (GU2-029) B2 (FRANC)\, predavanja (PRE)
DTSTART;TZID=Europe/Ljubljana:20241016T080000
DTEND;TZID=Europe/Ljubljana:20241016T093000
DTSTAMP:20260420T194705Z
UID:ag-AFLABS-URNIK:premaknjeno-srecanje:57755
ATTENDEE:1. letnik (1 - GU2)
CATEGORIES:Entry,Standard
COLOR:darkgreen
DESCRIPTION:Predmet: Francoski jezik s fonetiko (GU2-029) B2 (FRANC)\, pre
 davanja (PRE)\nLetniki: 1. letnik (1 - GU2)\nIzvajalci: Agata Šega\nProst
 or: 2N.13 ELEKTROAKUSTIČNA UČILNICA
LOCATION:2N.13 ELEKTROAKUSTIČNA UČILNICA
ORGANIZER:Agata Šega
RELATED-TO:ag-AFLABS-URNIK:srecanje:2433
X-WR-TIMEZONE:Europe/Ljubljana
END:VEVENT
BEGIN:VEVENT
SUMMARY:Francoski jezik s fonetiko (GU2-029) B2 (FRANC)\, predavanja (PRE)
DTSTART;TZID=Europe/Ljubljana:20241023T080000
DTEND;TZID=Europe/Ljubljana:20241023T093000
DTSTAMP:20260420T194705Z
UID:ag-AFLABS-URNIK:premaknjeno-srecanje:58033
ATTENDEE:1. letnik (1 - GU2)
CATEGORIES:Entry,Standard
COLOR:darkgreen
DESCRIPTION:Predmet: Francoski jezik s fonetiko (GU2-029) B2 (FRANC)\, pre
 davanja (PRE)\nLetniki: 1. letnik (1 - GU2)\nIzvajalci: Agata Šega\nProst
 or: 2N.13 ELEKTROAKUSTIČNA UČILNICA
LOCATION:2N.13 ELEKTROAKUSTIČNA UČILNICA
ORGANIZER:Agata Šega
RELATED-TO:ag-AFLABS-URNIK:srecanje:2433
X-WR-TIMEZONE:Europe/Ljubljana
END:VEVENT
BEGIN:VEVENT
SUMMARY:Francoski jezik s fonetiko (GU2-029) B2 (FRANC)\, predavanja (PRE)
DTSTART;TZID=Europe/Ljubljana:20241030T080000
DTEND;TZID=Europe/Ljubljana:20241030T093000
DTSTAMP:20260420T194705Z
UID:ag-AFLABS-URNIK:premaknjeno-srecanje:58311
ATTENDEE:1. letnik (1 - GU2)
CATEGORIES:Entry,Standard
COLOR:darkgreen
DESCRIPTION:Predmet: Francoski jezik s fonetiko (GU2-029) B2 (FRANC)\, pre
 davanja (PRE)\nLetniki: 1. letnik (1 - GU2)\nIzvajalci: Agata Šega\nProst
 or: 2N.13 ELEKTROAKUSTIČNA UČILNICA
LOCATION:2N.13 ELEKTROAKUSTIČNA UČILNICA
ORGANIZER:Agata Šega
RELATED-TO:ag-AFLABS-URNIK:srecanje:2433
X-WR-TIMEZONE:Europe/Ljubljana
END:VEVENT
BEGIN:VEVENT
SUMMARY:Francoski jezik s fonetiko (GU2-029) B2 (FRANC)\, predavanja (PRE)
DTSTART;TZID=Europe/Ljubljana:20241106T080000
DTEND;TZID=Europe/Ljubljana:20241106T093000
DTSTAMP:20260420T194705Z
UID:ag-AFLABS-URNIK:premaknjeno-srecanje:58589
ATTENDEE:1. letnik (1 - GU2)
CATEGORIES:Entry,Standard
COLOR:darkgreen
DESCRIPTION:Predmet: Francoski jezik s fonetiko (GU2-029) B2 (FRANC)\, pre
 davanja (PRE)\nLetniki: 1. letnik (1 - GU2)\nIzvajalci: Agata Šega\nProst
 or: 2N.13 ELEKTROAKUSTIČNA UČILNICA
LOCATION:2N.13 ELEKTROAKUSTIČNA UČILNICA
ORGANIZER:Agata Šega
RELATED-TO:ag-AFLABS-URNIK:srecanje:2433
X-WR-TIMEZONE:Europe/Ljubljana
END:VEVENT
BEGIN:VEVENT
SUMMARY:Francoski jezik s fonetiko (GU2-029) B2 (FRANC)\, predavanja (PRE)
DTSTART;TZID=Europe/Ljubljana:20241113T080000
DTEND;TZID=Europe/Ljubljana:20241113T093000
DTSTAMP:20260420T194705Z
UID:ag-AFLABS-URNIK:premaknjeno-srecanje:58867
ATTENDEE:1. letnik (1 - GU2)
CATEGORIES:Entry,Standard
COLOR:darkgreen
DESCRIPTION:Predmet: Francoski jezik s fonetiko (GU2-029) B2 (FRANC)\, pre
 davanja (PRE)\nLetniki: 1. letnik (1 - GU2)\nIzvajalci: Agata Šega\nProst
 or: 2N.13 ELEKTROAKUSTIČNA UČILNICA
LOCATION:2N.13 ELEKTROAKUSTIČNA UČILNICA
ORGANIZER:Agata Šega
RELATED-TO:ag-AFLABS-URNIK:srecanje:2433
X-WR-TIMEZONE:Europe/Ljubljana
END:VEVENT
BEGIN:VEVENT
SUMMARY:Francoski jezik s fonetiko (GU2-029) B2 (FRANC)\, predavanja (PRE)
DTSTART;TZID=Europe/Ljubljana:20241120T080000
DTEND;TZID=Europe/Ljubljana:20241120T093000
DTSTAMP:20260420T194705Z
UID:ag-AFLABS-URNIK:premaknjeno-srecanje:59145
ATTENDEE:1. letnik (1 - GU2)
CATEGORIES:Entry,Standard
COLOR:darkgreen
DESCRIPTION:Predmet: Francoski jezik s fonetiko (GU2-029) B2 (FRANC)\, pre
 davanja (PRE)\nLetniki: 1. letnik (1 - GU2)\nIzvajalci: Agata Šega\nProst
 or: 2N.13 ELEKTROAKUSTIČNA UČILNICA
LOCATION:2N.13 ELEKTROAKUSTIČNA UČILNICA
ORGANIZER:Agata Šega
RELATED-TO:ag-AFLABS-URNIK:srecanje:2433
X-WR-TIMEZONE:Europe/Ljubljana
END:VEVENT
BEGIN:VEVENT
SUMMARY:Francoski jezik s fonetiko (GU2-029) B2 (FRANC)\, predavanja (PRE)
DTSTART;TZID=Europe/Ljubljana:20241127T080000
DTEND;TZID=Europe/Ljubljana:20241127T093000
DTSTAMP:20260420T194705Z
UID:ag-AFLABS-URNIK:premaknjeno-srecanje:59423
ATTENDEE:1. letnik (1 - GU2)
CATEGORIES:Entry,Standard
COLOR:darkgreen
DESCRIPTION:Predmet: Francoski jezik s fonetiko (GU2-029) B2 (FRANC)\, pre
 davanja (PRE)\nLetniki: 1. letnik (1 - GU2)\nIzvajalci: Agata Šega\nProst
 or: 2N.13 ELEKTROAKUSTIČNA UČILNICA
LOCATION:2N.13 ELEKTROAKUSTIČNA UČILNICA
ORGANIZER:Agata Šega
RELATED-TO:ag-AFLABS-URNIK:srecanje:2433
X-WR-TIMEZONE:Europe/Ljubljana
END:VEVENT
BEGIN:VEVENT
SUMMARY:Francoski jezik s fonetiko (GU2-029) B2 (FRANC)\, predavanja (PRE)
DTSTART;TZID=Europe/Ljubljana:20241204T080000
DTEND;TZID=Europe/Ljubljana:20241204T093000
DTSTAMP:20260420T194705Z
UID:ag-AFLABS-URNIK:premaknjeno-srecanje:59701
ATTENDEE:1. letnik (1 - GU2)
CATEGORIES:Entry,Standard
COLOR:darkgreen
DESCRIPTION:Predmet: Francoski jezik s fonetiko (GU2-029) B2 (FRANC)\, pre
 davanja (PRE)\nLetniki: 1. letnik (1 - GU2)\nIzvajalci: Agata Šega\nProst
 or: 2N.13 ELEKTROAKUSTIČNA UČILNICA
LOCATION:2N.13 ELEKTROAKUSTIČNA UČILNICA
ORGANIZER:Agata Šega
RELATED-TO:ag-AFLABS-URNIK:srecanje:2433
X-WR-TIMEZONE:Europe/Ljubljana
END:VEVENT
BEGIN:VEVENT
SUMMARY:Francoski jezik s fonetiko (GU2-029) B2 (FRANC)\, predavanja (PRE)
DTSTART;TZID=Europe/Ljubljana:20241211T080000
DTEND;TZID=Europe/Ljubljana:20241211T093000
DTSTAMP:20260420T194705Z
UID:ag-AFLABS-URNIK:premaknjeno-srecanje:59979
ATTENDEE:1. letnik (1 - GU2)
CATEGORIES:Entry,Standard
COLOR:darkgreen
DESCRIPTION:Predmet: Francoski jezik s fonetiko (GU2-029) B2 (FRANC)\, pre
 davanja (PRE)\nLetniki: 1. letnik (1 - GU2)\nIzvajalci: Agata Šega\nProst
 or: 2N.13 ELEKTROAKUSTIČNA UČILNICA
LOCATION:2N.13 ELEKTROAKUSTIČNA UČILNICA
ORGANIZER:Agata Šega
RELATED-TO:ag-AFLABS-URNIK:srecanje:2433
X-WR-TIMEZONE:Europe/Ljubljana
END:VEVENT
BEGIN:VEVENT
SUMMARY:Francoski jezik s fonetiko (GU2-029) B2 (FRANC)\, predavanja (PRE)
DTSTART;TZID=Europe/Ljubljana:20241218T080000
DTEND;TZID=Europe/Ljubljana:20241218T093000
DTSTAMP:20260420T194705Z
UID:ag-AFLABS-URNIK:premaknjeno-srecanje:60257
ATTENDEE:1. letnik (1 - GU2)
CATEGORIES:Entry,Standard
COLOR:darkgreen
DESCRIPTION:Predmet: Francoski jezik s fonetiko (GU2-029) B2 (FRANC)\, pre
 davanja (PRE)\nLetniki: 1. letnik (1 - GU2)\nIzvajalci: Agata Šega\nProst
 or: 2N.13 ELEKTROAKUSTIČNA UČILNICA
LOCATION:2N.13 ELEKTROAKUSTIČNA UČILNICA
ORGANIZER:Agata Šega
RELATED-TO:ag-AFLABS-URNIK:srecanje:2433
X-WR-TIMEZONE:Europe/Ljubljana
END:VEVENT
BEGIN:VEVENT
SUMMARY:Francoski jezik s fonetiko (GU2-029) B2 (FRANC)\, predavanja (PRE)
DTSTART;TZID=Europe/Ljubljana:20241225T080000
DTEND;TZID=Europe/Ljubljana:20241225T093000
DTSTAMP:20260420T194705Z
UID:ag-AFLABS-URNIK:premaknjeno-srecanje:60535
ATTENDEE:1. letnik (1 - GU2)
CATEGORIES:Entry,Standard
COLOR:darkgreen
DESCRIPTION:Predmet: Francoski jezik s fonetiko (GU2-029) B2 (FRANC)\, pre
 davanja (PRE)\nLetniki: 1. letnik (1 - GU2)\nIzvajalci: Agata Šega\nProst
 or: 2N.13 ELEKTROAKUSTIČNA UČILNICA
LOCATION:2N.13 ELEKTROAKUSTIČNA UČILNICA
ORGANIZER:Agata Šega
RELATED-TO:ag-AFLABS-URNIK:srecanje:2433
X-WR-TIMEZONE:Europe/Ljubljana
END:VEVENT
BEGIN:VEVENT
SUMMARY:Francoski jezik s fonetiko (GU2-029) B2 (FRANC)\, predavanja (PRE)
DTSTART;TZID=Europe/Ljubljana:20250101T080000
DTEND;TZID=Europe/Ljubljana:20250101T093000
DTSTAMP:20260420T194705Z
UID:ag-AFLABS-URNIK:premaknjeno-srecanje:60813
ATTENDEE:1. letnik (1 - GU2)
CATEGORIES:Entry,Standard
COLOR:darkgreen
DESCRIPTION:Predmet: Francoski jezik s fonetiko (GU2-029) B2 (FRANC)\, pre
 davanja (PRE)\nLetniki: 1. letnik (1 - GU2)\nIzvajalci: Agata Šega\nProst
 or: 2N.13 ELEKTROAKUSTIČNA UČILNICA
LOCATION:2N.13 ELEKTROAKUSTIČNA UČILNICA
ORGANIZER:Agata Šega
RELATED-TO:ag-AFLABS-URNIK:srecanje:2433
X-WR-TIMEZONE:Europe/Ljubljana
END:VEVENT
BEGIN:VEVENT
SUMMARY:Francoski jezik s fonetiko (GU2-029) B2 (FRANC)\, predavanja (PRE)
DTSTART;TZID=Europe/Ljubljana:20250108T080000
DTEND;TZID=Europe/Ljubljana:20250108T093000
DTSTAMP:20260420T194705Z
UID:ag-AFLABS-URNIK:premaknjeno-srecanje:61091
ATTENDEE:1. letnik (1 - GU2)
CATEGORIES:Entry,Standard
COLOR:darkgreen
DESCRIPTION:Predmet: Francoski jezik s fonetiko (GU2-029) B2 (FRANC)\, pre
 davanja (PRE)\nLetniki: 1. letnik (1 - GU2)\nIzvajalci: Agata Šega\nProst
 or: 2N.13 ELEKTROAKUSTIČNA UČILNICA
LOCATION:2N.13 ELEKTROAKUSTIČNA UČILNICA
ORGANIZER:Agata Šega
RELATED-TO:ag-AFLABS-URNIK:srecanje:2433
X-WR-TIMEZONE:Europe/Ljubljana
END:VEVENT
BEGIN:VEVENT
SUMMARY:Francoski jezik s fonetiko (GU2-029) B2 (FRANC)\, predavanja (PRE)
DTSTART;TZID=Europe/Ljubljana:20250115T080000
DTEND;TZID=Europe/Ljubljana:20250115T093000
DTSTAMP:20260420T194705Z
UID:ag-AFLABS-URNIK:premaknjeno-srecanje:61369
ATTENDEE:1. letnik (1 - GU2)
CATEGORIES:Entry,Standard
COLOR:darkgreen
DESCRIPTION:Predmet: Francoski jezik s fonetiko (GU2-029) B2 (FRANC)\, pre
 davanja (PRE)\nLetniki: 1. letnik (1 - GU2)\nIzvajalci: Agata Šega\nProst
 or: 2N.13 ELEKTROAKUSTIČNA UČILNICA
LOCATION:2N.13 ELEKTROAKUSTIČNA UČILNICA
ORGANIZER:Agata Šega
RELATED-TO:ag-AFLABS-URNIK:srecanje:2433
X-WR-TIMEZONE:Europe/Ljubljana
END:VEVENT
BEGIN:VEVENT
SUMMARY:Francoski jezik s fonetiko (GU2-029) B2 (FRANC)\, predavanja (PRE)
DTSTART;TZID=Europe/Ljubljana:20250122T080000
DTEND;TZID=Europe/Ljubljana:20250122T093000
DTSTAMP:20260420T194705Z
UID:ag-AFLABS-URNIK:premaknjeno-srecanje:61647
ATTENDEE:1. letnik (1 - GU2)
CATEGORIES:Entry,Standard
COLOR:darkgreen
DESCRIPTION:Predmet: Francoski jezik s fonetiko (GU2-029) B2 (FRANC)\, pre
 davanja (PRE)\nLetniki: 1. letnik (1 - GU2)\nIzvajalci: Agata Šega\nProst
 or: 2N.13 ELEKTROAKUSTIČNA UČILNICA
LOCATION:2N.13 ELEKTROAKUSTIČNA UČILNICA
ORGANIZER:Agata Šega
RELATED-TO:ag-AFLABS-URNIK:srecanje:2433
X-WR-TIMEZONE:Europe/Ljubljana
END:VEVENT
END:VCALENDAR
