BEGIN:VCALENDAR
VERSION:2.0
PRODID:-//AFLabs urnik izvoz - ag//aflabs.si//SI
DTSTAMP:20260420T001819Z
NAME:UL AG Urnik
REFRESH-INTERVAL:PT1H
SOURCE:https://urnik.ag.uni-lj.si/teacher/153?day=2025-06-30&export=1
URL:https://urnik.ag.uni-lj.si/teacher/153?day=2025-06-30&export=1
X-PUBLISHED-TTL:PT1H
X-WR-CALNAME:UL AG Urnik
X-WR-TIMEZONE:Europe/Ljubljana
BEGIN:VTIMEZONE
TZID:Europe/Ljubljana
BEGIN:DAYLIGHT
DTSTART:20260329T020000
RDATE:20260329T020000
RDATE:20270328T020000
TZNAME:CEST
TZOFFSETFROM:+0100
TZOFFSETTO:+0200
END:DAYLIGHT
BEGIN:STANDARD
DTSTART:20261025T030000
RDATE:20261025T030000
RDATE:20271031T030000
TZNAME:CET
TZOFFSETFROM:+0200
TZOFFSETTO:+0100
END:STANDARD
END:VTIMEZONE
BEGIN:VEVENT
SUMMARY:Specialna didaktika inštrumenta ali petja 1 (PAI-04) (SPECI)\, pr
 edavanja (PRE)
DTSTART;TZID=Europe/Ljubljana:20250530T083000
DTEND;TZID=Europe/Ljubljana:20250530T100000
DTSTAMP:20260420T001819Z
UID:ag-AFLABS-URNIK:premaknjeno-srecanje:66719
ATTENDEE:Inštrumentalno-pevski modul (b. l.)
CATEGORIES:Entry,Standard
COLOR:darkgreen
DESCRIPTION:Predmet: Specialna didaktika inštrumenta ali petja 1 (PAI-04)
  (SPECI)\, predavanja (PRE)\nLetniki: Inštrumentalno-pevski modul (b. l.)
 \nIzvajalci: Ana Kavčič Pucihar\nProstor: 2N.17 MALA PREDAVALNICA 6
LOCATION:2N.17 MALA PREDAVALNICA 6
ORGANIZER:Ana Kavčič Pucihar
RELATED-TO:ag-AFLABS-URNIK:srecanje:2571
X-WR-TIMEZONE:Europe/Ljubljana
END:VEVENT
BEGIN:VEVENT
SUMMARY:Specialna didaktika pouka pihal 1 (IPP-52) B2 (SPECI)\, predavanja
  (PRE)
DTSTART;TZID=Europe/Ljubljana:20250530T083000
DTEND;TZID=Europe/Ljubljana:20250530T100000
DTSTAMP:20260420T001819Z
UID:ag-AFLABS-URNIK:premaknjeno-srecanje:66720
ATTENDEE:1. letnik (1 - GU2)
ATTENDEE:1. letnik (1 - IPP)
ATTENDEE:2. letnik (2 - GU2)
CATEGORIES:Entry,Standard
COLOR:darkgreen
DESCRIPTION:Predmet: Specialna didaktika pouka pihal 1 (IPP-52) B2 (SPECI)
 \, predavanja (PRE)\nLetniki: 1. letnik (1 - GU2)\, 1. letnik (1 - IPP)\, 
 2. letnik (2 - GU2)\nIzvajalci: Ana Kavčič Pucihar\nProstor: 2N.17 MALA 
 PREDAVALNICA 6
LOCATION:2N.17 MALA PREDAVALNICA 6
ORGANIZER:Ana Kavčič Pucihar
RELATED-TO:ag-AFLABS-URNIK:srecanje:2572
X-WR-TIMEZONE:Europe/Ljubljana
END:VEVENT
BEGIN:VEVENT
SUMMARY:Specialna didaktika inštrumenta ali petja 2 (PAI-06) (SPECI)\, pr
 edavanja (PRE)
DTSTART;TZID=Europe/Ljubljana:20250530T101500
DTEND;TZID=Europe/Ljubljana:20250530T114500
DTSTAMP:20260420T001819Z
UID:ag-AFLABS-URNIK:premaknjeno-srecanje:66730
ATTENDEE:Inštrumentalno-pevski modul (b. l.)
CATEGORIES:Entry,Standard
COLOR:darkgreen
DESCRIPTION:Predmet: Specialna didaktika inštrumenta ali petja 2 (PAI-06)
  (SPECI)\, predavanja (PRE)\nLetniki: Inštrumentalno-pevski modul (b. l.)
 \nIzvajalci: Ana Kavčič Pucihar\nProstor: 2N.17 MALA PREDAVALNICA 6
LOCATION:2N.17 MALA PREDAVALNICA 6
ORGANIZER:Ana Kavčič Pucihar
RELATED-TO:ag-AFLABS-URNIK:srecanje:2582
X-WR-TIMEZONE:Europe/Ljubljana
END:VEVENT
BEGIN:VEVENT
SUMMARY:Specialna didaktika pouka pihal 2 (IPP-62) B2 (SPECI)\, predavanja
  (PRE)
DTSTART;TZID=Europe/Ljubljana:20250530T101500
DTEND;TZID=Europe/Ljubljana:20250530T114500
DTSTAMP:20260420T001819Z
UID:ag-AFLABS-URNIK:premaknjeno-srecanje:66731
ATTENDEE:2. letnik (2 - GU2)
ATTENDEE:2. letnik (2 - IPP)
CATEGORIES:Entry,Standard
COLOR:darkgreen
DESCRIPTION:Predmet: Specialna didaktika pouka pihal 2 (IPP-62) B2 (SPECI)
 \, predavanja (PRE)\nLetniki: 2. letnik (2 - GU2)\, 2. letnik (2 - IPP)\nI
 zvajalci: Ana Kavčič Pucihar\nProstor: 2N.17 MALA PREDAVALNICA 6
LOCATION:2N.17 MALA PREDAVALNICA 6
ORGANIZER:Ana Kavčič Pucihar
RELATED-TO:ag-AFLABS-URNIK:srecanje:2583
X-WR-TIMEZONE:Europe/Ljubljana
END:VEVENT
END:VCALENDAR
