BEGIN:VCALENDAR
VERSION:2.0
PRODID:-//AFLabs urnik izvoz - ag//aflabs.si//SI
DTSTAMP:20260423T213054Z
NAME:UL AG Urnik
REFRESH-INTERVAL:PT1H
SOURCE:https://urnik.ag.uni-lj.si/teacher/153?day=2024-06-17&export=1
URL:https://urnik.ag.uni-lj.si/teacher/153?day=2024-06-17&export=1
X-PUBLISHED-TTL:PT1H
X-WR-CALNAME:UL AG Urnik
X-WR-TIMEZONE:Europe/Ljubljana
BEGIN:VTIMEZONE
TZID:Europe/Ljubljana
BEGIN:DAYLIGHT
DTSTART:20260329T020000
RDATE:20260329T020000
RDATE:20270328T020000
TZNAME:CEST
TZOFFSETFROM:+0100
TZOFFSETTO:+0200
END:DAYLIGHT
BEGIN:STANDARD
DTSTART:20261025T030000
RDATE:20261025T030000
RDATE:20271031T030000
TZNAME:CET
TZOFFSETFROM:+0200
TZOFFSETTO:+0100
END:STANDARD
END:VTIMEZONE
BEGIN:VEVENT
SUMMARY:Specialna didaktika inštrumenta ali petja 1 (PAI-04) (SPECI)\, pr
 edavanja (PRE)
DTSTART;TZID=Europe/Ljubljana:20240517T083000
DTEND;TZID=Europe/Ljubljana:20240517T100000
DTSTAMP:20260423T213054Z
UID:ag-AFLABS-URNIK:premaknjeno-srecanje:15417
ATTENDEE:Inštrumentalno-pevski modul (b. l.)
CATEGORIES:Entry,Standard
COLOR:darkgreen
DESCRIPTION:Predmet: Specialna didaktika inštrumenta ali petja 1 (PAI-04)
  (SPECI)\, predavanja (PRE)\nLetniki: Inštrumentalno-pevski modul (b. l.)
 \nIzvajalci: Ana Kavčič Pucihar\nProstor: 2N.17 MALA PREDAVALNICA 6
LOCATION:2N.17 MALA PREDAVALNICA 6
ORGANIZER:Ana Kavčič Pucihar
RELATED-TO:ag-AFLABS-URNIK:srecanje:247
X-WR-TIMEZONE:Europe/Ljubljana
END:VEVENT
BEGIN:VEVENT
SUMMARY:Specialna didaktika inštrumenta ali petja 1 (PAI-04) (SPECI)\, pr
 edavanja (PRE)
DTSTART;TZID=Europe/Ljubljana:20240524T083000
DTEND;TZID=Europe/Ljubljana:20240524T100000
DTSTAMP:20260423T213054Z
UID:ag-AFLABS-URNIK:premaknjeno-srecanje:16584
ATTENDEE:Inštrumentalno-pevski modul (b. l.)
CATEGORIES:Entry,Standard
COLOR:darkgreen
DESCRIPTION:Predmet: Specialna didaktika inštrumenta ali petja 1 (PAI-04)
  (SPECI)\, predavanja (PRE)\nLetniki: Inštrumentalno-pevski modul (b. l.)
 \nIzvajalci: Ana Kavčič Pucihar\nProstor: 2N.17 MALA PREDAVALNICA 6
LOCATION:2N.17 MALA PREDAVALNICA 6
ORGANIZER:Ana Kavčič Pucihar
RELATED-TO:ag-AFLABS-URNIK:srecanje:247
X-WR-TIMEZONE:Europe/Ljubljana
END:VEVENT
BEGIN:VEVENT
SUMMARY:Specialna didaktika pouka pihal 1 (IPP-52) B2 (SPECI)\, predavanja
  (PRE)
DTSTART;TZID=Europe/Ljubljana:20240517T083000
DTEND;TZID=Europe/Ljubljana:20240517T100000
DTSTAMP:20260423T213054Z
UID:ag-AFLABS-URNIK:premaknjeno-srecanje:15418
ATTENDEE:1. letnik (1 - GU2)
ATTENDEE:1. letnik (1 - IPP)
ATTENDEE:2. letnik (2 - GU2)
CATEGORIES:Entry,Standard
COLOR:darkgreen
DESCRIPTION:Predmet: Specialna didaktika pouka pihal 1 (IPP-52) B2 (SPECI)
 \, predavanja (PRE)\nLetniki: 1. letnik (1 - GU2)\, 1. letnik (1 - IPP)\, 
 2. letnik (2 - GU2)\nIzvajalci: Ana Kavčič Pucihar\nProstor: 2N.17 MALA 
 PREDAVALNICA 6
LOCATION:2N.17 MALA PREDAVALNICA 6
ORGANIZER:Ana Kavčič Pucihar
RELATED-TO:ag-AFLABS-URNIK:srecanje:248
X-WR-TIMEZONE:Europe/Ljubljana
END:VEVENT
BEGIN:VEVENT
SUMMARY:Specialna didaktika pouka pihal 1 (IPP-52) B2 (SPECI)\, predavanja
  (PRE)
DTSTART;TZID=Europe/Ljubljana:20240524T083000
DTEND;TZID=Europe/Ljubljana:20240524T100000
DTSTAMP:20260423T213054Z
UID:ag-AFLABS-URNIK:premaknjeno-srecanje:16585
ATTENDEE:1. letnik (1 - GU2)
ATTENDEE:1. letnik (1 - IPP)
ATTENDEE:2. letnik (2 - GU2)
CATEGORIES:Entry,Standard
COLOR:darkgreen
DESCRIPTION:Predmet: Specialna didaktika pouka pihal 1 (IPP-52) B2 (SPECI)
 \, predavanja (PRE)\nLetniki: 1. letnik (1 - GU2)\, 1. letnik (1 - IPP)\, 
 2. letnik (2 - GU2)\nIzvajalci: Ana Kavčič Pucihar\nProstor: 2N.17 MALA 
 PREDAVALNICA 6
LOCATION:2N.17 MALA PREDAVALNICA 6
ORGANIZER:Ana Kavčič Pucihar
RELATED-TO:ag-AFLABS-URNIK:srecanje:248
X-WR-TIMEZONE:Europe/Ljubljana
END:VEVENT
BEGIN:VEVENT
SUMMARY:Specialna didaktika inštrumenta ali petja 2 (PAI-06) (SPECI)\, pr
 edavanja (PRE)
DTSTART;TZID=Europe/Ljubljana:20240517T101500
DTEND;TZID=Europe/Ljubljana:20240517T114500
DTSTAMP:20260423T213054Z
UID:ag-AFLABS-URNIK:premaknjeno-srecanje:15454
ATTENDEE:Inštrumentalno-pevski modul (b. l.)
CATEGORIES:Entry,Standard
COLOR:darkgreen
DESCRIPTION:Predmet: Specialna didaktika inštrumenta ali petja 2 (PAI-06)
  (SPECI)\, predavanja (PRE)\nLetniki: Inštrumentalno-pevski modul (b. l.)
 \nIzvajalci: Ana Kavčič Pucihar\nProstor: 2N.17 MALA PREDAVALNICA 6
LOCATION:2N.17 MALA PREDAVALNICA 6
ORGANIZER:Ana Kavčič Pucihar
RELATED-TO:ag-AFLABS-URNIK:srecanje:284
X-WR-TIMEZONE:Europe/Ljubljana
END:VEVENT
BEGIN:VEVENT
SUMMARY:Specialna didaktika inštrumenta ali petja 2 (PAI-06) (SPECI)\, pr
 edavanja (PRE)
DTSTART;TZID=Europe/Ljubljana:20240524T101500
DTEND;TZID=Europe/Ljubljana:20240524T114500
DTSTAMP:20260423T213054Z
UID:ag-AFLABS-URNIK:premaknjeno-srecanje:16621
ATTENDEE:Inštrumentalno-pevski modul (b. l.)
CATEGORIES:Entry,Standard
COLOR:darkgreen
DESCRIPTION:Predmet: Specialna didaktika inštrumenta ali petja 2 (PAI-06)
  (SPECI)\, predavanja (PRE)\nLetniki: Inštrumentalno-pevski modul (b. l.)
 \nIzvajalci: Ana Kavčič Pucihar\nProstor: 2N.17 MALA PREDAVALNICA 6
LOCATION:2N.17 MALA PREDAVALNICA 6
ORGANIZER:Ana Kavčič Pucihar
RELATED-TO:ag-AFLABS-URNIK:srecanje:284
X-WR-TIMEZONE:Europe/Ljubljana
END:VEVENT
BEGIN:VEVENT
SUMMARY:Specialna didaktika pouka pihal 2 (IPP-62) B2 (SPECI)\, predavanja
  (PRE)
DTSTART;TZID=Europe/Ljubljana:20240517T101500
DTEND;TZID=Europe/Ljubljana:20240517T114500
DTSTAMP:20260423T213054Z
UID:ag-AFLABS-URNIK:premaknjeno-srecanje:15455
ATTENDEE:2. letnik (2 - GU2)
ATTENDEE:2. letnik (2 - IPP)
CATEGORIES:Entry,Standard
COLOR:darkgreen
DESCRIPTION:Predmet: Specialna didaktika pouka pihal 2 (IPP-62) B2 (SPECI)
 \, predavanja (PRE)\nLetniki: 2. letnik (2 - GU2)\, 2. letnik (2 - IPP)\nI
 zvajalci: Ana Kavčič Pucihar\nProstor: 2N.17 MALA PREDAVALNICA 6
LOCATION:2N.17 MALA PREDAVALNICA 6
ORGANIZER:Ana Kavčič Pucihar
RELATED-TO:ag-AFLABS-URNIK:srecanje:285
X-WR-TIMEZONE:Europe/Ljubljana
END:VEVENT
BEGIN:VEVENT
SUMMARY:Specialna didaktika pouka pihal 2 (IPP-62) B2 (SPECI)\, predavanja
  (PRE)
DTSTART;TZID=Europe/Ljubljana:20240524T101500
DTEND;TZID=Europe/Ljubljana:20240524T114500
DTSTAMP:20260423T213054Z
UID:ag-AFLABS-URNIK:premaknjeno-srecanje:16622
ATTENDEE:2. letnik (2 - GU2)
ATTENDEE:2. letnik (2 - IPP)
CATEGORIES:Entry,Standard
COLOR:darkgreen
DESCRIPTION:Predmet: Specialna didaktika pouka pihal 2 (IPP-62) B2 (SPECI)
 \, predavanja (PRE)\nLetniki: 2. letnik (2 - GU2)\, 2. letnik (2 - IPP)\nI
 zvajalci: Ana Kavčič Pucihar\nProstor: 2N.17 MALA PREDAVALNICA 6
LOCATION:2N.17 MALA PREDAVALNICA 6
ORGANIZER:Ana Kavčič Pucihar
RELATED-TO:ag-AFLABS-URNIK:srecanje:285
X-WR-TIMEZONE:Europe/Ljubljana
END:VEVENT
BEGIN:VEVENT
SUMMARY:Govorilna ura
DTSTART;TZID=Europe/Ljubljana:20240531T114500
DTEND;TZID=Europe/Ljubljana:20240531T120000
DTSTAMP:20260423T213054Z
UID:ag-AFLABS-URNIK:rezervacija:555
CATEGORIES:Reservation
COLOR:royalblue
DESCRIPTION:Predmeti: \nLetniki: \nIzvajalci: Ana Kavčič Pucihar\nProsto
 ri: 2N.17 MALA PREDAVALNICA 6
LOCATION:2N.17 MALA PREDAVALNICA 6
ORGANIZER:Ana Kavčič Pucihar
X-WR-TIMEZONE:Europe/Ljubljana
END:VEVENT
BEGIN:VEVENT
SUMMARY:Govorilna ura
DTSTART;TZID=Europe/Ljubljana:20240524T114500
DTEND;TZID=Europe/Ljubljana:20240524T120000
DTSTAMP:20260423T213054Z
UID:ag-AFLABS-URNIK:rezervacija:519
CATEGORIES:Reservation
COLOR:royalblue
DESCRIPTION:Predmeti: \nLetniki: \nIzvajalci: Ana Kavčič Pucihar\nProsto
 ri: 2N.17 MALA PREDAVALNICA 6
LOCATION:2N.17 MALA PREDAVALNICA 6
ORGANIZER:Ana Kavčič Pucihar
X-WR-TIMEZONE:Europe/Ljubljana
END:VEVENT
BEGIN:VEVENT
SUMMARY:Govorilna ura
DTSTART;TZID=Europe/Ljubljana:20240517T114500
DTEND;TZID=Europe/Ljubljana:20240517T120000
DTSTAMP:20260423T213054Z
UID:ag-AFLABS-URNIK:rezervacija:483
CATEGORIES:Reservation
COLOR:royalblue
DESCRIPTION:Predmeti: \nLetniki: \nIzvajalci: Ana Kavčič Pucihar\nProsto
 ri: 2N.17 MALA PREDAVALNICA 6
LOCATION:2N.17 MALA PREDAVALNICA 6
ORGANIZER:Ana Kavčič Pucihar
X-WR-TIMEZONE:Europe/Ljubljana
END:VEVENT
END:VCALENDAR
