BEGIN:VCALENDAR
VERSION:2.0
PRODID:-//AFLabs urnik izvoz - ag//aflabs.si//SI
DTSTAMP:20260424T094146Z
NAME:UL AG Urnik
REFRESH-INTERVAL:PT1H
SOURCE:https://urnik.ag.uni-lj.si/teacher/142?day=2025-09-29&export=1
URL:https://urnik.ag.uni-lj.si/teacher/142?day=2025-09-29&export=1
X-PUBLISHED-TTL:PT1H
X-WR-CALNAME:UL AG Urnik
X-WR-TIMEZONE:Europe/Ljubljana
BEGIN:VTIMEZONE
TZID:Europe/Ljubljana
BEGIN:DAYLIGHT
DTSTART:20260329T020000
RDATE:20260329T020000
RDATE:20270328T020000
TZNAME:CEST
TZOFFSETFROM:+0100
TZOFFSETTO:+0200
END:DAYLIGHT
BEGIN:STANDARD
DTSTART:20261025T030000
RDATE:20261025T030000
RDATE:20271031T030000
TZNAME:CET
TZOFFSETFROM:+0200
TZOFFSETTO:+0100
END:STANDARD
END:VTIMEZONE
BEGIN:VEVENT
SUMMARY:Trobenta 3 (B4005) B (TROBE)\, predavanja (PRE)
DTSTART;TZID=Europe/Ljubljana:20251009T140000
DTEND;TZID=Europe/Ljubljana:20251009T150000
DTSTAMP:20260424T094146Z
UID:ag-AFLABS-URNIK:premaknjeno-srecanje:104416
ATTENDEE:Trobenta (1 - GU1)
ATTENDEE:Trobenta (2 - GU1)
ATTENDEE:Trobenta (3 - GU1)
CATEGORIES:Entry,Standard
COLOR:darkgreen
DESCRIPTION:Predmet: Trobenta 3 (B4005) B (TROBE)\, predavanja (PRE)\nLetn
 iki: Trobenta (1 - GU1)\, Trobenta (2 - GU1)\, Trobenta (3 - GU1)\nIzvajal
 ci: Dario Teskera\nProstor: M.08 UČILNICA - TROBENTA
LOCATION:M.08 UČILNICA - TROBENTA
ORGANIZER:Dario Teskera
RELATED-TO:ag-AFLABS-URNIK:srecanje:3620
X-WR-TIMEZONE:Europe/Ljubljana
END:VEVENT
BEGIN:VEVENT
SUMMARY:Trobenta 3 (B4005) B (TROBE)\, predavanja (PRE)
DTSTART;TZID=Europe/Ljubljana:20251016T140000
DTEND;TZID=Europe/Ljubljana:20251016T150000
DTSTAMP:20260424T094146Z
UID:ag-AFLABS-URNIK:premaknjeno-srecanje:104953
ATTENDEE:Trobenta (1 - GU1)
ATTENDEE:Trobenta (2 - GU1)
ATTENDEE:Trobenta (3 - GU1)
CATEGORIES:Entry,Standard
COLOR:darkgreen
DESCRIPTION:Predmet: Trobenta 3 (B4005) B (TROBE)\, predavanja (PRE)\nLetn
 iki: Trobenta (1 - GU1)\, Trobenta (2 - GU1)\, Trobenta (3 - GU1)\nIzvajal
 ci: Dario Teskera\nProstor: M.08 UČILNICA - TROBENTA
LOCATION:M.08 UČILNICA - TROBENTA
ORGANIZER:Dario Teskera
RELATED-TO:ag-AFLABS-URNIK:srecanje:3620
X-WR-TIMEZONE:Europe/Ljubljana
END:VEVENT
BEGIN:VEVENT
SUMMARY:Trobenta 3 (B4005) B (TROBE)\, predavanja (PRE)
DTSTART;TZID=Europe/Ljubljana:20251023T140000
DTEND;TZID=Europe/Ljubljana:20251023T150000
DTSTAMP:20260424T094146Z
UID:ag-AFLABS-URNIK:premaknjeno-srecanje:124116
ATTENDEE:Trobenta (1 - GU1)
ATTENDEE:Trobenta (2 - GU1)
ATTENDEE:Trobenta (3 - GU1)
CATEGORIES:Entry,Standard
COLOR:darkgreen
DESCRIPTION:Predmet: Trobenta 3 (B4005) B (TROBE)\, predavanja (PRE)\nLetn
 iki: Trobenta (1 - GU1)\, Trobenta (2 - GU1)\, Trobenta (3 - GU1)\nIzvajal
 ci: Dario Teskera\nProstor: M.08 UČILNICA - TROBENTA
LOCATION:M.08 UČILNICA - TROBENTA
ORGANIZER:Dario Teskera
RELATED-TO:ag-AFLABS-URNIK:srecanje:3620
X-WR-TIMEZONE:Europe/Ljubljana
END:VEVENT
BEGIN:VEVENT
SUMMARY:Trobenta 3 (B4005) B (TROBE)\, predavanja (PRE)
DTSTART;TZID=Europe/Ljubljana:20251030T140000
DTEND;TZID=Europe/Ljubljana:20251030T150000
DTSTAMP:20260424T094146Z
UID:ag-AFLABS-URNIK:premaknjeno-srecanje:125227
ATTENDEE:Trobenta (1 - GU1)
ATTENDEE:Trobenta (2 - GU1)
ATTENDEE:Trobenta (3 - GU1)
CATEGORIES:Entry,Standard
COLOR:darkgreen
DESCRIPTION:Predmet: Trobenta 3 (B4005) B (TROBE)\, predavanja (PRE)\nLetn
 iki: Trobenta (1 - GU1)\, Trobenta (2 - GU1)\, Trobenta (3 - GU1)\nIzvajal
 ci: Dario Teskera\nProstor: M.08 UČILNICA - TROBENTA
LOCATION:M.08 UČILNICA - TROBENTA
ORGANIZER:Dario Teskera
RELATED-TO:ag-AFLABS-URNIK:srecanje:3620
X-WR-TIMEZONE:Europe/Ljubljana
END:VEVENT
BEGIN:VEVENT
SUMMARY:Trobenta 3 (B4005) B (TROBE)\, predavanja (PRE)
DTSTART;TZID=Europe/Ljubljana:20251009T150000
DTEND;TZID=Europe/Ljubljana:20251009T160000
DTSTAMP:20260424T094146Z
UID:ag-AFLABS-URNIK:premaknjeno-srecanje:104427
ATTENDEE:Trobenta (1 - GU1)
ATTENDEE:Trobenta (2 - GU1)
ATTENDEE:Trobenta (3 - GU1)
CATEGORIES:Entry,Standard
COLOR:darkgreen
DESCRIPTION:Predmet: Trobenta 3 (B4005) B (TROBE)\, predavanja (PRE)\nLetn
 iki: Trobenta (1 - GU1)\, Trobenta (2 - GU1)\, Trobenta (3 - GU1)\nIzvajal
 ci: Dario Teskera\nProstor: M.08 UČILNICA - TROBENTA
LOCATION:M.08 UČILNICA - TROBENTA
ORGANIZER:Dario Teskera
RELATED-TO:ag-AFLABS-URNIK:srecanje:3630
X-WR-TIMEZONE:Europe/Ljubljana
END:VEVENT
BEGIN:VEVENT
SUMMARY:Trobenta 3 (B4005) B (TROBE)\, predavanja (PRE)
DTSTART;TZID=Europe/Ljubljana:20251016T150000
DTEND;TZID=Europe/Ljubljana:20251016T160000
DTSTAMP:20260424T094146Z
UID:ag-AFLABS-URNIK:premaknjeno-srecanje:104964
ATTENDEE:Trobenta (1 - GU1)
ATTENDEE:Trobenta (2 - GU1)
ATTENDEE:Trobenta (3 - GU1)
CATEGORIES:Entry,Standard
COLOR:darkgreen
DESCRIPTION:Predmet: Trobenta 3 (B4005) B (TROBE)\, predavanja (PRE)\nLetn
 iki: Trobenta (1 - GU1)\, Trobenta (2 - GU1)\, Trobenta (3 - GU1)\nIzvajal
 ci: Dario Teskera\nProstor: M.08 UČILNICA - TROBENTA
LOCATION:M.08 UČILNICA - TROBENTA
ORGANIZER:Dario Teskera
RELATED-TO:ag-AFLABS-URNIK:srecanje:3630
X-WR-TIMEZONE:Europe/Ljubljana
END:VEVENT
BEGIN:VEVENT
SUMMARY:Trobenta 3 (B4005) B (TROBE)\, predavanja (PRE)
DTSTART;TZID=Europe/Ljubljana:20251023T150000
DTEND;TZID=Europe/Ljubljana:20251023T160000
DTSTAMP:20260424T094146Z
UID:ag-AFLABS-URNIK:premaknjeno-srecanje:124139
ATTENDEE:Trobenta (1 - GU1)
ATTENDEE:Trobenta (2 - GU1)
ATTENDEE:Trobenta (3 - GU1)
CATEGORIES:Entry,Standard
COLOR:darkgreen
DESCRIPTION:Predmet: Trobenta 3 (B4005) B (TROBE)\, predavanja (PRE)\nLetn
 iki: Trobenta (1 - GU1)\, Trobenta (2 - GU1)\, Trobenta (3 - GU1)\nIzvajal
 ci: Dario Teskera\nProstor: M.08 UČILNICA - TROBENTA
LOCATION:M.08 UČILNICA - TROBENTA
ORGANIZER:Dario Teskera
RELATED-TO:ag-AFLABS-URNIK:srecanje:3630
X-WR-TIMEZONE:Europe/Ljubljana
END:VEVENT
BEGIN:VEVENT
SUMMARY:Trobenta 3 (B4005) B (TROBE)\, predavanja (PRE)
DTSTART;TZID=Europe/Ljubljana:20251030T150000
DTEND;TZID=Europe/Ljubljana:20251030T160000
DTSTAMP:20260424T094146Z
UID:ag-AFLABS-URNIK:premaknjeno-srecanje:125250
ATTENDEE:Trobenta (1 - GU1)
ATTENDEE:Trobenta (2 - GU1)
ATTENDEE:Trobenta (3 - GU1)
CATEGORIES:Entry,Standard
COLOR:darkgreen
DESCRIPTION:Predmet: Trobenta 3 (B4005) B (TROBE)\, predavanja (PRE)\nLetn
 iki: Trobenta (1 - GU1)\, Trobenta (2 - GU1)\, Trobenta (3 - GU1)\nIzvajal
 ci: Dario Teskera\nProstor: M.08 UČILNICA - TROBENTA
LOCATION:M.08 UČILNICA - TROBENTA
ORGANIZER:Dario Teskera
RELATED-TO:ag-AFLABS-URNIK:srecanje:3630
X-WR-TIMEZONE:Europe/Ljubljana
END:VEVENT
BEGIN:VEVENT
SUMMARY:Trobenta PED-M1 (IPP-17) B2 (TROBE)\, predavanja (PRE)
DTSTART;TZID=Europe/Ljubljana:20251009T160000
DTEND;TZID=Europe/Ljubljana:20251009T170000
DTSTAMP:20260424T094146Z
UID:ag-AFLABS-URNIK:premaknjeno-srecanje:104446
ATTENDEE:Trobenta (1 - IPP)
ATTENDEE:Trobenta (2 - IPP)
CATEGORIES:Entry,Standard
COLOR:darkgreen
DESCRIPTION:Predmet: Trobenta PED-M1 (IPP-17) B2 (TROBE)\, predavanja (PRE
 )\nLetniki: Trobenta (1 - IPP)\, Trobenta (2 - IPP)\nIzvajalci: Dario Tesk
 era\nProstor: M.08 UČILNICA - TROBENTA
LOCATION:M.08 UČILNICA - TROBENTA
ORGANIZER:Dario Teskera
RELATED-TO:ag-AFLABS-URNIK:srecanje:3648
X-WR-TIMEZONE:Europe/Ljubljana
END:VEVENT
BEGIN:VEVENT
SUMMARY:Trobenta PED-M1 (IPP-17) B2 (TROBE)\, predavanja (PRE)
DTSTART;TZID=Europe/Ljubljana:20251016T160000
DTEND;TZID=Europe/Ljubljana:20251016T170000
DTSTAMP:20260424T094146Z
UID:ag-AFLABS-URNIK:premaknjeno-srecanje:104983
ATTENDEE:Trobenta (1 - IPP)
ATTENDEE:Trobenta (2 - IPP)
CATEGORIES:Entry,Standard
COLOR:darkgreen
DESCRIPTION:Predmet: Trobenta PED-M1 (IPP-17) B2 (TROBE)\, predavanja (PRE
 )\nLetniki: Trobenta (1 - IPP)\, Trobenta (2 - IPP)\nIzvajalci: Dario Tesk
 era\nProstor: M.08 UČILNICA - TROBENTA
LOCATION:M.08 UČILNICA - TROBENTA
ORGANIZER:Dario Teskera
RELATED-TO:ag-AFLABS-URNIK:srecanje:3648
X-WR-TIMEZONE:Europe/Ljubljana
END:VEVENT
BEGIN:VEVENT
SUMMARY:Trobenta PED-M1 (IPP-17) B2 (TROBE)\, predavanja (PRE)
DTSTART;TZID=Europe/Ljubljana:20251023T160000
DTEND;TZID=Europe/Ljubljana:20251023T170000
DTSTAMP:20260424T094146Z
UID:ag-AFLABS-URNIK:premaknjeno-srecanje:124167
ATTENDEE:Trobenta (1 - IPP)
ATTENDEE:Trobenta (2 - IPP)
CATEGORIES:Entry,Standard
COLOR:darkgreen
DESCRIPTION:Predmet: Trobenta PED-M1 (IPP-17) B2 (TROBE)\, predavanja (PRE
 )\nLetniki: Trobenta (1 - IPP)\, Trobenta (2 - IPP)\nIzvajalci: Dario Tesk
 era\nProstor: M.08 UČILNICA - TROBENTA
LOCATION:M.08 UČILNICA - TROBENTA
ORGANIZER:Dario Teskera
RELATED-TO:ag-AFLABS-URNIK:srecanje:3648
X-WR-TIMEZONE:Europe/Ljubljana
END:VEVENT
BEGIN:VEVENT
SUMMARY:Trobenta PED-M1 (IPP-17) B2 (TROBE)\, predavanja (PRE)
DTSTART;TZID=Europe/Ljubljana:20251030T160000
DTEND;TZID=Europe/Ljubljana:20251030T170000
DTSTAMP:20260424T094146Z
UID:ag-AFLABS-URNIK:premaknjeno-srecanje:125278
ATTENDEE:Trobenta (1 - IPP)
ATTENDEE:Trobenta (2 - IPP)
CATEGORIES:Entry,Standard
COLOR:darkgreen
DESCRIPTION:Predmet: Trobenta PED-M1 (IPP-17) B2 (TROBE)\, predavanja (PRE
 )\nLetniki: Trobenta (1 - IPP)\, Trobenta (2 - IPP)\nIzvajalci: Dario Tesk
 era\nProstor: M.08 UČILNICA - TROBENTA
LOCATION:M.08 UČILNICA - TROBENTA
ORGANIZER:Dario Teskera
RELATED-TO:ag-AFLABS-URNIK:srecanje:3648
X-WR-TIMEZONE:Europe/Ljubljana
END:VEVENT
BEGIN:VEVENT
SUMMARY:Trobenta 1 (B4003) B (TROBE)\, predavanja (PRE)
DTSTART;TZID=Europe/Ljubljana:20251009T170000
DTEND;TZID=Europe/Ljubljana:20251009T180000
DTSTAMP:20260424T094146Z
UID:ag-AFLABS-URNIK:premaknjeno-srecanje:104457
ATTENDEE:Trobenta (1 - GU1)
ATTENDEE:Trobenta (2 - GU1)
ATTENDEE:Trobenta (3 - GU1)
CATEGORIES:Entry,Standard
COLOR:darkgreen
DESCRIPTION:Predmet: Trobenta 1 (B4003) B (TROBE)\, predavanja (PRE)\nLetn
 iki: Trobenta (1 - GU1)\, Trobenta (2 - GU1)\, Trobenta (3 - GU1)\nIzvajal
 ci: Dario Teskera\nProstor: M.08 UČILNICA - TROBENTA
LOCATION:M.08 UČILNICA - TROBENTA
ORGANIZER:Dario Teskera
RELATED-TO:ag-AFLABS-URNIK:srecanje:3659
X-WR-TIMEZONE:Europe/Ljubljana
END:VEVENT
BEGIN:VEVENT
SUMMARY:Trobenta 1 (B4003) B (TROBE)\, predavanja (PRE)
DTSTART;TZID=Europe/Ljubljana:20251016T170000
DTEND;TZID=Europe/Ljubljana:20251016T180000
DTSTAMP:20260424T094146Z
UID:ag-AFLABS-URNIK:premaknjeno-srecanje:104994
ATTENDEE:Trobenta (1 - GU1)
ATTENDEE:Trobenta (2 - GU1)
ATTENDEE:Trobenta (3 - GU1)
CATEGORIES:Entry,Standard
COLOR:darkgreen
DESCRIPTION:Predmet: Trobenta 1 (B4003) B (TROBE)\, predavanja (PRE)\nLetn
 iki: Trobenta (1 - GU1)\, Trobenta (2 - GU1)\, Trobenta (3 - GU1)\nIzvajal
 ci: Dario Teskera\nProstor: M.08 UČILNICA - TROBENTA
LOCATION:M.08 UČILNICA - TROBENTA
ORGANIZER:Dario Teskera
RELATED-TO:ag-AFLABS-URNIK:srecanje:3659
X-WR-TIMEZONE:Europe/Ljubljana
END:VEVENT
BEGIN:VEVENT
SUMMARY:Trobenta 1 (B4003) B (TROBE)\, predavanja (PRE)
DTSTART;TZID=Europe/Ljubljana:20251023T170000
DTEND;TZID=Europe/Ljubljana:20251023T180000
DTSTAMP:20260424T094146Z
UID:ag-AFLABS-URNIK:premaknjeno-srecanje:124182
ATTENDEE:Trobenta (1 - GU1)
ATTENDEE:Trobenta (2 - GU1)
ATTENDEE:Trobenta (3 - GU1)
CATEGORIES:Entry,Standard
COLOR:darkgreen
DESCRIPTION:Predmet: Trobenta 1 (B4003) B (TROBE)\, predavanja (PRE)\nLetn
 iki: Trobenta (1 - GU1)\, Trobenta (2 - GU1)\, Trobenta (3 - GU1)\nIzvajal
 ci: Dario Teskera\nProstor: M.08 UČILNICA - TROBENTA
LOCATION:M.08 UČILNICA - TROBENTA
ORGANIZER:Dario Teskera
RELATED-TO:ag-AFLABS-URNIK:srecanje:3659
X-WR-TIMEZONE:Europe/Ljubljana
END:VEVENT
BEGIN:VEVENT
SUMMARY:Trobenta 1 (B4003) B (TROBE)\, predavanja (PRE)
DTSTART;TZID=Europe/Ljubljana:20251030T170000
DTEND;TZID=Europe/Ljubljana:20251030T180000
DTSTAMP:20260424T094146Z
UID:ag-AFLABS-URNIK:premaknjeno-srecanje:125293
ATTENDEE:Trobenta (1 - GU1)
ATTENDEE:Trobenta (2 - GU1)
ATTENDEE:Trobenta (3 - GU1)
CATEGORIES:Entry,Standard
COLOR:darkgreen
DESCRIPTION:Predmet: Trobenta 1 (B4003) B (TROBE)\, predavanja (PRE)\nLetn
 iki: Trobenta (1 - GU1)\, Trobenta (2 - GU1)\, Trobenta (3 - GU1)\nIzvajal
 ci: Dario Teskera\nProstor: M.08 UČILNICA - TROBENTA
LOCATION:M.08 UČILNICA - TROBENTA
ORGANIZER:Dario Teskera
RELATED-TO:ag-AFLABS-URNIK:srecanje:3659
X-WR-TIMEZONE:Europe/Ljubljana
END:VEVENT
BEGIN:VEVENT
SUMMARY:Trobenta 1 (B4003) B (TROBE)\, predavanja (PRE)
DTSTART;TZID=Europe/Ljubljana:20251009T180000
DTEND;TZID=Europe/Ljubljana:20251009T190000
DTSTAMP:20260424T094146Z
UID:ag-AFLABS-URNIK:premaknjeno-srecanje:104465
ATTENDEE:Trobenta (1 - GU1)
ATTENDEE:Trobenta (2 - GU1)
ATTENDEE:Trobenta (3 - GU1)
CATEGORIES:Entry,Standard
COLOR:darkgreen
DESCRIPTION:Predmet: Trobenta 1 (B4003) B (TROBE)\, predavanja (PRE)\nLetn
 iki: Trobenta (1 - GU1)\, Trobenta (2 - GU1)\, Trobenta (3 - GU1)\nIzvajal
 ci: Dario Teskera\nProstor: M.08 UČILNICA - TROBENTA
LOCATION:M.08 UČILNICA - TROBENTA
ORGANIZER:Dario Teskera
RELATED-TO:ag-AFLABS-URNIK:srecanje:3667
X-WR-TIMEZONE:Europe/Ljubljana
END:VEVENT
BEGIN:VEVENT
SUMMARY:Trobenta 1 (B4003) B (TROBE)\, predavanja (PRE)
DTSTART;TZID=Europe/Ljubljana:20251016T180000
DTEND;TZID=Europe/Ljubljana:20251016T190000
DTSTAMP:20260424T094146Z
UID:ag-AFLABS-URNIK:premaknjeno-srecanje:105002
ATTENDEE:Trobenta (1 - GU1)
ATTENDEE:Trobenta (2 - GU1)
ATTENDEE:Trobenta (3 - GU1)
CATEGORIES:Entry,Standard
COLOR:darkgreen
DESCRIPTION:Predmet: Trobenta 1 (B4003) B (TROBE)\, predavanja (PRE)\nLetn
 iki: Trobenta (1 - GU1)\, Trobenta (2 - GU1)\, Trobenta (3 - GU1)\nIzvajal
 ci: Dario Teskera\nProstor: M.08 UČILNICA - TROBENTA
LOCATION:M.08 UČILNICA - TROBENTA
ORGANIZER:Dario Teskera
RELATED-TO:ag-AFLABS-URNIK:srecanje:3667
X-WR-TIMEZONE:Europe/Ljubljana
END:VEVENT
BEGIN:VEVENT
SUMMARY:Trobenta 1 (B4003) B (TROBE)\, predavanja (PRE)
DTSTART;TZID=Europe/Ljubljana:20251023T180000
DTEND;TZID=Europe/Ljubljana:20251023T190000
DTSTAMP:20260424T094146Z
UID:ag-AFLABS-URNIK:premaknjeno-srecanje:124195
ATTENDEE:Trobenta (1 - GU1)
ATTENDEE:Trobenta (2 - GU1)
ATTENDEE:Trobenta (3 - GU1)
CATEGORIES:Entry,Standard
COLOR:darkgreen
DESCRIPTION:Predmet: Trobenta 1 (B4003) B (TROBE)\, predavanja (PRE)\nLetn
 iki: Trobenta (1 - GU1)\, Trobenta (2 - GU1)\, Trobenta (3 - GU1)\nIzvajal
 ci: Dario Teskera\nProstor: M.08 UČILNICA - TROBENTA
LOCATION:M.08 UČILNICA - TROBENTA
ORGANIZER:Dario Teskera
RELATED-TO:ag-AFLABS-URNIK:srecanje:3667
X-WR-TIMEZONE:Europe/Ljubljana
END:VEVENT
BEGIN:VEVENT
SUMMARY:Trobenta 1 (B4003) B (TROBE)\, predavanja (PRE)
DTSTART;TZID=Europe/Ljubljana:20251030T180000
DTEND;TZID=Europe/Ljubljana:20251030T190000
DTSTAMP:20260424T094146Z
UID:ag-AFLABS-URNIK:premaknjeno-srecanje:125306
ATTENDEE:Trobenta (1 - GU1)
ATTENDEE:Trobenta (2 - GU1)
ATTENDEE:Trobenta (3 - GU1)
CATEGORIES:Entry,Standard
COLOR:darkgreen
DESCRIPTION:Predmet: Trobenta 1 (B4003) B (TROBE)\, predavanja (PRE)\nLetn
 iki: Trobenta (1 - GU1)\, Trobenta (2 - GU1)\, Trobenta (3 - GU1)\nIzvajal
 ci: Dario Teskera\nProstor: M.08 UČILNICA - TROBENTA
LOCATION:M.08 UČILNICA - TROBENTA
ORGANIZER:Dario Teskera
RELATED-TO:ag-AFLABS-URNIK:srecanje:3667
X-WR-TIMEZONE:Europe/Ljubljana
END:VEVENT
BEGIN:VEVENT
SUMMARY:Trobenta 1 (B4003) B (TROBE)\, predavanja (PRE)
DTSTART;TZID=Europe/Ljubljana:20251010T093000
DTEND;TZID=Europe/Ljubljana:20251010T103000
DTSTAMP:20260424T094146Z
UID:ag-AFLABS-URNIK:premaknjeno-srecanje:104476
ATTENDEE:Trobenta (1 - GU1)
ATTENDEE:Trobenta (2 - GU1)
ATTENDEE:Trobenta (3 - GU1)
CATEGORIES:Entry,Standard
COLOR:darkgreen
DESCRIPTION:Predmet: Trobenta 1 (B4003) B (TROBE)\, predavanja (PRE)\nLetn
 iki: Trobenta (1 - GU1)\, Trobenta (2 - GU1)\, Trobenta (3 - GU1)\nIzvajal
 ci: Dario Teskera\nProstor: M.08 UČILNICA - TROBENTA
LOCATION:M.08 UČILNICA - TROBENTA
ORGANIZER:Dario Teskera
RELATED-TO:ag-AFLABS-URNIK:srecanje:3675
X-WR-TIMEZONE:Europe/Ljubljana
END:VEVENT
BEGIN:VEVENT
SUMMARY:Trobenta 1 (B4003) B (TROBE)\, predavanja (PRE)
DTSTART;TZID=Europe/Ljubljana:20251024T093000
DTEND;TZID=Europe/Ljubljana:20251024T103000
DTSTAMP:20260424T094146Z
UID:ag-AFLABS-URNIK:premaknjeno-srecanje:124219
ATTENDEE:Trobenta (1 - GU1)
ATTENDEE:Trobenta (2 - GU1)
ATTENDEE:Trobenta (3 - GU1)
CATEGORIES:Entry,Standard
COLOR:darkgreen
DESCRIPTION:Predmet: Trobenta 1 (B4003) B (TROBE)\, predavanja (PRE)\nLetn
 iki: Trobenta (1 - GU1)\, Trobenta (2 - GU1)\, Trobenta (3 - GU1)\nIzvajal
 ci: Dario Teskera\nProstor: M.08 UČILNICA - TROBENTA
LOCATION:M.08 UČILNICA - TROBENTA
ORGANIZER:Dario Teskera
RELATED-TO:ag-AFLABS-URNIK:srecanje:3675
X-WR-TIMEZONE:Europe/Ljubljana
END:VEVENT
BEGIN:VEVENT
SUMMARY:Trobenta 1 (B4003) B (TROBE)\, predavanja (PRE)
DTSTART;TZID=Europe/Ljubljana:20251031T093000
DTEND;TZID=Europe/Ljubljana:20251031T103000
DTSTAMP:20260424T094146Z
UID:ag-AFLABS-URNIK:premaknjeno-srecanje:125330
ATTENDEE:Trobenta (1 - GU1)
ATTENDEE:Trobenta (2 - GU1)
ATTENDEE:Trobenta (3 - GU1)
CATEGORIES:Entry,Standard
COLOR:darkgreen
DESCRIPTION:Predmet: Trobenta 1 (B4003) B (TROBE)\, predavanja (PRE)\nLetn
 iki: Trobenta (1 - GU1)\, Trobenta (2 - GU1)\, Trobenta (3 - GU1)\nIzvajal
 ci: Dario Teskera\nProstor: M.08 UČILNICA - TROBENTA
LOCATION:M.08 UČILNICA - TROBENTA
ORGANIZER:Dario Teskera
RELATED-TO:ag-AFLABS-URNIK:srecanje:3675
X-WR-TIMEZONE:Europe/Ljubljana
END:VEVENT
BEGIN:VEVENT
SUMMARY:Trobenta 1 (B4003) B (TROBE)\, predavanja (PRE)
DTSTART;TZID=Europe/Ljubljana:20251010T103000
DTEND;TZID=Europe/Ljubljana:20251010T113000
DTSTAMP:20260424T094146Z
UID:ag-AFLABS-URNIK:premaknjeno-srecanje:104497
ATTENDEE:Trobenta (1 - GU1)
ATTENDEE:Trobenta (2 - GU1)
ATTENDEE:Trobenta (3 - GU1)
CATEGORIES:Entry,Standard
COLOR:darkgreen
DESCRIPTION:Predmet: Trobenta 1 (B4003) B (TROBE)\, predavanja (PRE)\nLetn
 iki: Trobenta (1 - GU1)\, Trobenta (2 - GU1)\, Trobenta (3 - GU1)\nIzvajal
 ci: Dario Teskera\nProstor: M.08 UČILNICA - TROBENTA
LOCATION:M.08 UČILNICA - TROBENTA
ORGANIZER:Dario Teskera
RELATED-TO:ag-AFLABS-URNIK:srecanje:3692
X-WR-TIMEZONE:Europe/Ljubljana
END:VEVENT
BEGIN:VEVENT
SUMMARY:Trobenta 1 (B4003) B (TROBE)\, predavanja (PRE)
DTSTART;TZID=Europe/Ljubljana:20251024T103000
DTEND;TZID=Europe/Ljubljana:20251024T113000
DTSTAMP:20260424T094146Z
UID:ag-AFLABS-URNIK:premaknjeno-srecanje:124245
ATTENDEE:Trobenta (1 - GU1)
ATTENDEE:Trobenta (2 - GU1)
ATTENDEE:Trobenta (3 - GU1)
CATEGORIES:Entry,Standard
COLOR:darkgreen
DESCRIPTION:Predmet: Trobenta 1 (B4003) B (TROBE)\, predavanja (PRE)\nLetn
 iki: Trobenta (1 - GU1)\, Trobenta (2 - GU1)\, Trobenta (3 - GU1)\nIzvajal
 ci: Dario Teskera\nProstor: M.08 UČILNICA - TROBENTA
LOCATION:M.08 UČILNICA - TROBENTA
ORGANIZER:Dario Teskera
RELATED-TO:ag-AFLABS-URNIK:srecanje:3692
X-WR-TIMEZONE:Europe/Ljubljana
END:VEVENT
BEGIN:VEVENT
SUMMARY:Trobenta 1 (B4003) B (TROBE)\, predavanja (PRE)
DTSTART;TZID=Europe/Ljubljana:20251031T103000
DTEND;TZID=Europe/Ljubljana:20251031T113000
DTSTAMP:20260424T094146Z
UID:ag-AFLABS-URNIK:premaknjeno-srecanje:125356
ATTENDEE:Trobenta (1 - GU1)
ATTENDEE:Trobenta (2 - GU1)
ATTENDEE:Trobenta (3 - GU1)
CATEGORIES:Entry,Standard
COLOR:darkgreen
DESCRIPTION:Predmet: Trobenta 1 (B4003) B (TROBE)\, predavanja (PRE)\nLetn
 iki: Trobenta (1 - GU1)\, Trobenta (2 - GU1)\, Trobenta (3 - GU1)\nIzvajal
 ci: Dario Teskera\nProstor: M.08 UČILNICA - TROBENTA
LOCATION:M.08 UČILNICA - TROBENTA
ORGANIZER:Dario Teskera
RELATED-TO:ag-AFLABS-URNIK:srecanje:3692
X-WR-TIMEZONE:Europe/Ljubljana
END:VEVENT
BEGIN:VEVENT
SUMMARY:Trobenta PED-M1 (IPP-17) B2 (TROBE)\, predavanja (PRE)
DTSTART;TZID=Europe/Ljubljana:20251010T113000
DTEND;TZID=Europe/Ljubljana:20251010T123000
DTSTAMP:20260424T094146Z
UID:ag-AFLABS-URNIK:premaknjeno-srecanje:104511
ATTENDEE:Trobenta (1 - IPP)
ATTENDEE:Trobenta (2 - IPP)
CATEGORIES:Entry,Standard
COLOR:darkgreen
DESCRIPTION:Predmet: Trobenta PED-M1 (IPP-17) B2 (TROBE)\, predavanja (PRE
 )\nLetniki: Trobenta (1 - IPP)\, Trobenta (2 - IPP)\nIzvajalci: Dario Tesk
 era\nProstor: M.08 UČILNICA - TROBENTA
LOCATION:M.08 UČILNICA - TROBENTA
ORGANIZER:Dario Teskera
RELATED-TO:ag-AFLABS-URNIK:srecanje:3703
X-WR-TIMEZONE:Europe/Ljubljana
END:VEVENT
BEGIN:VEVENT
SUMMARY:Trobenta PED-M1 (IPP-17) B2 (TROBE)\, predavanja (PRE)
DTSTART;TZID=Europe/Ljubljana:20251024T113000
DTEND;TZID=Europe/Ljubljana:20251024T123000
DTSTAMP:20260424T094146Z
UID:ag-AFLABS-URNIK:premaknjeno-srecanje:124276
ATTENDEE:Trobenta (1 - IPP)
ATTENDEE:Trobenta (2 - IPP)
CATEGORIES:Entry,Standard
COLOR:darkgreen
DESCRIPTION:Predmet: Trobenta PED-M1 (IPP-17) B2 (TROBE)\, predavanja (PRE
 )\nLetniki: Trobenta (1 - IPP)\, Trobenta (2 - IPP)\nIzvajalci: Dario Tesk
 era\nProstor: M.08 UČILNICA - TROBENTA
LOCATION:M.08 UČILNICA - TROBENTA
ORGANIZER:Dario Teskera
RELATED-TO:ag-AFLABS-URNIK:srecanje:3703
X-WR-TIMEZONE:Europe/Ljubljana
END:VEVENT
BEGIN:VEVENT
SUMMARY:Trobenta PED-M1 (IPP-17) B2 (TROBE)\, predavanja (PRE)
DTSTART;TZID=Europe/Ljubljana:20251031T113000
DTEND;TZID=Europe/Ljubljana:20251031T123000
DTSTAMP:20260424T094146Z
UID:ag-AFLABS-URNIK:premaknjeno-srecanje:125387
ATTENDEE:Trobenta (1 - IPP)
ATTENDEE:Trobenta (2 - IPP)
CATEGORIES:Entry,Standard
COLOR:darkgreen
DESCRIPTION:Predmet: Trobenta PED-M1 (IPP-17) B2 (TROBE)\, predavanja (PRE
 )\nLetniki: Trobenta (1 - IPP)\, Trobenta (2 - IPP)\nIzvajalci: Dario Tesk
 era\nProstor: M.08 UČILNICA - TROBENTA
LOCATION:M.08 UČILNICA - TROBENTA
ORGANIZER:Dario Teskera
RELATED-TO:ag-AFLABS-URNIK:srecanje:3703
X-WR-TIMEZONE:Europe/Ljubljana
END:VEVENT
BEGIN:VEVENT
SUMMARY:Trobenta 3 (B4005) B (TROBE)\, predavanja (PRE)
DTSTART;TZID=Europe/Ljubljana:20251010T123000
DTEND;TZID=Europe/Ljubljana:20251010T133000
DTSTAMP:20260424T094146Z
UID:ag-AFLABS-URNIK:premaknjeno-srecanje:104518
ATTENDEE:Trobenta (1 - GU1)
ATTENDEE:Trobenta (2 - GU1)
ATTENDEE:Trobenta (3 - GU1)
CATEGORIES:Entry,Standard
COLOR:darkgreen
DESCRIPTION:Predmet: Trobenta 3 (B4005) B (TROBE)\, predavanja (PRE)\nLetn
 iki: Trobenta (1 - GU1)\, Trobenta (2 - GU1)\, Trobenta (3 - GU1)\nIzvajal
 ci: Dario Teskera\nProstor: M.08 UČILNICA - TROBENTA
LOCATION:M.08 UČILNICA - TROBENTA
ORGANIZER:Dario Teskera
RELATED-TO:ag-AFLABS-URNIK:srecanje:3709
X-WR-TIMEZONE:Europe/Ljubljana
END:VEVENT
BEGIN:VEVENT
SUMMARY:Trobenta 3 (B4005) B (TROBE)\, predavanja (PRE)
DTSTART;TZID=Europe/Ljubljana:20251024T123000
DTEND;TZID=Europe/Ljubljana:20251024T133000
DTSTAMP:20260424T094146Z
UID:ag-AFLABS-URNIK:premaknjeno-srecanje:124288
ATTENDEE:Trobenta (1 - GU1)
ATTENDEE:Trobenta (2 - GU1)
ATTENDEE:Trobenta (3 - GU1)
CATEGORIES:Entry,Standard
COLOR:darkgreen
DESCRIPTION:Predmet: Trobenta 3 (B4005) B (TROBE)\, predavanja (PRE)\nLetn
 iki: Trobenta (1 - GU1)\, Trobenta (2 - GU1)\, Trobenta (3 - GU1)\nIzvajal
 ci: Dario Teskera\nProstor: M.08 UČILNICA - TROBENTA
LOCATION:M.08 UČILNICA - TROBENTA
ORGANIZER:Dario Teskera
RELATED-TO:ag-AFLABS-URNIK:srecanje:3709
X-WR-TIMEZONE:Europe/Ljubljana
END:VEVENT
BEGIN:VEVENT
SUMMARY:Trobenta 3 (B4005) B (TROBE)\, predavanja (PRE)
DTSTART;TZID=Europe/Ljubljana:20251031T123000
DTEND;TZID=Europe/Ljubljana:20251031T133000
DTSTAMP:20260424T094146Z
UID:ag-AFLABS-URNIK:premaknjeno-srecanje:125399
ATTENDEE:Trobenta (1 - GU1)
ATTENDEE:Trobenta (2 - GU1)
ATTENDEE:Trobenta (3 - GU1)
CATEGORIES:Entry,Standard
COLOR:darkgreen
DESCRIPTION:Predmet: Trobenta 3 (B4005) B (TROBE)\, predavanja (PRE)\nLetn
 iki: Trobenta (1 - GU1)\, Trobenta (2 - GU1)\, Trobenta (3 - GU1)\nIzvajal
 ci: Dario Teskera\nProstor: M.08 UČILNICA - TROBENTA
LOCATION:M.08 UČILNICA - TROBENTA
ORGANIZER:Dario Teskera
RELATED-TO:ag-AFLABS-URNIK:srecanje:3709
X-WR-TIMEZONE:Europe/Ljubljana
END:VEVENT
BEGIN:VEVENT
SUMMARY:Trobenta 3 (B4005) B (TROBE)\, predavanja (PRE)
DTSTART;TZID=Europe/Ljubljana:20251010T133000
DTEND;TZID=Europe/Ljubljana:20251010T143000
DTSTAMP:20260424T094146Z
UID:ag-AFLABS-URNIK:premaknjeno-srecanje:104525
ATTENDEE:Trobenta (1 - GU1)
ATTENDEE:Trobenta (2 - GU1)
ATTENDEE:Trobenta (3 - GU1)
CATEGORIES:Entry,Standard
COLOR:darkgreen
DESCRIPTION:Predmet: Trobenta 3 (B4005) B (TROBE)\, predavanja (PRE)\nLetn
 iki: Trobenta (1 - GU1)\, Trobenta (2 - GU1)\, Trobenta (3 - GU1)\nIzvajal
 ci: Dario Teskera\nProstor: M.08 UČILNICA - TROBENTA
LOCATION:M.08 UČILNICA - TROBENTA
ORGANIZER:Dario Teskera
RELATED-TO:ag-AFLABS-URNIK:srecanje:3715
X-WR-TIMEZONE:Europe/Ljubljana
END:VEVENT
BEGIN:VEVENT
SUMMARY:Trobenta 3 (B4005) B (TROBE)\, predavanja (PRE)
DTSTART;TZID=Europe/Ljubljana:20251024T133000
DTEND;TZID=Europe/Ljubljana:20251024T143000
DTSTAMP:20260424T094146Z
UID:ag-AFLABS-URNIK:premaknjeno-srecanje:124310
ATTENDEE:Trobenta (1 - GU1)
ATTENDEE:Trobenta (2 - GU1)
ATTENDEE:Trobenta (3 - GU1)
CATEGORIES:Entry,Standard
COLOR:darkgreen
DESCRIPTION:Predmet: Trobenta 3 (B4005) B (TROBE)\, predavanja (PRE)\nLetn
 iki: Trobenta (1 - GU1)\, Trobenta (2 - GU1)\, Trobenta (3 - GU1)\nIzvajal
 ci: Dario Teskera\nProstor: M.08 UČILNICA - TROBENTA
LOCATION:M.08 UČILNICA - TROBENTA
ORGANIZER:Dario Teskera
RELATED-TO:ag-AFLABS-URNIK:srecanje:3715
X-WR-TIMEZONE:Europe/Ljubljana
END:VEVENT
BEGIN:VEVENT
SUMMARY:Trobenta 3 (B4005) B (TROBE)\, predavanja (PRE)
DTSTART;TZID=Europe/Ljubljana:20251031T133000
DTEND;TZID=Europe/Ljubljana:20251031T143000
DTSTAMP:20260424T094146Z
UID:ag-AFLABS-URNIK:premaknjeno-srecanje:125421
ATTENDEE:Trobenta (1 - GU1)
ATTENDEE:Trobenta (2 - GU1)
ATTENDEE:Trobenta (3 - GU1)
CATEGORIES:Entry,Standard
COLOR:darkgreen
DESCRIPTION:Predmet: Trobenta 3 (B4005) B (TROBE)\, predavanja (PRE)\nLetn
 iki: Trobenta (1 - GU1)\, Trobenta (2 - GU1)\, Trobenta (3 - GU1)\nIzvajal
 ci: Dario Teskera\nProstor: M.08 UČILNICA - TROBENTA
LOCATION:M.08 UČILNICA - TROBENTA
ORGANIZER:Dario Teskera
RELATED-TO:ag-AFLABS-URNIK:srecanje:3715
X-WR-TIMEZONE:Europe/Ljubljana
END:VEVENT
BEGIN:VEVENT
SUMMARY:Trobenta 3 (B4005) B (TROBE)\, predavanja (PRE)
DTSTART;TZID=Europe/Ljubljana:20251010T143000
DTEND;TZID=Europe/Ljubljana:20251010T163000
DTSTAMP:20260424T094146Z
UID:ag-AFLABS-URNIK:premaknjeno-srecanje:104529
ATTENDEE:Trobenta (1 - GU1)
ATTENDEE:Trobenta (2 - GU1)
ATTENDEE:Trobenta (3 - GU1)
CATEGORIES:Entry,Standard
COLOR:darkgreen
DESCRIPTION:Predmet: Trobenta 3 (B4005) B (TROBE)\, predavanja (PRE)\nLetn
 iki: Trobenta (1 - GU1)\, Trobenta (2 - GU1)\, Trobenta (3 - GU1)\nIzvajal
 ci: Dario Teskera\nProstor: M.08 UČILNICA - TROBENTA
LOCATION:M.08 UČILNICA - TROBENTA
ORGANIZER:Dario Teskera
RELATED-TO:ag-AFLABS-URNIK:srecanje:3719
X-WR-TIMEZONE:Europe/Ljubljana
END:VEVENT
BEGIN:VEVENT
SUMMARY:Trobenta 3 (B4005) B (TROBE)\, predavanja (PRE)
DTSTART;TZID=Europe/Ljubljana:20251024T143000
DTEND;TZID=Europe/Ljubljana:20251024T163000
DTSTAMP:20260424T094146Z
UID:ag-AFLABS-URNIK:premaknjeno-srecanje:124319
ATTENDEE:Trobenta (1 - GU1)
ATTENDEE:Trobenta (2 - GU1)
ATTENDEE:Trobenta (3 - GU1)
CATEGORIES:Entry,Standard
COLOR:darkgreen
DESCRIPTION:Predmet: Trobenta 3 (B4005) B (TROBE)\, predavanja (PRE)\nLetn
 iki: Trobenta (1 - GU1)\, Trobenta (2 - GU1)\, Trobenta (3 - GU1)\nIzvajal
 ci: Dario Teskera\nProstor: M.08 UČILNICA - TROBENTA
LOCATION:M.08 UČILNICA - TROBENTA
ORGANIZER:Dario Teskera
RELATED-TO:ag-AFLABS-URNIK:srecanje:3719
X-WR-TIMEZONE:Europe/Ljubljana
END:VEVENT
BEGIN:VEVENT
SUMMARY:Trobenta 3 (B4005) B (TROBE)\, predavanja (PRE)
DTSTART;TZID=Europe/Ljubljana:20251031T143000
DTEND;TZID=Europe/Ljubljana:20251031T163000
DTSTAMP:20260424T094146Z
UID:ag-AFLABS-URNIK:premaknjeno-srecanje:125430
ATTENDEE:Trobenta (1 - GU1)
ATTENDEE:Trobenta (2 - GU1)
ATTENDEE:Trobenta (3 - GU1)
CATEGORIES:Entry,Standard
COLOR:darkgreen
DESCRIPTION:Predmet: Trobenta 3 (B4005) B (TROBE)\, predavanja (PRE)\nLetn
 iki: Trobenta (1 - GU1)\, Trobenta (2 - GU1)\, Trobenta (3 - GU1)\nIzvajal
 ci: Dario Teskera\nProstor: M.08 UČILNICA - TROBENTA
LOCATION:M.08 UČILNICA - TROBENTA
ORGANIZER:Dario Teskera
RELATED-TO:ag-AFLABS-URNIK:srecanje:3719
X-WR-TIMEZONE:Europe/Ljubljana
END:VEVENT
BEGIN:VEVENT
SUMMARY:Govorilna ura
DTSTART;TZID=Europe/Ljubljana:20251031T083000
DTEND;TZID=Europe/Ljubljana:20251031T093000
DTSTAMP:20260424T094146Z
UID:ag-AFLABS-URNIK:rezervacija:2365
CATEGORIES:Reservation
COLOR:royalblue
DESCRIPTION:Predmeti: \nLetniki: \nIzvajalci: Dario Teskera\nProstori: M.0
 8 UČILNICA - TROBENTA
LOCATION:M.08 UČILNICA - TROBENTA
ORGANIZER:Dario Teskera
X-WR-TIMEZONE:Europe/Ljubljana
END:VEVENT
BEGIN:VEVENT
SUMMARY:Govorilna ura
DTSTART;TZID=Europe/Ljubljana:20251010T083000
DTEND;TZID=Europe/Ljubljana:20251010T093000
DTSTAMP:20260424T094146Z
UID:ag-AFLABS-URNIK:rezervacija:1584
CATEGORIES:Reservation
COLOR:royalblue
DESCRIPTION:Predmeti: \nLetniki: \nIzvajalci: Dario Teskera\nProstori: M.0
 8 UČILNICA - TROBENTA
LOCATION:M.08 UČILNICA - TROBENTA
ORGANIZER:Dario Teskera
X-WR-TIMEZONE:Europe/Ljubljana
END:VEVENT
BEGIN:VEVENT
SUMMARY:Govorilna ura
DTSTART;TZID=Europe/Ljubljana:20251024T083000
DTEND;TZID=Europe/Ljubljana:20251024T093000
DTSTAMP:20260424T094146Z
UID:ag-AFLABS-URNIK:rezervacija:2323
CATEGORIES:Reservation
COLOR:royalblue
DESCRIPTION:Predmeti: \nLetniki: \nIzvajalci: Dario Teskera\nProstori: M.0
 8 UČILNICA - TROBENTA
LOCATION:M.08 UČILNICA - TROBENTA
ORGANIZER:Dario Teskera
X-WR-TIMEZONE:Europe/Ljubljana
END:VEVENT
END:VCALENDAR
