BEGIN:VCALENDAR
VERSION:2.0
PRODID:-//AFLabs urnik izvoz - ag//aflabs.si//SI
DTSTAMP:20260421T050903Z
NAME:UL AG Urnik
REFRESH-INTERVAL:PT1H
SOURCE:https://urnik.ag.uni-lj.si/teacher/116?day=2025-09-08&export=1
URL:https://urnik.ag.uni-lj.si/teacher/116?day=2025-09-08&export=1
X-PUBLISHED-TTL:PT1H
X-WR-CALNAME:UL AG Urnik
X-WR-TIMEZONE:Europe/Ljubljana
BEGIN:VTIMEZONE
TZID:Europe/Ljubljana
BEGIN:DAYLIGHT
DTSTART:20260329T020000
RDATE:20260329T020000
RDATE:20270328T020000
TZNAME:CEST
TZOFFSETFROM:+0100
TZOFFSETTO:+0200
END:DAYLIGHT
BEGIN:STANDARD
DTSTART:20261025T030000
RDATE:20261025T030000
RDATE:20271031T030000
TZNAME:CET
TZOFFSETFROM:+0200
TZOFFSETTO:+0100
END:STANDARD
END:VTIMEZONE
BEGIN:VEVENT
SUMMARY:Specialna didaktika pouka petja 2 (IPP-55) B2 (SPECI)\, predavanja
  (PRE)
DTSTART;TZID=Europe/Ljubljana:20251009T100000
DTEND;TZID=Europe/Ljubljana:20251009T113000
DTSTAMP:20260421T050903Z
UID:ag-AFLABS-URNIK:premaknjeno-srecanje:104357
ATTENDEE:Petje (1 - GU2)
ATTENDEE:Petje (1 - IPP)
ATTENDEE:Petje (2 - GU2)
ATTENDEE:Petje (2 - IPP)
CATEGORIES:Entry,Standard
COLOR:darkgreen
DESCRIPTION:Predmet: Specialna didaktika pouka petja 2 (IPP-55) B2 (SPECI)
 \, predavanja (PRE)\nLetniki: Petje (1 - GU2)\, Petje (1 - IPP)\, Petje (2
  - GU2)\, Petje (2 - IPP)\nIzvajalci: Theresa Plut\nProstor: G.03
LOCATION:G.03
ORGANIZER:Theresa Plut
RELATED-TO:ag-AFLABS-URNIK:srecanje:3580
X-WR-TIMEZONE:Europe/Ljubljana
END:VEVENT
BEGIN:VEVENT
SUMMARY:Pedagoška praksa - Petje 1 (IPP-65) B2 (PEDAG)\, predavanja (PRE)
DTSTART;TZID=Europe/Ljubljana:20251009T141500
DTEND;TZID=Europe/Ljubljana:20251009T151500
DTSTAMP:20260421T050903Z
UID:ag-AFLABS-URNIK:premaknjeno-srecanje:104419
ATTENDEE:Petje (1 - GU2)
ATTENDEE:Petje (1 - IPP)
ATTENDEE:Petje (2 - GU2)
ATTENDEE:Petje (2 - IPP)
CATEGORIES:Entry,Standard
COLOR:darkgreen
DESCRIPTION:Predmet: Pedagoška praksa - Petje 1 (IPP-65) B2 (PEDAG)\, pre
 davanja (PRE)\nLetniki: Petje (1 - GU2)\, Petje (1 - IPP)\, Petje (2 - GU2
 )\, Petje (2 - IPP)\nIzvajalci: Theresa Plut\nProstor: V.30
LOCATION:V.30
ORGANIZER:Theresa Plut
RELATED-TO:ag-AFLABS-URNIK:srecanje:3623
X-WR-TIMEZONE:Europe/Ljubljana
END:VEVENT
BEGIN:VEVENT
SUMMARY:Pedagoška praksa - Petje 2 (IPP-75) B2 (PEDAG)\, predavanja (PRE)
DTSTART;TZID=Europe/Ljubljana:20251010T100000
DTEND;TZID=Europe/Ljubljana:20251010T110000
DTSTAMP:20260421T050903Z
UID:ag-AFLABS-URNIK:premaknjeno-srecanje:104490
ATTENDEE:Petje (1 - GU2)
ATTENDEE:Petje (1 - IPP)
ATTENDEE:Petje (2 - GU2)
ATTENDEE:Petje (2 - IPP)
CATEGORIES:Entry,Standard
COLOR:darkgreen
DESCRIPTION:Predmet: Pedagoška praksa - Petje 2 (IPP-75) B2 (PEDAG)\, pre
 davanja (PRE)\nLetniki: Petje (1 - GU2)\, Petje (1 - IPP)\, Petje (2 - GU2
 )\, Petje (2 - IPP)\nIzvajalci: Theresa Plut\nProstor: V.30
LOCATION:V.30
ORGANIZER:Theresa Plut
RELATED-TO:ag-AFLABS-URNIK:srecanje:3685
X-WR-TIMEZONE:Europe/Ljubljana
END:VEVENT
BEGIN:VEVENT
SUMMARY:Specialna didaktika pouka petja 1 (IPP-45) B2 (SPECI)\, predavanja
  (PRE)
DTSTART;TZID=Europe/Ljubljana:20251013T110000
DTEND;TZID=Europe/Ljubljana:20251013T123000
DTSTAMP:20260421T050903Z
UID:ag-AFLABS-URNIK:premaknjeno-srecanje:104569
ATTENDEE:Petje (1 - GU2)
ATTENDEE:Petje (1 - IPP)
ATTENDEE:Petje (2 - GU2)
ATTENDEE:Petje (2 - IPP)
CATEGORIES:Entry,Standard
COLOR:darkgreen
DESCRIPTION:Predmet: Specialna didaktika pouka petja 1 (IPP-45) B2 (SPECI)
 \, predavanja (PRE)\nLetniki: Petje (1 - GU2)\, Petje (1 - IPP)\, Petje (2
  - GU2)\, Petje (2 - IPP)\nIzvajalci: Theresa Plut\nProstor: V.30
LOCATION:V.30
ORGANIZER:Theresa Plut
RELATED-TO:ag-AFLABS-URNIK:srecanje:3753
X-WR-TIMEZONE:Europe/Ljubljana
END:VEVENT
BEGIN:VEVENT
SUMMARY:Govorilna ura
DTSTART;TZID=Europe/Ljubljana:20251008T130000
DTEND;TZID=Europe/Ljubljana:20251008T140000
DTSTAMP:20260421T050903Z
UID:ag-AFLABS-URNIK:rezervacija:1575
CATEGORIES:Reservation
COLOR:royalblue
DESCRIPTION:Predmeti: \nLetniki: \nIzvajalci: Gal Faganel\, Theresa Plut\n
 Prostori: V.30\, V.20
LOCATION:V.30\, V.20
ORGANIZER:Gal Faganel, Theresa Plut
X-WR-TIMEZONE:Europe/Ljubljana
END:VEVENT
END:VCALENDAR
