BEGIN:VCALENDAR
VERSION:2.0
PRODID:-//AFLabs urnik izvoz - ag//aflabs.si//SI
DTSTAMP:20260419T175459Z
NAME:UL AG Urnik
REFRESH-INTERVAL:PT1H
SOURCE:https://urnik.ag.uni-lj.si/teacher/105?day=2025-09-29&export=1
URL:https://urnik.ag.uni-lj.si/teacher/105?day=2025-09-29&export=1
X-PUBLISHED-TTL:PT1H
X-WR-CALNAME:UL AG Urnik
X-WR-TIMEZONE:Europe/Ljubljana
BEGIN:VTIMEZONE
TZID:Europe/Ljubljana
BEGIN:DAYLIGHT
DTSTART:20260329T020000
RDATE:20260329T020000
RDATE:20270328T020000
TZNAME:CEST
TZOFFSETFROM:+0100
TZOFFSETTO:+0200
END:DAYLIGHT
BEGIN:STANDARD
DTSTART:20261025T030000
RDATE:20261025T030000
RDATE:20271031T030000
TZNAME:CET
TZOFFSETFROM:+0200
TZOFFSETTO:+0100
END:STANDARD
END:VTIMEZONE
BEGIN:VEVENT
SUMMARY:Rog M1 (GU2-068) B2 (ROG M)\, predavanja (PRE)
DTSTART;TZID=Europe/Ljubljana:20251020T090000
DTEND;TZID=Europe/Ljubljana:20251020T110000
DTSTAMP:20260419T175459Z
UID:ag-AFLABS-URNIK:premaknjeno-srecanje:123230
ATTENDEE:Rog (1 - GU2)
ATTENDEE:Rog (2 - GU2)
CATEGORIES:Entry,Standard
COLOR:darkgreen
DESCRIPTION:Predmet: Rog M1 (GU2-068) B2 (ROG M)\, predavanja (PRE)\nLetni
 ki: Rog (1 - GU2)\, Rog (2 - GU2)\nIzvajalci: Jože Rošer\nProstor: M.05 
 UČILNICA - ROG
LOCATION:M.05 UČILNICA - ROG
ORGANIZER:Jože Rošer
RELATED-TO:ag-AFLABS-URNIK:srecanje:3825
X-WR-TIMEZONE:Europe/Ljubljana
END:VEVENT
BEGIN:VEVENT
SUMMARY:Rog M1 (GU2-068) B2 (ROG M)\, predavanja (PRE)
DTSTART;TZID=Europe/Ljubljana:20251027T090000
DTEND;TZID=Europe/Ljubljana:20251027T110000
DTSTAMP:20260419T175459Z
UID:ag-AFLABS-URNIK:premaknjeno-srecanje:124341
ATTENDEE:Rog (1 - GU2)
ATTENDEE:Rog (2 - GU2)
CATEGORIES:Entry,Standard
COLOR:darkgreen
DESCRIPTION:Predmet: Rog M1 (GU2-068) B2 (ROG M)\, predavanja (PRE)\nLetni
 ki: Rog (1 - GU2)\, Rog (2 - GU2)\nIzvajalci: Jože Rošer\nProstor: M.05 
 UČILNICA - ROG
LOCATION:M.05 UČILNICA - ROG
ORGANIZER:Jože Rošer
RELATED-TO:ag-AFLABS-URNIK:srecanje:3825
X-WR-TIMEZONE:Europe/Ljubljana
END:VEVENT
BEGIN:VEVENT
SUMMARY:Rog M1 (GU2-068) B2 (ROG M)\, predavanja (PRE)
DTSTART;TZID=Europe/Ljubljana:20251103T090000
DTEND;TZID=Europe/Ljubljana:20251103T110000
DTSTAMP:20260419T175459Z
UID:ag-AFLABS-URNIK:premaknjeno-srecanje:125452
ATTENDEE:Rog (1 - GU2)
ATTENDEE:Rog (2 - GU2)
CATEGORIES:Entry,Standard
COLOR:darkgreen
DESCRIPTION:Predmet: Rog M1 (GU2-068) B2 (ROG M)\, predavanja (PRE)\nLetni
 ki: Rog (1 - GU2)\, Rog (2 - GU2)\nIzvajalci: Jože Rošer\nProstor: M.05 
 UČILNICA - ROG
LOCATION:M.05 UČILNICA - ROG
ORGANIZER:Jože Rošer
RELATED-TO:ag-AFLABS-URNIK:srecanje:3825
X-WR-TIMEZONE:Europe/Ljubljana
END:VEVENT
BEGIN:VEVENT
SUMMARY:Rog M1 (GU2-068) B2 (ROG M)\, predavanja (PRE)
DTSTART;TZID=Europe/Ljubljana:20251020T113000
DTEND;TZID=Europe/Ljubljana:20251020T133000
DTSTAMP:20260419T175459Z
UID:ag-AFLABS-URNIK:premaknjeno-srecanje:123306
ATTENDEE:Rog (1 - GU2)
ATTENDEE:Rog (2 - GU2)
CATEGORIES:Entry,Standard
COLOR:darkgreen
DESCRIPTION:Predmet: Rog M1 (GU2-068) B2 (ROG M)\, predavanja (PRE)\nLetni
 ki: Rog (1 - GU2)\, Rog (2 - GU2)\nIzvajalci: Jože Rošer\nProstor: M.05 
 UČILNICA - ROG
LOCATION:M.05 UČILNICA - ROG
ORGANIZER:Jože Rošer
RELATED-TO:ag-AFLABS-URNIK:srecanje:3871
X-WR-TIMEZONE:Europe/Ljubljana
END:VEVENT
BEGIN:VEVENT
SUMMARY:Rog M1 (GU2-068) B2 (ROG M)\, predavanja (PRE)
DTSTART;TZID=Europe/Ljubljana:20251027T113000
DTEND;TZID=Europe/Ljubljana:20251027T133000
DTSTAMP:20260419T175459Z
UID:ag-AFLABS-URNIK:premaknjeno-srecanje:124417
ATTENDEE:Rog (1 - GU2)
ATTENDEE:Rog (2 - GU2)
CATEGORIES:Entry,Standard
COLOR:darkgreen
DESCRIPTION:Predmet: Rog M1 (GU2-068) B2 (ROG M)\, predavanja (PRE)\nLetni
 ki: Rog (1 - GU2)\, Rog (2 - GU2)\nIzvajalci: Jože Rošer\nProstor: M.05 
 UČILNICA - ROG
LOCATION:M.05 UČILNICA - ROG
ORGANIZER:Jože Rošer
RELATED-TO:ag-AFLABS-URNIK:srecanje:3871
X-WR-TIMEZONE:Europe/Ljubljana
END:VEVENT
BEGIN:VEVENT
SUMMARY:Rog M1 (GU2-068) B2 (ROG M)\, predavanja (PRE)
DTSTART;TZID=Europe/Ljubljana:20251103T113000
DTEND;TZID=Europe/Ljubljana:20251103T133000
DTSTAMP:20260419T175459Z
UID:ag-AFLABS-URNIK:premaknjeno-srecanje:125528
ATTENDEE:Rog (1 - GU2)
ATTENDEE:Rog (2 - GU2)
CATEGORIES:Entry,Standard
COLOR:darkgreen
DESCRIPTION:Predmet: Rog M1 (GU2-068) B2 (ROG M)\, predavanja (PRE)\nLetni
 ki: Rog (1 - GU2)\, Rog (2 - GU2)\nIzvajalci: Jože Rošer\nProstor: M.05 
 UČILNICA - ROG
LOCATION:M.05 UČILNICA - ROG
ORGANIZER:Jože Rošer
RELATED-TO:ag-AFLABS-URNIK:srecanje:3871
X-WR-TIMEZONE:Europe/Ljubljana
END:VEVENT
BEGIN:VEVENT
SUMMARY:Rog 3 (B4105) B (ROG 3)\, predavanja (PRE)
DTSTART;TZID=Europe/Ljubljana:20251020T140000
DTEND;TZID=Europe/Ljubljana:20251020T160000
DTSTAMP:20260419T175459Z
UID:ag-AFLABS-URNIK:premaknjeno-srecanje:123373
ATTENDEE:Rog (1 - GU1)
ATTENDEE:Rog (2 - GU1)
ATTENDEE:Rog (3 - GU1)
CATEGORIES:Entry,Standard
COLOR:darkgreen
DESCRIPTION:Predmet: Rog 3 (B4105) B (ROG 3)\, predavanja (PRE)\nLetniki: 
 Rog (1 - GU1)\, Rog (2 - GU1)\, Rog (3 - GU1)\nIzvajalci: Jože Rošer\nPr
 ostor: M.05 UČILNICA - ROG
LOCATION:M.05 UČILNICA - ROG
ORGANIZER:Jože Rošer
RELATED-TO:ag-AFLABS-URNIK:srecanje:3914
X-WR-TIMEZONE:Europe/Ljubljana
END:VEVENT
BEGIN:VEVENT
SUMMARY:Rog 3 (B4105) B (ROG 3)\, predavanja (PRE)
DTSTART;TZID=Europe/Ljubljana:20251027T140000
DTEND;TZID=Europe/Ljubljana:20251027T160000
DTSTAMP:20260419T175459Z
UID:ag-AFLABS-URNIK:premaknjeno-srecanje:124484
ATTENDEE:Rog (1 - GU1)
ATTENDEE:Rog (2 - GU1)
ATTENDEE:Rog (3 - GU1)
CATEGORIES:Entry,Standard
COLOR:darkgreen
DESCRIPTION:Predmet: Rog 3 (B4105) B (ROG 3)\, predavanja (PRE)\nLetniki: 
 Rog (1 - GU1)\, Rog (2 - GU1)\, Rog (3 - GU1)\nIzvajalci: Jože Rošer\nPr
 ostor: M.05 UČILNICA - ROG
LOCATION:M.05 UČILNICA - ROG
ORGANIZER:Jože Rošer
RELATED-TO:ag-AFLABS-URNIK:srecanje:3914
X-WR-TIMEZONE:Europe/Ljubljana
END:VEVENT
BEGIN:VEVENT
SUMMARY:Rog 3 (B4105) B (ROG 3)\, predavanja (PRE)
DTSTART;TZID=Europe/Ljubljana:20251103T140000
DTEND;TZID=Europe/Ljubljana:20251103T160000
DTSTAMP:20260419T175459Z
UID:ag-AFLABS-URNIK:premaknjeno-srecanje:125595
ATTENDEE:Rog (1 - GU1)
ATTENDEE:Rog (2 - GU1)
ATTENDEE:Rog (3 - GU1)
CATEGORIES:Entry,Standard
COLOR:darkgreen
DESCRIPTION:Predmet: Rog 3 (B4105) B (ROG 3)\, predavanja (PRE)\nLetniki: 
 Rog (1 - GU1)\, Rog (2 - GU1)\, Rog (3 - GU1)\nIzvajalci: Jože Rošer\nPr
 ostor: M.05 UČILNICA - ROG
LOCATION:M.05 UČILNICA - ROG
ORGANIZER:Jože Rošer
RELATED-TO:ag-AFLABS-URNIK:srecanje:3914
X-WR-TIMEZONE:Europe/Ljubljana
END:VEVENT
BEGIN:VEVENT
SUMMARY:Rog 2 (B4104) B (ROG 2)\, predavanja (PRE)
DTSTART;TZID=Europe/Ljubljana:20251020T160000
DTEND;TZID=Europe/Ljubljana:20251020T180000
DTSTAMP:20260419T175459Z
UID:ag-AFLABS-URNIK:premaknjeno-srecanje:123427
ATTENDEE:Rog (1 - GU1)
ATTENDEE:Rog (2 - GU1)
ATTENDEE:Rog (3 - GU1)
CATEGORIES:Entry,Standard
COLOR:darkgreen
DESCRIPTION:Predmet: Rog 2 (B4104) B (ROG 2)\, predavanja (PRE)\nLetniki: 
 Rog (1 - GU1)\, Rog (2 - GU1)\, Rog (3 - GU1)\nIzvajalci: Jože Rošer\nPr
 ostor: M.05 UČILNICA - ROG
LOCATION:M.05 UČILNICA - ROG
ORGANIZER:Jože Rošer
RELATED-TO:ag-AFLABS-URNIK:srecanje:3945
X-WR-TIMEZONE:Europe/Ljubljana
END:VEVENT
BEGIN:VEVENT
SUMMARY:Rog 2 (B4104) B (ROG 2)\, predavanja (PRE)
DTSTART;TZID=Europe/Ljubljana:20251027T160000
DTEND;TZID=Europe/Ljubljana:20251027T180000
DTSTAMP:20260419T175459Z
UID:ag-AFLABS-URNIK:premaknjeno-srecanje:124538
ATTENDEE:Rog (1 - GU1)
ATTENDEE:Rog (2 - GU1)
ATTENDEE:Rog (3 - GU1)
CATEGORIES:Entry,Standard
COLOR:darkgreen
DESCRIPTION:Predmet: Rog 2 (B4104) B (ROG 2)\, predavanja (PRE)\nLetniki: 
 Rog (1 - GU1)\, Rog (2 - GU1)\, Rog (3 - GU1)\nIzvajalci: Jože Rošer\nPr
 ostor: M.05 UČILNICA - ROG
LOCATION:M.05 UČILNICA - ROG
ORGANIZER:Jože Rošer
RELATED-TO:ag-AFLABS-URNIK:srecanje:3945
X-WR-TIMEZONE:Europe/Ljubljana
END:VEVENT
BEGIN:VEVENT
SUMMARY:Rog 2 (B4104) B (ROG 2)\, predavanja (PRE)
DTSTART;TZID=Europe/Ljubljana:20251103T160000
DTEND;TZID=Europe/Ljubljana:20251103T180000
DTSTAMP:20260419T175459Z
UID:ag-AFLABS-URNIK:premaknjeno-srecanje:125649
ATTENDEE:Rog (1 - GU1)
ATTENDEE:Rog (2 - GU1)
ATTENDEE:Rog (3 - GU1)
CATEGORIES:Entry,Standard
COLOR:darkgreen
DESCRIPTION:Predmet: Rog 2 (B4104) B (ROG 2)\, predavanja (PRE)\nLetniki: 
 Rog (1 - GU1)\, Rog (2 - GU1)\, Rog (3 - GU1)\nIzvajalci: Jože Rošer\nPr
 ostor: M.05 UČILNICA - ROG
LOCATION:M.05 UČILNICA - ROG
ORGANIZER:Jože Rošer
RELATED-TO:ag-AFLABS-URNIK:srecanje:3945
X-WR-TIMEZONE:Europe/Ljubljana
END:VEVENT
BEGIN:VEVENT
SUMMARY:Rog M2 (GU2-083) B2 (ROG M)\, predavanja (PRE)
DTSTART;TZID=Europe/Ljubljana:20251021T090000
DTEND;TZID=Europe/Ljubljana:20251021T110000
DTSTAMP:20260419T175459Z
UID:ag-AFLABS-URNIK:premaknjeno-srecanje:123479
ATTENDEE:Rog (1 - GU2)
ATTENDEE:Rog (2 - GU2)
CATEGORIES:Entry,Standard
COLOR:darkgreen
DESCRIPTION:Predmet: Rog M2 (GU2-083) B2 (ROG M)\, predavanja (PRE)\nLetni
 ki: Rog (1 - GU2)\, Rog (2 - GU2)\nIzvajalci: Jože Rošer\nProstor: M.05 
 UČILNICA - ROG
LOCATION:M.05 UČILNICA - ROG
ORGANIZER:Jože Rošer
RELATED-TO:ag-AFLABS-URNIK:srecanje:3968
X-WR-TIMEZONE:Europe/Ljubljana
END:VEVENT
BEGIN:VEVENT
SUMMARY:Rog M2 (GU2-083) B2 (ROG M)\, predavanja (PRE)
DTSTART;TZID=Europe/Ljubljana:20251028T090000
DTEND;TZID=Europe/Ljubljana:20251028T110000
DTSTAMP:20260419T175459Z
UID:ag-AFLABS-URNIK:premaknjeno-srecanje:124590
ATTENDEE:Rog (1 - GU2)
ATTENDEE:Rog (2 - GU2)
CATEGORIES:Entry,Standard
COLOR:darkgreen
DESCRIPTION:Predmet: Rog M2 (GU2-083) B2 (ROG M)\, predavanja (PRE)\nLetni
 ki: Rog (1 - GU2)\, Rog (2 - GU2)\nIzvajalci: Jože Rošer\nProstor: M.05 
 UČILNICA - ROG
LOCATION:M.05 UČILNICA - ROG
ORGANIZER:Jože Rošer
RELATED-TO:ag-AFLABS-URNIK:srecanje:3968
X-WR-TIMEZONE:Europe/Ljubljana
END:VEVENT
BEGIN:VEVENT
SUMMARY:Rog 1 (B4103) B (ROG 1)\, predavanja (PRE)
DTSTART;TZID=Europe/Ljubljana:20251021T113000
DTEND;TZID=Europe/Ljubljana:20251021T133000
DTSTAMP:20260419T175459Z
UID:ag-AFLABS-URNIK:premaknjeno-srecanje:123556
ATTENDEE:Rog (1 - GU1)
ATTENDEE:Rog (2 - GU1)
ATTENDEE:Rog (3 - GU1)
CATEGORIES:Entry,Standard
COLOR:darkgreen
DESCRIPTION:Predmet: Rog 1 (B4103) B (ROG 1)\, predavanja (PRE)\nLetniki: 
 Rog (1 - GU1)\, Rog (2 - GU1)\, Rog (3 - GU1)\nIzvajalci: Jože Rošer\nPr
 ostor: M.05 UČILNICA - ROG
LOCATION:M.05 UČILNICA - ROG
ORGANIZER:Jože Rošer
RELATED-TO:ag-AFLABS-URNIK:srecanje:4011
X-WR-TIMEZONE:Europe/Ljubljana
END:VEVENT
BEGIN:VEVENT
SUMMARY:Rog 1 (B4103) B (ROG 1)\, predavanja (PRE)
DTSTART;TZID=Europe/Ljubljana:20251028T113000
DTEND;TZID=Europe/Ljubljana:20251028T133000
DTSTAMP:20260419T175459Z
UID:ag-AFLABS-URNIK:premaknjeno-srecanje:124667
ATTENDEE:Rog (1 - GU1)
ATTENDEE:Rog (2 - GU1)
ATTENDEE:Rog (3 - GU1)
CATEGORIES:Entry,Standard
COLOR:darkgreen
DESCRIPTION:Predmet: Rog 1 (B4103) B (ROG 1)\, predavanja (PRE)\nLetniki: 
 Rog (1 - GU1)\, Rog (2 - GU1)\, Rog (3 - GU1)\nIzvajalci: Jože Rošer\nPr
 ostor: M.05 UČILNICA - ROG
LOCATION:M.05 UČILNICA - ROG
ORGANIZER:Jože Rošer
RELATED-TO:ag-AFLABS-URNIK:srecanje:4011
X-WR-TIMEZONE:Europe/Ljubljana
END:VEVENT
BEGIN:VEVENT
SUMMARY:Rog 3 (B4105) B (ROG 3)\, predavanja (PRE)
DTSTART;TZID=Europe/Ljubljana:20251021T160000
DTEND;TZID=Europe/Ljubljana:20251021T180000
DTSTAMP:20260419T175459Z
UID:ag-AFLABS-URNIK:premaknjeno-srecanje:123673
ATTENDEE:Rog (1 - GU1)
ATTENDEE:Rog (2 - GU1)
ATTENDEE:Rog (3 - GU1)
CATEGORIES:Entry,Standard
COLOR:darkgreen
DESCRIPTION:Predmet: Rog 3 (B4105) B (ROG 3)\, predavanja (PRE)\nLetniki: 
 Rog (1 - GU1)\, Rog (2 - GU1)\, Rog (3 - GU1)\nIzvajalci: Jože Rošer\nPr
 ostor: M.05 UČILNICA - ROG
LOCATION:M.05 UČILNICA - ROG
ORGANIZER:Jože Rošer
RELATED-TO:ag-AFLABS-URNIK:srecanje:4080
X-WR-TIMEZONE:Europe/Ljubljana
END:VEVENT
BEGIN:VEVENT
SUMMARY:Rog 3 (B4105) B (ROG 3)\, predavanja (PRE)
DTSTART;TZID=Europe/Ljubljana:20251028T160000
DTEND;TZID=Europe/Ljubljana:20251028T180000
DTSTAMP:20260419T175459Z
UID:ag-AFLABS-URNIK:premaknjeno-srecanje:124784
ATTENDEE:Rog (1 - GU1)
ATTENDEE:Rog (2 - GU1)
ATTENDEE:Rog (3 - GU1)
CATEGORIES:Entry,Standard
COLOR:darkgreen
DESCRIPTION:Predmet: Rog 3 (B4105) B (ROG 3)\, predavanja (PRE)\nLetniki: 
 Rog (1 - GU1)\, Rog (2 - GU1)\, Rog (3 - GU1)\nIzvajalci: Jože Rošer\nPr
 ostor: M.05 UČILNICA - ROG
LOCATION:M.05 UČILNICA - ROG
ORGANIZER:Jože Rošer
RELATED-TO:ag-AFLABS-URNIK:srecanje:4080
X-WR-TIMEZONE:Europe/Ljubljana
END:VEVENT
BEGIN:VEVENT
SUMMARY:Govorilna ura
DTSTART;TZID=Europe/Ljubljana:20251021T140000
DTEND;TZID=Europe/Ljubljana:20251021T160000
DTSTAMP:20260419T175459Z
UID:ag-AFLABS-URNIK:rezervacija:2303
CATEGORIES:Reservation
COLOR:royalblue
DESCRIPTION:Predmeti: \nLetniki: \nIzvajalci: Jože Rošer\nProstori: M.05
  UČILNICA - ROG
LOCATION:M.05 UČILNICA - ROG
ORGANIZER:Jože Rošer
X-WR-TIMEZONE:Europe/Ljubljana
END:VEVENT
BEGIN:VEVENT
SUMMARY:Govorilna ura
DTSTART;TZID=Europe/Ljubljana:20251028T140000
DTEND;TZID=Europe/Ljubljana:20251028T160000
DTSTAMP:20260419T175459Z
UID:ag-AFLABS-URNIK:rezervacija:2345
CATEGORIES:Reservation
COLOR:royalblue
DESCRIPTION:Predmeti: \nLetniki: \nIzvajalci: Jože Rošer\nProstori: M.05
  UČILNICA - ROG
LOCATION:M.05 UČILNICA - ROG
ORGANIZER:Jože Rošer
X-WR-TIMEZONE:Europe/Ljubljana
END:VEVENT
END:VCALENDAR
